Workbook

Sheet 7-8 ml_kluci
A1: Běh na 60 m s překážkami - Rohatec 23. 5. 2026
A2: Kategorie mladší žáci - kluci | D2: 7-8 LET
A3: St. č. | B3: Příjmení a jméno | C3: SDH | D3: 1. pokus | E3: 2. pokus | F3: Výsl. čas | G3: Pořadí
A4: 1 | B4: Zemánik Marian | C4: Svatobořice | D4: NP | E4: NP | F4: =IF(AND(OR(D4="NP",D4=""),OR(E4="NP",E4="")),IF(AND(D4="",E4=""),"",IF(OR(D4="NP",E4="NP"),"NP","")),IF(OR(D4="NP",D4=""),E4,IF(OR(E4="NP",E4=""),D4,MIN(D4,E4)))) -> NP | G4: =IF(OR(D4="",E4=""),"",IF(ISNUMBER(F4),RANK(F4,$F$4:$F$100,1),COUNT($F$4:$F$100)+COUNTIFS($B$4:B4,"<>",$F$4:F4,"NP"))) -> 3
A5: 2 | B5: Lipár Marek | C5: Velká nad Veličkou | D5: NP | E5: 25.57 | F5: =IF(AND(OR(D5="NP",D5=""),OR(E5="NP",E5="")),IF(AND(D5="",E5=""),"",IF(OR(D5="NP",E5="NP"),"NP","")),IF(OR(D5="NP",D5=""),E5,IF(OR(E5="NP",E5=""),D5,MIN(D5,E5)))) -> 25.57 | G5: =IF(OR(D5="",E5=""),"",IF(ISNUMBER(F5),RANK(F5,$F$4:$F$100,1),COUNT($F$4:$F$100)+COUNTIFS($B$4:B5,"<>",$F$4:F5,"NP"))) -> 2
A6: 3 | B6: Petřík Samuel | C6: Kozojídky | D6: 24.44 | E6: NP | F6: =IF(AND(OR(D6="NP",D6=""),OR(E6="NP",E6="")),IF(AND(D6="",E6=""),"",IF(OR(D6="NP",E6="NP"),"NP","")),IF(OR(D6="NP",D6=""),E6,IF(OR(E6="NP",E6=""),D6,MIN(D6,E6)))) -> 24.44 | G6: =IF(OR(D6="",E6=""),"",IF(ISNUMBER(F6),RANK(F6,$F$4:$F$100,1),COUNT($F$4:$F$100)+COUNTIFS($B$4:B6,"<>",$F$4:F6,"NP"))) -> 1
A7: 4 | F7: =IF(AND(OR(D7="NP",D7=""),OR(E7="NP",E7="")),IF(AND(D7="",E7=""),"",IF(OR(D7="NP",E7="NP"),"NP","")),IF(OR(D7="NP",D7=""),E7,IF(OR(E7="NP",E7=""),D7,MIN(D7,E7)))) | G7: =IF(OR(D7="",E7=""),"",IF(ISNUMBER(F7),RANK(F7,$F$4:$F$100,1),COUNT($F$4:$F$100)+COUNTIFS($B$4:B7,"<>",$F$4:F7,"NP")))
A8: 5 | F8: =IF(AND(OR(D8="NP",D8=""),OR(E8="NP",E8="")),IF(AND(D8="",E8=""),"",IF(OR(D8="NP",E8="NP"),"NP","")),IF(OR(D8="NP",D8=""),E8,IF(OR(E8="NP",E8=""),D8,MIN(D8,E8)))) | G8: =IF(OR(D8="",E8=""),"",IF(ISNUMBER(F8),RANK(F8,$F$4:$F$100,1),COUNT($F$4:$F$100)+COUNTIFS($B$4:B8,"<>",$F$4:F8,"NP")))
A9: 6 | F9: =IF(AND(OR(D9="NP",D9=""),OR(E9="NP",E9="")),IF(AND(D9="",E9=""),"",IF(OR(D9="NP",E9="NP"),"NP","")),IF(OR(D9="NP",D9=""),E9,IF(OR(E9="NP",E9=""),D9,MIN(D9,E9)))) | G9: =IF(OR(D9="",E9=""),"",IF(ISNUMBER(F9),RANK(F9,$F$4:$F$100,1),COUNT($F$4:$F$100)+COUNTIFS($B$4:B9,"<>",$F$4:F9,"NP")))
A10: 7 | F10: =IF(AND(OR(D10="NP",D10=""),OR(E10="NP",E10="")),IF(AND(D10="",E10=""),"",IF(OR(D10="NP",E10="NP"),"NP","")),IF(OR(D10="NP",D10=""),E10,IF(OR(E10="NP",E10=""),D10,MIN(D10,E10)))) | G10: =IF(OR(D10="",E10=""),"",IF(ISNUMBER(F10),RANK(F10,$F$4:$F$100,1),COUNT($F$4:$F$100)+COUNTIFS($B$4:B10,"<>",$F$4:F10,"NP")))
A11: 8 | F11: =IF(AND(OR(D11="NP",D11=""),OR(E11="NP",E11="")),IF(AND(D11="",E11=""),"",IF(OR(D11="NP",E11="NP"),"NP","")),IF(OR(D11="NP",D11=""),E11,IF(OR(E11="NP",E11=""),D11,MIN(D11,E11)))) | G11: =IF(OR(D11="",E11=""),"",IF(ISNUMBER(F11),RANK(F11,$F$4:$F$100,1),COUNT($F$4:$F$100)+COUNTIFS($B$4:B11,"<>",$F$4:F11,"NP")))
A12: 9 | F12: =IF(AND(OR(D12="NP",D12=""),OR(E12="NP",E12="")),IF(AND(D12="",E12=""),"",IF(OR(D12="NP",E12="NP"),"NP","")),IF(OR(D12="NP",D12=""),E12,IF(OR(E12="NP",E12=""),D12,MIN(D12,E12)))) | G12: =IF(OR(D12="",E12=""),"",IF(ISNUMBER(F12),RANK(F12,$F$4:$F$100,1),COUNT($F$4:$F$100)+COUNTIFS($B$4:B12,"<>",$F$4:F12,"NP")))
A13: 10 | F13: =IF(AND(OR(D13="NP",D13=""),OR(E13="NP",E13="")),IF(AND(D13="",E13=""),"",IF(OR(D13="NP",E13="NP"),"NP","")),IF(OR(D13="NP",D13=""),E13,IF(OR(E13="NP",E13=""),D13,MIN(D13,E13)))) | G13: =IF(OR(D13="",E13=""),"",IF(ISNUMBER(F13),RANK(F13,$F$4:$F$100,1),COUNT($F$4:$F$100)+COUNTIFS($B$4:B13,"<>",$F$4:F13,"NP")))
F14: =IF(AND(OR(D14="NP",D14=""),OR(E14="NP",E14="")),IF(AND(D14="",E14=""),"",IF(OR(D14="NP",E14="NP"),"NP","")),IF(OR(D14="NP",D14=""),E14,IF(OR(E14="NP",E14=""),D14,MIN(D14,E14)))) | G14: =IF(OR(D14="",E14=""),"",IF(ISNUMBER(F14),RANK(F14,$F$4:$F$100,1),COUNT($F$4:$F$100)+COUNTIFS($B$4:B14,"<>",$F$4:F14,"NP")))
F15: =IF(AND(OR(D15="NP",D15=""),OR(E15="NP",E15="")),IF(AND(D15="",E15=""),"",IF(OR(D15="NP",E15="NP"),"NP","")),IF(OR(D15="NP",D15=""),E15,IF(OR(E15="NP",E15=""),D15,MIN(D15,E15)))) | G15: =IF(OR(D15="",E15=""),"",IF(ISNUMBER(F15),RANK(F15,$F$4:$F$100,1),COUNT($F$4:$F$100)+COUNTIFS($B$4:B15,"<>",$F$4:F15,"NP")))
F16: =IF(AND(OR(D16="NP",D16=""),OR(E16="NP",E16="")),IF(AND(D16="",E16=""),"",IF(OR(D16="NP",E16="NP"),"NP","")),IF(OR(D16="NP",D16=""),E16,IF(OR(E16="NP",E16=""),D16,MIN(D16,E16)))) | G16: =IF(OR(D16="",E16=""),"",IF(ISNUMBER(F16),RANK(F16,$F$4:$F$100,1),COUNT($F$4:$F$100)+COUNTIFS($B$4:B16,"<>",$F$4:F16,"NP")))
F17: =IF(AND(OR(D17="NP",D17=""),OR(E17="NP",E17="")),IF(AND(D17="",E17=""),"",IF(OR(D17="NP",E17="NP"),"NP","")),IF(OR(D17="NP",D17=""),E17,IF(OR(E17="NP",E17=""),D17,MIN(D17,E17)))) | G17: =IF(OR(D17="",E17=""),"",IF(ISNUMBER(F17),RANK(F17,$F$4:$F$100,1),COUNT($F$4:$F$100)+COUNTIFS($B$4:B17,"<>",$F$4:F17,"NP")))
F18: =IF(AND(OR(D18="NP",D18=""),OR(E18="NP",E18="")),IF(AND(D18="",E18=""),"",IF(OR(D18="NP",E18="NP"),"NP","")),IF(OR(D18="NP",D18=""),E18,IF(OR(E18="NP",E18=""),D18,MIN(D18,E18)))) | G18: =IF(OR(D18="",E18=""),"",IF(ISNUMBER(F18),RANK(F18,$F$4:$F$100,1),COUNT($F$4:$F$100)+COUNTIFS($B$4:B18,"<>",$F$4:F18,"NP")))
F19: =IF(AND(OR(D19="NP",D19=""),OR(E19="NP",E19="")),IF(AND(D19="",E19=""),"",IF(OR(D19="NP",E19="NP"),"NP","")),IF(OR(D19="NP",D19=""),E19,IF(OR(E19="NP",E19=""),D19,MIN(D19,E19)))) | G19: =IF(OR(D19="",E19=""),"",IF(ISNUMBER(F19),RANK(F19,$F$4:$F$100,1),COUNT($F$4:$F$100)+COUNTIFS($B$4:B19,"<>",$F$4:F19,"NP")))
F20: =IF(AND(OR(D20="NP",D20=""),OR(E20="NP",E20="")),IF(AND(D20="",E20=""),"",IF(OR(D20="NP",E20="NP"),"NP","")),IF(OR(D20="NP",D20=""),E20,IF(OR(E20="NP",E20=""),D20,MIN(D20,E20)))) | G20: =IF(OR(D20="",E20=""),"",IF(ISNUMBER(F20),RANK(F20,$F$4:$F$100,1),COUNT($F$4:$F$100)+COUNTIFS($B$4:B20,"<>",$F$4:F20,"NP")))
F21: =IF(AND(OR(D21="NP",D21=""),OR(E21="NP",E21="")),IF(AND(D21="",E21=""),"",IF(OR(D21="NP",E21="NP"),"NP","")),IF(OR(D21="NP",D21=""),E21,IF(OR(E21="NP",E21=""),D21,MIN(D21,E21)))) | G21: =IF(OR(D21="",E21=""),"",IF(ISNUMBER(F21),RANK(F21,$F$4:$F$100,1),COUNT($F$4:$F$100)+COUNTIFS($B$4:B21,"<>",$F$4:F21,"NP")))
F22: =IF(AND(OR(D22="NP",D22=""),OR(E22="NP",E22="")),IF(AND(D22="",E22=""),"",IF(OR(D22="NP",E22="NP"),"NP","")),IF(OR(D22="NP",D22=""),E22,IF(OR(E22="NP",E22=""),D22,MIN(D22,E22)))) | G22: =IF(OR(D22="",E22=""),"",IF(ISNUMBER(F22),RANK(F22,$F$4:$F$100,1),COUNT($F$4:$F$100)+COUNTIFS($B$4:B22,"<>",$F$4:F22,"NP")))
F23: =IF(AND(OR(D23="NP",D23=""),OR(E23="NP",E23="")),IF(AND(D23="",E23=""),"",IF(OR(D23="NP",E23="NP"),"NP","")),IF(OR(D23="NP",D23=""),E23,IF(OR(E23="NP",E23=""),D23,MIN(D23,E23)))) | G23: =IF(OR(D23="",E23=""),"",IF(ISNUMBER(F23),RANK(F23,$F$4:$F$100,1),COUNT($F$4:$F$100)+COUNTIFS($B$4:B23,"<>",$F$4:F23,"NP")))
F24: =IF(AND(OR(D24="NP",D24=""),OR(E24="NP",E24="")),IF(AND(D24="",E24=""),"",IF(OR(D24="NP",E24="NP"),"NP","")),IF(OR(D24="NP",D24=""),E24,IF(OR(E24="NP",E24=""),D24,MIN(D24,E24)))) | G24: =IF(OR(D24="",E24=""),"",IF(ISNUMBER(F24),RANK(F24,$F$4:$F$100,1),COUNT($F$4:$F$100)+COUNTIFS($B$4:B24,"<>",$F$4:F24,"NP")))
A25: =IF(B25<>"",0+COUNTIF(B$4:B25,"<>"),"") | F25: =IF(AND(OR(D25="NP",D25=""),OR(E25="NP",E25="")),IF(AND(D25="",E25=""),"",IF(OR(D25="NP",E25="NP"),"NP","")),IF(OR(D25="NP",D25=""),E25,IF(OR(E25="NP",E25=""),D25,MIN(D25,E25)))) | G25: =IF(OR(D25="",E25=""),"",IF(ISNUMBER(F25),RANK(F25,$F$4:$F$100,1),COUNT($F$4:$F$100)+COUNTIFS($B$4:B25,"<>",$F$4:F25,"NP")))
A26: =IF(B26<>"",0+COUNTIF(B$4:B26,"<>"),"") | F26: =IF(AND(OR(D26="NP",D26=""),OR(E26="NP",E26="")),IF(AND(D26="",E26=""),"",IF(OR(D26="NP",E26="NP"),"NP","")),IF(OR(D26="NP",D26=""),E26,IF(OR(E26="NP",E26=""),D26,MIN(D26,E26)))) | G26: =IF(OR(D26="",E26=""),"",IF(ISNUMBER(F26),RANK(F26,$F$4:$F$100,1),COUNT($F$4:$F$100)+COUNTIFS($B$4:B26,"<>",$F$4:F26,"NP")))
A27: =IF(B27<>"",0+COUNTIF(B$4:B27,"<>"),"") | F27: =IF(AND(OR(D27="NP",D27=""),OR(E27="NP",E27="")),IF(AND(D27="",E27=""),"",IF(OR(D27="NP",E27="NP"),"NP","")),IF(OR(D27="NP",D27=""),E27,IF(OR(E27="NP",E27=""),D27,MIN(D27,E27)))) | G27: =IF(OR(D27="",E27=""),"",IF(ISNUMBER(F27),RANK(F27,$F$4:$F$100,1),COUNT($F$4:$F$100)+COUNTIFS($B$4:B27,"<>",$F$4:F27,"NP")))
A28: =IF(B28<>"",0+COUNTIF(B$4:B28,"<>"),"") | F28: =IF(AND(OR(D28="NP",D28=""),OR(E28="NP",E28="")),IF(AND(D28="",E28=""),"",IF(OR(D28="NP",E28="NP"),"NP","")),IF(OR(D28="NP",D28=""),E28,IF(OR(E28="NP",E28=""),D28,MIN(D28,E28)))) | G28: =IF(OR(D28="",E28=""),"",IF(ISNUMBER(F28),RANK(F28,$F$4:$F$100,1),COUNT($F$4:$F$100)+COUNTIFS($B$4:B28,"<>",$F$4:F28,"NP")))
A29: =IF(B29<>"",0+COUNTIF(B$4:B29,"<>"),"") | F29: =IF(AND(OR(D29="NP",D29=""),OR(E29="NP",E29="")),IF(AND(D29="",E29=""),"",IF(OR(D29="NP",E29="NP"),"NP","")),IF(OR(D29="NP",D29=""),E29,IF(OR(E29="NP",E29=""),D29,MIN(D29,E29)))) | G29: =IF(OR(D29="",E29=""),"",IF(ISNUMBER(F29),RANK(F29,$F$4:$F$100,1),COUNT($F$4:$F$100)+COUNTIFS($B$4:B29,"<>",$F$4:F29,"NP")))
A30: =IF(B30<>"",0+COUNTIF(B$4:B30,"<>"),"") | F30: =IF(AND(OR(D30="NP",D30=""),OR(E30="NP",E30="")),IF(AND(D30="",E30=""),"",IF(OR(D30="NP",E30="NP"),"NP","")),IF(OR(D30="NP",D30=""),E30,IF(OR(E30="NP",E30=""),D30,MIN(D30,E30)))) | G30: =IF(OR(D30="",E30=""),"",IF(ISNUMBER(F30),RANK(F30,$F$4:$F$100,1),COUNT($F$4:$F$100)+COUNTIFS($B$4:B30,"<>",$F$4:F30,"NP")))
A31: =IF(B31<>"",0+COUNTIF(B$4:B31,"<>"),"") | F31: =IF(AND(OR(D31="NP",D31=""),OR(E31="NP",E31="")),IF(AND(D31="",E31=""),"",IF(OR(D31="NP",E31="NP"),"NP","")),IF(OR(D31="NP",D31=""),E31,IF(OR(E31="NP",E31=""),D31,MIN(D31,E31)))) | G31: =IF(OR(D31="",E31=""),"",IF(ISNUMBER(F31),RANK(F31,$F$4:$F$100,1),COUNT($F$4:$F$100)+COUNTIFS($B$4:B31,"<>",$F$4:F31,"NP")))
A32: =IF(B32<>"",0+COUNTIF(B$4:B32,"<>"),"") | F32: =IF(AND(OR(D32="NP",D32=""),OR(E32="NP",E32="")),IF(AND(D32="",E32=""),"",IF(OR(D32="NP",E32="NP"),"NP","")),IF(OR(D32="NP",D32=""),E32,IF(OR(E32="NP",E32=""),D32,MIN(D32,E32)))) | G32: =IF(OR(D32="",E32=""),"",IF(ISNUMBER(F32),RANK(F32,$F$4:$F$100,1),COUNT($F$4:$F$100)+COUNTIFS($B$4:B32,"<>",$F$4:F32,"NP")))
A33: =IF(B33<>"",0+COUNTIF(B$4:B33,"<>"),"") | F33: =IF(AND(OR(D33="NP",D33=""),OR(E33="NP",E33="")),IF(AND(D33="",E33=""),"",IF(OR(D33="NP",E33="NP"),"NP","")),IF(OR(D33="NP",D33=""),E33,IF(OR(E33="NP",E33=""),D33,MIN(D33,E33)))) | G33: =IF(OR(D33="",E33=""),"",IF(ISNUMBER(F33),RANK(F33,$F$4:$F$100,1),COUNT($F$4:$F$100)+COUNTIFS($B$4:B33,"<>",$F$4:F33,"NP")))
A34: =IF(B34<>"",0+COUNTIF(B$4:B34,"<>"),"") | F34: =IF(AND(OR(D34="NP",D34=""),OR(E34="NP",E34="")),IF(AND(D34="",E34=""),"",IF(OR(D34="NP",E34="NP"),"NP","")),IF(OR(D34="NP",D34=""),E34,IF(OR(E34="NP",E34=""),D34,MIN(D34,E34)))) | G34: =IF(OR(D34="",E34=""),"",IF(ISNUMBER(F34),RANK(F34,$F$4:$F$100,1),COUNT($F$4:$F$100)+COUNTIFS($B$4:B34,"<>",$F$4:F34,"NP")))
A35: =IF(B35<>"",0+COUNTIF(B$4:B35,"<>"),"") | F35: =IF(AND(OR(D35="NP",D35=""),OR(E35="NP",E35="")),IF(AND(D35="",E35=""),"",IF(OR(D35="NP",E35="NP"),"NP","")),IF(OR(D35="NP",D35=""),E35,IF(OR(E35="NP",E35=""),D35,MIN(D35,E35)))) | G35: =IF(OR(D35="",E35=""),"",IF(ISNUMBER(F35),RANK(F35,$F$4:$F$100,1),COUNT($F$4:$F$100)+COUNTIFS($B$4:B35,"<>",$F$4:F35,"NP")))
A36: =IF(B36<>"",0+COUNTIF(B$4:B36,"<>"),"") | F36: =IF(AND(OR(D36="NP",D36=""),OR(E36="NP",E36="")),IF(AND(D36="",E36=""),"",IF(OR(D36="NP",E36="NP"),"NP","")),IF(OR(D36="NP",D36=""),E36,IF(OR(E36="NP",E36=""),D36,MIN(D36,E36)))) | G36: =IF(OR(D36="",E36=""),"",IF(ISNUMBER(F36),RANK(F36,$F$4:$F$100,1),COUNT($F$4:$F$100)+COUNTIFS($B$4:B36,"<>",$F$4:F36,"NP")))
... A100: =IF(B100<>"",0+COUNTIF(B$4:B100,"<>"),"") | F100: =IF(AND(OR(D100="NP",D100=""),OR(E100="NP",E100="")),IF(AND(D100="",E100=""),"",IF(OR(D100="NP",E100="NP"),"NP","")),IF(OR(D100="NP",D100=""),E100,IF(OR(E100="NP",E100=""),D100,MIN(D100,E100)))) | G100: =IF(OR(D100="",E100=""),"",IF(ISNUMBER(F100),RANK(F100,$F$4:$F$100,1),COUNT($F$4:$F$100)+COUNTIFS($B$4:B100,"<>",$F$4:F100,"NP")))

Sheet 7-8 ml_holky
A1: Běh na 60 m s překážkami - Rohatec 23. 5. 2026
A2: Kategorie mladší žáci - holky | D2: 7-8 LET
A3: St. č. | B3: Příjmení a jméno | C3: SDH | D3: 1. pokus | E3: 2. pokus | F3: Výsl. čas | G3: Pořadí
A4: 11 | B4: Holešinská Ema | C4: Vracov | D4: 22.74 | E4: 21.36 | F4: =IF(AND(OR(D4="NP",D4=""),OR(E4="NP",E4="")),IF(AND(D4="",E4=""),"",IF(OR(D4="NP",E4="NP"),"NP","")),IF(OR(D4="NP",D4=""),E4,IF(OR(E4="NP",E4=""),D4,MIN(D4,E4)))) -> 21.36 | G4: =IF(OR(D4="",E4=""),"",IF(ISNUMBER(F4),RANK(F4,$F$4:$F$100,1),COUNT($F$4:$F$100)+COUNTIFS($B$4:B4,"<>",$F$4:F4,"NP"))) -> 2
A5: 12 | B5: Procházková Magdaléna | C5: Hroznová Lhota | D5: 25.25 | E5: 21.88 | F5: =IF(AND(OR(D5="NP",D5=""),OR(E5="NP",E5="")),IF(AND(D5="",E5=""),"",IF(OR(D5="NP",E5="NP"),"NP","")),IF(OR(D5="NP",D5=""),E5,IF(OR(E5="NP",E5=""),D5,MIN(D5,E5)))) -> 21.88 | G5: =IF(OR(D5="",E5=""),"",IF(ISNUMBER(F5),RANK(F5,$F$4:$F$100,1),COUNT($F$4:$F$100)+COUNTIFS($B$4:B5,"<>",$F$4:F5,"NP"))) -> 3
A6: 13 | B6: Hnilicová Ema | C6: Rohatec | D6: 24.37 | E6: 27.75 | F6: =IF(AND(OR(D6="NP",D6=""),OR(E6="NP",E6="")),IF(AND(D6="",E6=""),"",IF(OR(D6="NP",E6="NP"),"NP","")),IF(OR(D6="NP",D6=""),E6,IF(OR(E6="NP",E6=""),D6,MIN(D6,E6)))) -> 24.37 | G6: =IF(OR(D6="",E6=""),"",IF(ISNUMBER(F6),RANK(F6,$F$4:$F$100,1),COUNT($F$4:$F$100)+COUNTIFS($B$4:B6,"<>",$F$4:F6,"NP"))) -> 5
A7: 14 | B7: Fridrichová Natálie | C7: Vracov | D7: 27.54 | E7: 20.29 | F7: =IF(AND(OR(D7="NP",D7=""),OR(E7="NP",E7="")),IF(AND(D7="",E7=""),"",IF(OR(D7="NP",E7="NP"),"NP","")),IF(OR(D7="NP",D7=""),E7,IF(OR(E7="NP",E7=""),D7,MIN(D7,E7)))) -> 20.29 | G7: =IF(OR(D7="",E7=""),"",IF(ISNUMBER(F7),RANK(F7,$F$4:$F$100,1),COUNT($F$4:$F$100)+COUNTIFS($B$4:B7,"<>",$F$4:F7,"NP"))) -> 1
A8: 15 | B8: Konečná Adrien | C8: Kozojídky | D8: 44.09 | E8: 41.16 | F8: =IF(AND(OR(D8="NP",D8=""),OR(E8="NP",E8="")),IF(AND(D8="",E8=""),"",IF(OR(D8="NP",E8="NP"),"NP","")),IF(OR(D8="NP",D8=""),E8,IF(OR(E8="NP",E8=""),D8,MIN(D8,E8)))) -> 41.16 | G8: =IF(OR(D8="",E8=""),"",IF(ISNUMBER(F8),RANK(F8,$F$4:$F$100,1),COUNT($F$4:$F$100)+COUNTIFS($B$4:B8,"<>",$F$4:F8,"NP"))) -> 7
A9: 16 | B9: Cíchová Sára | C9: Blatnice p. Sv. A. | D9: 37.1 | E9: 27.4 | F9: =IF(AND(OR(D9="NP",D9=""),OR(E9="NP",E9="")),IF(AND(D9="",E9=""),"",IF(OR(D9="NP",E9="NP"),"NP","")),IF(OR(D9="NP",D9=""),E9,IF(OR(E9="NP",E9=""),D9,MIN(D9,E9)))) -> 27.4 | G9: =IF(OR(D9="",E9=""),"",IF(ISNUMBER(F9),RANK(F9,$F$4:$F$100,1),COUNT($F$4:$F$100)+COUNTIFS($B$4:B9,"<>",$F$4:F9,"NP"))) -> 6
A10: 17 | B10: Žurovcová Gabriela | C10: Vracov | D10: 23.31 | E10: 25.78 | F10: =IF(AND(OR(D10="NP",D10=""),OR(E10="NP",E10="")),IF(AND(D10="",E10=""),"",IF(OR(D10="NP",E10="NP"),"NP","")),IF(OR(D10="NP",D10=""),E10,IF(OR(E10="NP",E10=""),D10,MIN(D10,E10)))) -> 23.31 | G10: =IF(OR(D10="",E10=""),"",IF(ISNUMBER(F10),RANK(F10,$F$4:$F$100,1),COUNT($F$4:$F$100)+COUNTIFS($B$4:B10,"<>",$F$4:F10,"NP"))) -> 4
A11: 18 | F11: =IF(AND(OR(D11="NP",D11=""),OR(E11="NP",E11="")),IF(AND(D11="",E11=""),"",IF(OR(D11="NP",E11="NP"),"NP","")),IF(OR(D11="NP",D11=""),E11,IF(OR(E11="NP",E11=""),D11,MIN(D11,E11)))) | G11: =IF(OR(D11="",E11=""),"",IF(ISNUMBER(F11),RANK(F11,$F$4:$F$100,1),COUNT($F$4:$F$100)+COUNTIFS($B$4:B11,"<>",$F$4:F11,"NP")))
A12: 19 | F12: =IF(AND(OR(D12="NP",D12=""),OR(E12="NP",E12="")),IF(AND(D12="",E12=""),"",IF(OR(D12="NP",E12="NP"),"NP","")),IF(OR(D12="NP",D12=""),E12,IF(OR(E12="NP",E12=""),D12,MIN(D12,E12)))) | G12: =IF(OR(D12="",E12=""),"",IF(ISNUMBER(F12),RANK(F12,$F$4:$F$100,1),COUNT($F$4:$F$100)+COUNTIFS($B$4:B12,"<>",$F$4:F12,"NP")))
A13: 20 | F13: =IF(AND(OR(D13="NP",D13=""),OR(E13="NP",E13="")),IF(AND(D13="",E13=""),"",IF(OR(D13="NP",E13="NP"),"NP","")),IF(OR(D13="NP",D13=""),E13,IF(OR(E13="NP",E13=""),D13,MIN(D13,E13)))) | G13: =IF(OR(D13="",E13=""),"",IF(ISNUMBER(F13),RANK(F13,$F$4:$F$100,1),COUNT($F$4:$F$100)+COUNTIFS($B$4:B13,"<>",$F$4:F13,"NP")))
A14: 21 | F14: =IF(AND(OR(D14="NP",D14=""),OR(E14="NP",E14="")),IF(AND(D14="",E14=""),"",IF(OR(D14="NP",E14="NP"),"NP","")),IF(OR(D14="NP",D14=""),E14,IF(OR(E14="NP",E14=""),D14,MIN(D14,E14)))) | G14: =IF(OR(D14="",E14=""),"",IF(ISNUMBER(F14),RANK(F14,$F$4:$F$100,1),COUNT($F$4:$F$100)+COUNTIFS($B$4:B14,"<>",$F$4:F14,"NP")))
A15: 22 | F15: =IF(AND(OR(D15="NP",D15=""),OR(E15="NP",E15="")),IF(AND(D15="",E15=""),"",IF(OR(D15="NP",E15="NP"),"NP","")),IF(OR(D15="NP",D15=""),E15,IF(OR(E15="NP",E15=""),D15,MIN(D15,E15)))) | G15: =IF(OR(D15="",E15=""),"",IF(ISNUMBER(F15),RANK(F15,$F$4:$F$100,1),COUNT($F$4:$F$100)+COUNTIFS($B$4:B15,"<>",$F$4:F15,"NP")))
A16: 23 | F16: =IF(AND(OR(D16="NP",D16=""),OR(E16="NP",E16="")),IF(AND(D16="",E16=""),"",IF(OR(D16="NP",E16="NP"),"NP","")),IF(OR(D16="NP",D16=""),E16,IF(OR(E16="NP",E16=""),D16,MIN(D16,E16)))) | G16: =IF(OR(D16="",E16=""),"",IF(ISNUMBER(F16),RANK(F16,$F$4:$F$100,1),COUNT($F$4:$F$100)+COUNTIFS($B$4:B16,"<>",$F$4:F16,"NP")))
A17: 24 | F17: =IF(AND(OR(D17="NP",D17=""),OR(E17="NP",E17="")),IF(AND(D17="",E17=""),"",IF(OR(D17="NP",E17="NP"),"NP","")),IF(OR(D17="NP",D17=""),E17,IF(OR(E17="NP",E17=""),D17,MIN(D17,E17)))) | G17: =IF(OR(D17="",E17=""),"",IF(ISNUMBER(F17),RANK(F17,$F$4:$F$100,1),COUNT($F$4:$F$100)+COUNTIFS($B$4:B17,"<>",$F$4:F17,"NP")))
A18: 25 | F18: =IF(AND(OR(D18="NP",D18=""),OR(E18="NP",E18="")),IF(AND(D18="",E18=""),"",IF(OR(D18="NP",E18="NP"),"NP","")),IF(OR(D18="NP",D18=""),E18,IF(OR(E18="NP",E18=""),D18,MIN(D18,E18)))) | G18: =IF(OR(D18="",E18=""),"",IF(ISNUMBER(F18),RANK(F18,$F$4:$F$100,1),COUNT($F$4:$F$100)+COUNTIFS($B$4:B18,"<>",$F$4:F18,"NP")))
F19: =IF(AND(OR(D19="NP",D19=""),OR(E19="NP",E19="")),IF(AND(D19="",E19=""),"",IF(OR(D19="NP",E19="NP"),"NP","")),IF(OR(D19="NP",D19=""),E19,IF(OR(E19="NP",E19=""),D19,MIN(D19,E19)))) | G19: =IF(OR(D19="",E19=""),"",IF(ISNUMBER(F19),RANK(F19,$F$4:$F$100,1),COUNT($F$4:$F$100)+COUNTIFS($B$4:B19,"<>",$F$4:F19,"NP")))
F20: =IF(AND(OR(D20="NP",D20=""),OR(E20="NP",E20="")),IF(AND(D20="",E20=""),"",IF(OR(D20="NP",E20="NP"),"NP","")),IF(OR(D20="NP",D20=""),E20,IF(OR(E20="NP",E20=""),D20,MIN(D20,E20)))) | G20: =IF(OR(D20="",E20=""),"",IF(ISNUMBER(F20),RANK(F20,$F$4:$F$100,1),COUNT($F$4:$F$100)+COUNTIFS($B$4:B20,"<>",$F$4:F20,"NP")))
F21: =IF(AND(OR(D21="NP",D21=""),OR(E21="NP",E21="")),IF(AND(D21="",E21=""),"",IF(OR(D21="NP",E21="NP"),"NP","")),IF(OR(D21="NP",D21=""),E21,IF(OR(E21="NP",E21=""),D21,MIN(D21,E21)))) | G21: =IF(OR(D21="",E21=""),"",IF(ISNUMBER(F21),RANK(F21,$F$4:$F$100,1),COUNT($F$4:$F$100)+COUNTIFS($B$4:B21,"<>",$F$4:F21,"NP")))
F22: =IF(AND(OR(D22="NP",D22=""),OR(E22="NP",E22="")),IF(AND(D22="",E22=""),"",IF(OR(D22="NP",E22="NP"),"NP","")),IF(OR(D22="NP",D22=""),E22,IF(OR(E22="NP",E22=""),D22,MIN(D22,E22)))) | G22: =IF(OR(D22="",E22=""),"",IF(ISNUMBER(F22),RANK(F22,$F$4:$F$100,1),COUNT($F$4:$F$100)+COUNTIFS($B$4:B22,"<>",$F$4:F22,"NP")))
F23: =IF(AND(OR(D23="NP",D23=""),OR(E23="NP",E23="")),IF(AND(D23="",E23=""),"",IF(OR(D23="NP",E23="NP"),"NP","")),IF(OR(D23="NP",D23=""),E23,IF(OR(E23="NP",E23=""),D23,MIN(D23,E23)))) | G23: =IF(OR(D23="",E23=""),"",IF(ISNUMBER(F23),RANK(F23,$F$4:$F$100,1),COUNT($F$4:$F$100)+COUNTIFS($B$4:B23,"<>",$F$4:F23,"NP")))
F24: =IF(AND(OR(D24="NP",D24=""),OR(E24="NP",E24="")),IF(AND(D24="",E24=""),"",IF(OR(D24="NP",E24="NP"),"NP","")),IF(OR(D24="NP",D24=""),E24,IF(OR(E24="NP",E24=""),D24,MIN(D24,E24)))) | G24: =IF(OR(D24="",E24=""),"",IF(ISNUMBER(F24),RANK(F24,$F$4:$F$100,1),COUNT($F$4:$F$100)+COUNTIFS($B$4:B24,"<>",$F$4:F24,"NP")))
A25: =IF(B25<>"",COUNTA('7-8 ml_kluci'!B4:B100)+COUNTIF(B$4:B25,"<>"),"") | F25: =IF(AND(OR(D25="NP",D25=""),OR(E25="NP",E25="")),IF(AND(D25="",E25=""),"",IF(OR(D25="NP",E25="NP"),"NP","")),IF(OR(D25="NP",D25=""),E25,IF(OR(E25="NP",E25=""),D25,MIN(D25,E25)))) | G25: =IF(OR(D25="",E25=""),"",IF(ISNUMBER(F25),RANK(F25,$F$4:$F$100,1),COUNT($F$4:$F$100)+COUNTIFS($B$4:B25,"<>",$F$4:F25,"NP")))
A26: =IF(B26<>"",COUNTA('7-8 ml_kluci'!B4:B100)+COUNTIF(B$4:B26,"<>"),"") | F26: =IF(AND(OR(D26="NP",D26=""),OR(E26="NP",E26="")),IF(AND(D26="",E26=""),"",IF(OR(D26="NP",E26="NP"),"NP","")),IF(OR(D26="NP",D26=""),E26,IF(OR(E26="NP",E26=""),D26,MIN(D26,E26)))) | G26: =IF(OR(D26="",E26=""),"",IF(ISNUMBER(F26),RANK(F26,$F$4:$F$100,1),COUNT($F$4:$F$100)+COUNTIFS($B$4:B26,"<>",$F$4:F26,"NP")))
A27: =IF(B27<>"",COUNTA('7-8 ml_kluci'!B4:B100)+COUNTIF(B$4:B27,"<>"),"") | F27: =IF(AND(OR(D27="NP",D27=""),OR(E27="NP",E27="")),IF(AND(D27="",E27=""),"",IF(OR(D27="NP",E27="NP"),"NP","")),IF(OR(D27="NP",D27=""),E27,IF(OR(E27="NP",E27=""),D27,MIN(D27,E27)))) | G27: =IF(OR(D27="",E27=""),"",IF(ISNUMBER(F27),RANK(F27,$F$4:$F$100,1),COUNT($F$4:$F$100)+COUNTIFS($B$4:B27,"<>",$F$4:F27,"NP")))
A28: =IF(B28<>"",COUNTA('7-8 ml_kluci'!B4:B100)+COUNTIF(B$4:B28,"<>"),"") | F28: =IF(AND(OR(D28="NP",D28=""),OR(E28="NP",E28="")),IF(AND(D28="",E28=""),"",IF(OR(D28="NP",E28="NP"),"NP","")),IF(OR(D28="NP",D28=""),E28,IF(OR(E28="NP",E28=""),D28,MIN(D28,E28)))) | G28: =IF(OR(D28="",E28=""),"",IF(ISNUMBER(F28),RANK(F28,$F$4:$F$100,1),COUNT($F$4:$F$100)+COUNTIFS($B$4:B28,"<>",$F$4:F28,"NP")))
A29: =IF(B29<>"",COUNTA('7-8 ml_kluci'!B4:B100)+COUNTIF(B$4:B29,"<>"),"") | F29: =IF(AND(OR(D29="NP",D29=""),OR(E29="NP",E29="")),IF(AND(D29="",E29=""),"",IF(OR(D29="NP",E29="NP"),"NP","")),IF(OR(D29="NP",D29=""),E29,IF(OR(E29="NP",E29=""),D29,MIN(D29,E29)))) | G29: =IF(OR(D29="",E29=""),"",IF(ISNUMBER(F29),RANK(F29,$F$4:$F$100,1),COUNT($F$4:$F$100)+COUNTIFS($B$4:B29,"<>",$F$4:F29,"NP")))
A30: =IF(B30<>"",COUNTA('7-8 ml_kluci'!B4:B100)+COUNTIF(B$4:B30,"<>"),"") | F30: =IF(AND(OR(D30="NP",D30=""),OR(E30="NP",E30="")),IF(AND(D30="",E30=""),"",IF(OR(D30="NP",E30="NP"),"NP","")),IF(OR(D30="NP",D30=""),E30,IF(OR(E30="NP",E30=""),D30,MIN(D30,E30)))) | G30: =IF(OR(D30="",E30=""),"",IF(ISNUMBER(F30),RANK(F30,$F$4:$F$100,1),COUNT($F$4:$F$100)+COUNTIFS($B$4:B30,"<>",$F$4:F30,"NP")))
A31: =IF(B31<>"",COUNTA('7-8 ml_kluci'!B4:B100)+COUNTIF(B$4:B31,"<>"),"") | F31: =IF(AND(OR(D31="NP",D31=""),OR(E31="NP",E31="")),IF(AND(D31="",E31=""),"",IF(OR(D31="NP",E31="NP"),"NP","")),IF(OR(D31="NP",D31=""),E31,IF(OR(E31="NP",E31=""),D31,MIN(D31,E31)))) | G31: =IF(OR(D31="",E31=""),"",IF(ISNUMBER(F31),RANK(F31,$F$4:$F$100,1),COUNT($F$4:$F$100)+COUNTIFS($B$4:B31,"<>",$F$4:F31,"NP")))
A32: =IF(B32<>"",COUNTA('7-8 ml_kluci'!B4:B100)+COUNTIF(B$4:B32,"<>"),"") | F32: =IF(AND(OR(D32="NP",D32=""),OR(E32="NP",E32="")),IF(AND(D32="",E32=""),"",IF(OR(D32="NP",E32="NP"),"NP","")),IF(OR(D32="NP",D32=""),E32,IF(OR(E32="NP",E32=""),D32,MIN(D32,E32)))) | G32: =IF(OR(D32="",E32=""),"",IF(ISNUMBER(F32),RANK(F32,$F$4:$F$100,1),COUNT($F$4:$F$100)+COUNTIFS($B$4:B32,"<>",$F$4:F32,"NP")))
A33: =IF(B33<>"",COUNTA('7-8 ml_kluci'!B4:B100)+COUNTIF(B$4:B33,"<>"),"") | F33: =IF(AND(OR(D33="NP",D33=""),OR(E33="NP",E33="")),IF(AND(D33="",E33=""),"",IF(OR(D33="NP",E33="NP"),"NP","")),IF(OR(D33="NP",D33=""),E33,IF(OR(E33="NP",E33=""),D33,MIN(D33,E33)))) | G33: =IF(OR(D33="",E33=""),"",IF(ISNUMBER(F33),RANK(F33,$F$4:$F$100,1),COUNT($F$4:$F$100)+COUNTIFS($B$4:B33,"<>",$F$4:F33,"NP")))
A34: =IF(B34<>"",COUNTA('7-8 ml_kluci'!B4:B100)+COUNTIF(B$4:B34,"<>"),"") | F34: =IF(AND(OR(D34="NP",D34=""),OR(E34="NP",E34="")),IF(AND(D34="",E34=""),"",IF(OR(D34="NP",E34="NP"),"NP","")),IF(OR(D34="NP",D34=""),E34,IF(OR(E34="NP",E34=""),D34,MIN(D34,E34)))) | G34: =IF(OR(D34="",E34=""),"",IF(ISNUMBER(F34),RANK(F34,$F$4:$F$100,1),COUNT($F$4:$F$100)+COUNTIFS($B$4:B34,"<>",$F$4:F34,"NP")))
A35: =IF(B35<>"",COUNTA('7-8 ml_kluci'!B4:B100)+COUNTIF(B$4:B35,"<>"),"") | F35: =IF(AND(OR(D35="NP",D35=""),OR(E35="NP",E35="")),IF(AND(D35="",E35=""),"",IF(OR(D35="NP",E35="NP"),"NP","")),IF(OR(D35="NP",D35=""),E35,IF(OR(E35="NP",E35=""),D35,MIN(D35,E35)))) | G35: =IF(OR(D35="",E35=""),"",IF(ISNUMBER(F35),RANK(F35,$F$4:$F$100,1),COUNT($F$4:$F$100)+COUNTIFS($B$4:B35,"<>",$F$4:F35,"NP")))
A36: =IF(B36<>"",COUNTA('7-8 ml_kluci'!B4:B100)+COUNTIF(B$4:B36,"<>"),"") | F36: =IF(AND(OR(D36="NP",D36=""),OR(E36="NP",E36="")),IF(AND(D36="",E36=""),"",IF(OR(D36="NP",E36="NP"),"NP","")),IF(OR(D36="NP",D36=""),E36,IF(OR(E36="NP",E36=""),D36,MIN(D36,E36)))) | G36: =IF(OR(D36="",E36=""),"",IF(ISNUMBER(F36),RANK(F36,$F$4:$F$100,1),COUNT($F$4:$F$100)+COUNTIFS($B$4:B36,"<>",$F$4:F36,"NP")))
A37: =IF(B37<>"",COUNTA('7-8 ml_kluci'!B4:B100)+COUNTIF(B$4:B37,"<>"),"") | F37: =IF(AND(OR(D37="NP",D37=""),OR(E37="NP",E37="")),IF(AND(D37="",E37=""),"",IF(OR(D37="NP",E37="NP"),"NP","")),IF(OR(D37="NP",D37=""),E37,IF(OR(E37="NP",E37=""),D37,MIN(D37,E37)))) | G37: =IF(OR(D37="",E37=""),"",IF(ISNUMBER(F37),RANK(F37,$F$4:$F$100,1),COUNT($F$4:$F$100)+COUNTIFS($B$4:B37,"<>",$F$4:F37,"NP")))
A38: =IF(B38<>"",COUNTA('7-8 ml_kluci'!B4:B100)+COUNTIF(B$4:B38,"<>"),"") | F38: =IF(AND(OR(D38="NP",D38=""),OR(E38="NP",E38="")),IF(AND(D38="",E38=""),"",IF(OR(D38="NP",E38="NP"),"NP","")),IF(OR(D38="NP",D38=""),E38,IF(OR(E38="NP",E38=""),D38,MIN(D38,E38)))) | G38: =IF(OR(D38="",E38=""),"",IF(ISNUMBER(F38),RANK(F38,$F$4:$F$100,1),COUNT($F$4:$F$100)+COUNTIFS($B$4:B38,"<>",$F$4:F38,"NP")))
A39: =IF(B39<>"",COUNTA('7-8 ml_kluci'!B4:B100)+COUNTIF(B$4:B39,"<>"),"") | F39: =IF(AND(OR(D39="NP",D39=""),OR(E39="NP",E39="")),IF(AND(D39="",E39=""),"",IF(OR(D39="NP",E39="NP"),"NP","")),IF(OR(D39="NP",D39=""),E39,IF(OR(E39="NP",E39=""),D39,MIN(D39,E39)))) | G39: =IF(OR(D39="",E39=""),"",IF(ISNUMBER(F39),RANK(F39,$F$4:$F$100,1),COUNT($F$4:$F$100)+COUNTIFS($B$4:B39,"<>",$F$4:F39,"NP")))
A40: =IF(B40<>"",COUNTA('7-8 ml_kluci'!B4:B100)+COUNTIF(B$4:B40,"<>"),"") | F40: =IF(AND(OR(D40="NP",D40=""),OR(E40="NP",E40="")),IF(AND(D40="",E40=""),"",IF(OR(D40="NP",E40="NP"),"NP","")),IF(OR(D40="NP",D40=""),E40,IF(OR(E40="NP",E40=""),D40,MIN(D40,E40)))) | G40: =IF(OR(D40="",E40=""),"",IF(ISNUMBER(F40),RANK(F40,$F$4:$F$100,1),COUNT($F$4:$F$100)+COUNTIFS($B$4:B40,"<>",$F$4:F40,"NP")))
A41: =IF(B41<>"",COUNTA('7-8 ml_kluci'!B4:B100)+COUNTIF(B$4:B41,"<>"),"") | F41: =IF(AND(OR(D41="NP",D41=""),OR(E41="NP",E41="")),IF(AND(D41="",E41=""),"",IF(OR(D41="NP",E41="NP"),"NP","")),IF(OR(D41="NP",D41=""),E41,IF(OR(E41="NP",E41=""),D41,MIN(D41,E41)))) | G41: =IF(OR(D41="",E41=""),"",IF(ISNUMBER(F41),RANK(F41,$F$4:$F$100,1),COUNT($F$4:$F$100)+COUNTIFS($B$4:B41,"<>",$F$4:F41,"NP")))
A42: =IF(B42<>"",COUNTA('7-8 ml_kluci'!B4:B100)+COUNTIF(B$4:B42,"<>"),"") | F42: =IF(AND(OR(D42="NP",D42=""),OR(E42="NP",E42="")),IF(AND(D42="",E42=""),"",IF(OR(D42="NP",E42="NP"),"NP","")),IF(OR(D42="NP",D42=""),E42,IF(OR(E42="NP",E42=""),D42,MIN(D42,E42)))) | G42: =IF(OR(D42="",E42=""),"",IF(ISNUMBER(F42),RANK(F42,$F$4:$F$100,1),COUNT($F$4:$F$100)+COUNTIFS($B$4:B42,"<>",$F$4:F42,"NP")))
A43: =IF(B43<>"",COUNTA('7-8 ml_kluci'!B4:B100)+COUNTIF(B$4:B43,"<>"),"") | F43: =IF(AND(OR(D43="NP",D43=""),OR(E43="NP",E43="")),IF(AND(D43="",E43=""),"",IF(OR(D43="NP",E43="NP"),"NP","")),IF(OR(D43="NP",D43=""),E43,IF(OR(E43="NP",E43=""),D43,MIN(D43,E43)))) | G43: =IF(OR(D43="",E43=""),"",IF(ISNUMBER(F43),RANK(F43,$F$4:$F$100,1),COUNT($F$4:$F$100)+COUNTIFS($B$4:B43,"<>",$F$4:F43,"NP")))
A44: =IF(B44<>"",COUNTA('7-8 ml_kluci'!B4:B100)+COUNTIF(B$4:B44,"<>"),"") | F44: =IF(AND(OR(D44="NP",D44=""),OR(E44="NP",E44="")),IF(AND(D44="",E44=""),"",IF(OR(D44="NP",E44="NP"),"NP","")),IF(OR(D44="NP",D44=""),E44,IF(OR(E44="NP",E44=""),D44,MIN(D44,E44)))) | G44: =IF(OR(D44="",E44=""),"",IF(ISNUMBER(F44),RANK(F44,$F$4:$F$100,1),COUNT($F$4:$F$100)+COUNTIFS($B$4:B44,"<>",$F$4:F44,"NP")))
A45: =IF(B45<>"",COUNTA('7-8 ml_kluci'!B4:B100)+COUNTIF(B$4:B45,"<>"),"") | F45: =IF(AND(OR(D45="NP",D45=""),OR(E45="NP",E45="")),IF(AND(D45="",E45=""),"",IF(OR(D45="NP",E45="NP"),"NP","")),IF(OR(D45="NP",D45=""),E45,IF(OR(E45="NP",E45=""),D45,MIN(D45,E45)))) | G45: =IF(OR(D45="",E45=""),"",IF(ISNUMBER(F45),RANK(F45,$F$4:$F$100,1),COUNT($F$4:$F$100)+COUNTIFS($B$4:B45,"<>",$F$4:F45,"NP")))
A46: =IF(B46<>"",COUNTA('7-8 ml_kluci'!B4:B100)+COUNTIF(B$4:B46,"<>"),"") | F46: =IF(AND(OR(D46="NP",D46=""),OR(E46="NP",E46="")),IF(AND(D46="",E46=""),"",IF(OR(D46="NP",E46="NP"),"NP","")),IF(OR(D46="NP",D46=""),E46,IF(OR(E46="NP",E46=""),D46,MIN(D46,E46)))) | G46: =IF(OR(D46="",E46=""),"",IF(ISNUMBER(F46),RANK(F46,$F$4:$F$100,1),COUNT($F$4:$F$100)+COUNTIFS($B$4:B46,"<>",$F$4:F46,"NP")))
A47: =IF(B47<>"",COUNTA('7-8 ml_kluci'!B4:B100)+COUNTIF(B$4:B47,"<>"),"") | F47: =IF(AND(OR(D47="NP",D47=""),OR(E47="NP",E47="")),IF(AND(D47="",E47=""),"",IF(OR(D47="NP",E47="NP"),"NP","")),IF(OR(D47="NP",D47=""),E47,IF(OR(E47="NP",E47=""),D47,MIN(D47,E47)))) | G47: =IF(OR(D47="",E47=""),"",IF(ISNUMBER(F47),RANK(F47,$F$4:$F$100,1),COUNT($F$4:$F$100)+COUNTIFS($B$4:B47,"<>",$F$4:F47,"NP")))
A48: =IF(B48<>"",COUNTA('7-8 ml_kluci'!B4:B100)+COUNTIF(B$4:B48,"<>"),"") | F48: =IF(AND(OR(D48="NP",D48=""),OR(E48="NP",E48="")),IF(AND(D48="",E48=""),"",IF(OR(D48="NP",E48="NP"),"NP","")),IF(OR(D48="NP",D48=""),E48,IF(OR(E48="NP",E48=""),D48,MIN(D48,E48)))) | G48: =IF(OR(D48="",E48=""),"",IF(ISNUMBER(F48),RANK(F48,$F$4:$F$100,1),COUNT($F$4:$F$100)+COUNTIFS($B$4:B48,"<>",$F$4:F48,"NP")))
A49: =IF(B49<>"",COUNTA('7-8 ml_kluci'!B4:B100)+COUNTIF(B$4:B49,"<>"),"") | F49: =IF(AND(OR(D49="NP",D49=""),OR(E49="NP",E49="")),IF(AND(D49="",E49=""),"",IF(OR(D49="NP",E49="NP"),"NP","")),IF(OR(D49="NP",D49=""),E49,IF(OR(E49="NP",E49=""),D49,MIN(D49,E49)))) | G49: =IF(OR(D49="",E49=""),"",IF(ISNUMBER(F49),RANK(F49,$F$4:$F$100,1),COUNT($F$4:$F$100)+COUNTIFS($B$4:B49,"<>",$F$4:F49,"NP")))
A50: =IF(B50<>"",COUNTA('7-8 ml_kluci'!B4:B100)+COUNTIF(B$4:B50,"<>"),"") | F50: =IF(AND(OR(D50="NP",D50=""),OR(E50="NP",E50="")),IF(AND(D50="",E50=""),"",IF(OR(D50="NP",E50="NP"),"NP","")),IF(OR(D50="NP",D50=""),E50,IF(OR(E50="NP",E50=""),D50,MIN(D50,E50)))) | G50: =IF(OR(D50="",E50=""),"",IF(ISNUMBER(F50),RANK(F50,$F$4:$F$100,1),COUNT($F$4:$F$100)+COUNTIFS($B$4:B50,"<>",$F$4:F50,"NP")))
A51: =IF(B51<>"",COUNTA('7-8 ml_kluci'!B4:B100)+COUNTIF(B$4:B51,"<>"),"") | F51: =IF(AND(OR(D51="NP",D51=""),OR(E51="NP",E51="")),IF(AND(D51="",E51=""),"",IF(OR(D51="NP",E51="NP"),"NP","")),IF(OR(D51="NP",D51=""),E51,IF(OR(E51="NP",E51=""),D51,MIN(D51,E51)))) | G51: =IF(OR(D51="",E51=""),"",IF(ISNUMBER(F51),RANK(F51,$F$4:$F$100,1),COUNT($F$4:$F$100)+COUNTIFS($B$4:B51,"<>",$F$4:F51,"NP")))
A52: =IF(B52<>"",COUNTA('7-8 ml_kluci'!B4:B100)+COUNTIF(B$4:B52,"<>"),"") | F52: =IF(AND(OR(D52="NP",D52=""),OR(E52="NP",E52="")),IF(AND(D52="",E52=""),"",IF(OR(D52="NP",E52="NP"),"NP","")),IF(OR(D52="NP",D52=""),E52,IF(OR(E52="NP",E52=""),D52,MIN(D52,E52)))) | G52: =IF(OR(D52="",E52=""),"",IF(ISNUMBER(F52),RANK(F52,$F$4:$F$100,1),COUNT($F$4:$F$100)+COUNTIFS($B$4:B52,"<>",$F$4:F52,"NP")))
A53: =IF(B53<>"",COUNTA('7-8 ml_kluci'!B4:B100)+COUNTIF(B$4:B53,"<>"),"") | F53: =IF(AND(OR(D53="NP",D53=""),OR(E53="NP",E53="")),IF(AND(D53="",E53=""),"",IF(OR(D53="NP",E53="NP"),"NP","")),IF(OR(D53="NP",D53=""),E53,IF(OR(E53="NP",E53=""),D53,MIN(D53,E53)))) | G53: =IF(OR(D53="",E53=""),"",IF(ISNUMBER(F53),RANK(F53,$F$4:$F$100,1),COUNT($F$4:$F$100)+COUNTIFS($B$4:B53,"<>",$F$4:F53,"NP")))
A54: =IF(B54<>"",COUNTA('7-8 ml_kluci'!B4:B100)+COUNTIF(B$4:B54,"<>"),"") | F54: =IF(AND(OR(D54="NP",D54=""),OR(E54="NP",E54="")),IF(AND(D54="",E54=""),"",IF(OR(D54="NP",E54="NP"),"NP","")),IF(OR(D54="NP",D54=""),E54,IF(OR(E54="NP",E54=""),D54,MIN(D54,E54)))) | G54: =IF(OR(D54="",E54=""),"",IF(ISNUMBER(F54),RANK(F54,$F$4:$F$100,1),COUNT($F$4:$F$100)+COUNTIFS($B$4:B54,"<>",$F$4:F54,"NP")))
A55: =IF(B55<>"",COUNTA('7-8 ml_kluci'!B4:B100)+COUNTIF(B$4:B55,"<>"),"") | F55: =IF(AND(OR(D55="NP",D55=""),OR(E55="NP",E55="")),IF(AND(D55="",E55=""),"",IF(OR(D55="NP",E55="NP"),"NP","")),IF(OR(D55="NP",D55=""),E55,IF(OR(E55="NP",E55=""),D55,MIN(D55,E55)))) | G55: =IF(OR(D55="",E55=""),"",IF(ISNUMBER(F55),RANK(F55,$F$4:$F$100,1),COUNT($F$4:$F$100)+COUNTIFS($B$4:B55,"<>",$F$4:F55,"NP")))
A56: =IF(B56<>"",COUNTA('7-8 ml_kluci'!B4:B100)+COUNTIF(B$4:B56,"<>"),"") | F56: =IF(AND(OR(D56="NP",D56=""),OR(E56="NP",E56="")),IF(AND(D56="",E56=""),"",IF(OR(D56="NP",E56="NP"),"NP","")),IF(OR(D56="NP",D56=""),E56,IF(OR(E56="NP",E56=""),D56,MIN(D56,E56)))) | G56: =IF(OR(D56="",E56=""),"",IF(ISNUMBER(F56),RANK(F56,$F$4:$F$100,1),COUNT($F$4:$F$100)+COUNTIFS($B$4:B56,"<>",$F$4:F56,"NP")))
A57: =IF(B57<>"",COUNTA('7-8 ml_kluci'!B4:B100)+COUNTIF(B$4:B57,"<>"),"") | F57: =IF(AND(OR(D57="NP",D57=""),OR(E57="NP",E57="")),IF(AND(D57="",E57=""),"",IF(OR(D57="NP",E57="NP"),"NP","")),IF(OR(D57="NP",D57=""),E57,IF(OR(E57="NP",E57=""),D57,MIN(D57,E57)))) | G57: =IF(OR(D57="",E57=""),"",IF(ISNUMBER(F57),RANK(F57,$F$4:$F$100,1),COUNT($F$4:$F$100)+COUNTIFS($B$4:B57,"<>",$F$4:F57,"NP")))
A58: =IF(B58<>"",COUNTA('7-8 ml_kluci'!B4:B100)+COUNTIF(B$4:B58,"<>"),"") | F58: =IF(AND(OR(D58="NP",D58=""),OR(E58="NP",E58="")),IF(AND(D58="",E58=""),"",IF(OR(D58="NP",E58="NP"),"NP","")),IF(OR(D58="NP",D58=""),E58,IF(OR(E58="NP",E58=""),D58,MIN(D58,E58)))) | G58: =IF(OR(D58="",E58=""),"",IF(ISNUMBER(F58),RANK(F58,$F$4:$F$100,1),COUNT($F$4:$F$100)+COUNTIFS($B$4:B58,"<>",$F$4:F58,"NP")))
A59: =IF(B59<>"",COUNTA('7-8 ml_kluci'!B4:B100)+COUNTIF(B$4:B59,"<>"),"") | F59: =IF(AND(OR(D59="NP",D59=""),OR(E59="NP",E59="")),IF(AND(D59="",E59=""),"",IF(OR(D59="NP",E59="NP"),"NP","")),IF(OR(D59="NP",D59=""),E59,IF(OR(E59="NP",E59=""),D59,MIN(D59,E59)))) | G59: =IF(OR(D59="",E59=""),"",IF(ISNUMBER(F59),RANK(F59,$F$4:$F$100,1),COUNT($F$4:$F$100)+COUNTIFS($B$4:B59,"<>",$F$4:F59,"NP")))
A60: =IF(B60<>"",COUNTA('7-8 ml_kluci'!B4:B100)+COUNTIF(B$4:B60,"<>"),"") | F60: =IF(AND(OR(D60="NP",D60=""),OR(E60="NP",E60="")),IF(AND(D60="",E60=""),"",IF(OR(D60="NP",E60="NP"),"NP","")),IF(OR(D60="NP",D60=""),E60,IF(OR(E60="NP",E60=""),D60,MIN(D60,E60)))) | G60: =IF(OR(D60="",E60=""),"",IF(ISNUMBER(F60),RANK(F60,$F$4:$F$100,1),COUNT($F$4:$F$100)+COUNTIFS($B$4:B60,"<>",$F$4:F60,"NP")))
A61: =IF(B61<>"",COUNTA('7-8 ml_kluci'!B4:B100)+COUNTIF(B$4:B61,"<>"),"") | F61: =IF(AND(OR(D61="NP",D61=""),OR(E61="NP",E61="")),IF(AND(D61="",E61=""),"",IF(OR(D61="NP",E61="NP"),"NP","")),IF(OR(D61="NP",D61=""),E61,IF(OR(E61="NP",E61=""),D61,MIN(D61,E61)))) | G61: =IF(OR(D61="",E61=""),"",IF(ISNUMBER(F61),RANK(F61,$F$4:$F$100,1),COUNT($F$4:$F$100)+COUNTIFS($B$4:B61,"<>",$F$4:F61,"NP")))
A62: =IF(B62<>"",COUNTA('7-8 ml_kluci'!B4:B100)+COUNTIF(B$4:B62,"<>"),"") | F62: =IF(AND(OR(D62="NP",D62=""),OR(E62="NP",E62="")),IF(AND(D62="",E62=""),"",IF(OR(D62="NP",E62="NP"),"NP","")),IF(OR(D62="NP",D62=""),E62,IF(OR(E62="NP",E62=""),D62,MIN(D62,E62)))) | G62: =IF(OR(D62="",E62=""),"",IF(ISNUMBER(F62),RANK(F62,$F$4:$F$100,1),COUNT($F$4:$F$100)+COUNTIFS($B$4:B62,"<>",$F$4:F62,"NP")))
A63: =IF(B63<>"",COUNTA('7-8 ml_kluci'!B4:B100)+COUNTIF(B$4:B63,"<>"),"") | F63: =IF(AND(OR(D63="NP",D63=""),OR(E63="NP",E63="")),IF(AND(D63="",E63=""),"",IF(OR(D63="NP",E63="NP"),"NP","")),IF(OR(D63="NP",D63=""),E63,IF(OR(E63="NP",E63=""),D63,MIN(D63,E63)))) | G63: =IF(OR(D63="",E63=""),"",IF(ISNUMBER(F63),RANK(F63,$F$4:$F$100,1),COUNT($F$4:$F$100)+COUNTIFS($B$4:B63,"<>",$F$4:F63,"NP")))
A64: =IF(B64<>"",COUNTA('7-8 ml_kluci'!B4:B100)+COUNTIF(B$4:B64,"<>"),"") | F64: =IF(AND(OR(D64="NP",D64=""),OR(E64="NP",E64="")),IF(AND(D64="",E64=""),"",IF(OR(D64="NP",E64="NP"),"NP","")),IF(OR(D64="NP",D64=""),E64,IF(OR(E64="NP",E64=""),D64,MIN(D64,E64)))) | G64: =IF(OR(D64="",E64=""),"",IF(ISNUMBER(F64),RANK(F64,$F$4:$F$100,1),COUNT($F$4:$F$100)+COUNTIFS($B$4:B64,"<>",$F$4:F64,"NP")))
A65: =IF(B65<>"",COUNTA('7-8 ml_kluci'!B4:B100)+COUNTIF(B$4:B65,"<>"),"") | F65: =IF(AND(OR(D65="NP",D65=""),OR(E65="NP",E65="")),IF(AND(D65="",E65=""),"",IF(OR(D65="NP",E65="NP"),"NP","")),IF(OR(D65="NP",D65=""),E65,IF(OR(E65="NP",E65=""),D65,MIN(D65,E65)))) | G65: =IF(OR(D65="",E65=""),"",IF(ISNUMBER(F65),RANK(F65,$F$4:$F$100,1),COUNT($F$4:$F$100)+COUNTIFS($B$4:B65,"<>",$F$4:F65,"NP")))
A66: =IF(B66<>"",COUNTA('7-8 ml_kluci'!B4:B100)+COUNTIF(B$4:B66,"<>"),"") | F66: =IF(AND(OR(D66="NP",D66=""),OR(E66="NP",E66="")),IF(AND(D66="",E66=""),"",IF(OR(D66="NP",E66="NP"),"NP","")),IF(OR(D66="NP",D66=""),E66,IF(OR(E66="NP",E66=""),D66,MIN(D66,E66)))) | G66: =IF(OR(D66="",E66=""),"",IF(ISNUMBER(F66),RANK(F66,$F$4:$F$100,1),COUNT($F$4:$F$100)+COUNTIFS($B$4:B66,"<>",$F$4:F66,"NP")))
A67: =IF(B67<>"",COUNTA('7-8 ml_kluci'!B4:B100)+COUNTIF(B$4:B67,"<>"),"") | F67: =IF(AND(OR(D67="NP",D67=""),OR(E67="NP",E67="")),IF(AND(D67="",E67=""),"",IF(OR(D67="NP",E67="NP"),"NP","")),IF(OR(D67="NP",D67=""),E67,IF(OR(E67="NP",E67=""),D67,MIN(D67,E67)))) | G67: =IF(OR(D67="",E67=""),"",IF(ISNUMBER(F67),RANK(F67,$F$4:$F$100,1),COUNT($F$4:$F$100)+COUNTIFS($B$4:B67,"<>",$F$4:F67,"NP")))
A68: =IF(B68<>"",COUNTA('7-8 ml_kluci'!B4:B100)+COUNTIF(B$4:B68,"<>"),"") | F68: =IF(AND(OR(D68="NP",D68=""),OR(E68="NP",E68="")),IF(AND(D68="",E68=""),"",IF(OR(D68="NP",E68="NP"),"NP","")),IF(OR(D68="NP",D68=""),E68,IF(OR(E68="NP",E68=""),D68,MIN(D68,E68)))) | G68: =IF(OR(D68="",E68=""),"",IF(ISNUMBER(F68),RANK(F68,$F$4:$F$100,1),COUNT($F$4:$F$100)+COUNTIFS($B$4:B68,"<>",$F$4:F68,"NP")))
A69: =IF(B69<>"",COUNTA('7-8 ml_kluci'!B4:B100)+COUNTIF(B$4:B69,"<>"),"") | F69: =IF(AND(OR(D69="NP",D69=""),OR(E69="NP",E69="")),IF(AND(D69="",E69=""),"",IF(OR(D69="NP",E69="NP"),"NP","")),IF(OR(D69="NP",D69=""),E69,IF(OR(E69="NP",E69=""),D69,MIN(D69,E69)))) | G69: =IF(OR(D69="",E69=""),"",IF(ISNUMBER(F69),RANK(F69,$F$4:$F$100,1),COUNT($F$4:$F$100)+COUNTIFS($B$4:B69,"<>",$F$4:F69,"NP")))
A70: =IF(B70<>"",COUNTA('7-8 ml_kluci'!B4:B100)+COUNTIF(B$4:B70,"<>"),"") | F70: =IF(AND(OR(D70="NP",D70=""),OR(E70="NP",E70="")),IF(AND(D70="",E70=""),"",IF(OR(D70="NP",E70="NP"),"NP","")),IF(OR(D70="NP",D70=""),E70,IF(OR(E70="NP",E70=""),D70,MIN(D70,E70)))) | G70: =IF(OR(D70="",E70=""),"",IF(ISNUMBER(F70),RANK(F70,$F$4:$F$100,1),COUNT($F$4:$F$100)+COUNTIFS($B$4:B70,"<>",$F$4:F70,"NP")))
A71: =IF(B71<>"",COUNTA('7-8 ml_kluci'!B4:B100)+COUNTIF(B$4:B71,"<>"),"") | F71: =IF(AND(OR(D71="NP",D71=""),OR(E71="NP",E71="")),IF(AND(D71="",E71=""),"",IF(OR(D71="NP",E71="NP"),"NP","")),IF(OR(D71="NP",D71=""),E71,IF(OR(E71="NP",E71=""),D71,MIN(D71,E71)))) | G71: =IF(OR(D71="",E71=""),"",IF(ISNUMBER(F71),RANK(F71,$F$4:$F$100,1),COUNT($F$4:$F$100)+COUNTIFS($B$4:B71,"<>",$F$4:F71,"NP")))
A72: =IF(B72<>"",COUNTA('7-8 ml_kluci'!B4:B100)+COUNTIF(B$4:B72,"<>"),"") | F72: =IF(AND(OR(D72="NP",D72=""),OR(E72="NP",E72="")),IF(AND(D72="",E72=""),"",IF(OR(D72="NP",E72="NP"),"NP","")),IF(OR(D72="NP",D72=""),E72,IF(OR(E72="NP",E72=""),D72,MIN(D72,E72)))) | G72: =IF(OR(D72="",E72=""),"",IF(ISNUMBER(F72),RANK(F72,$F$4:$F$100,1),COUNT($F$4:$F$100)+COUNTIFS($B$4:B72,"<>",$F$4:F72,"NP")))
A73: =IF(B73<>"",COUNTA('7-8 ml_kluci'!B4:B100)+COUNTIF(B$4:B73,"<>"),"") | F73: =IF(AND(OR(D73="NP",D73=""),OR(E73="NP",E73="")),IF(AND(D73="",E73=""),"",IF(OR(D73="NP",E73="NP"),"NP","")),IF(OR(D73="NP",D73=""),E73,IF(OR(E73="NP",E73=""),D73,MIN(D73,E73)))) | G73: =IF(OR(D73="",E73=""),"",IF(ISNUMBER(F73),RANK(F73,$F$4:$F$100,1),COUNT($F$4:$F$100)+COUNTIFS($B$4:B73,"<>",$F$4:F73,"NP")))
A74: =IF(B74<>"",COUNTA('7-8 ml_kluci'!B4:B100)+COUNTIF(B$4:B74,"<>"),"") | F74: =IF(AND(OR(D74="NP",D74=""),OR(E74="NP",E74="")),IF(AND(D74="",E74=""),"",IF(OR(D74="NP",E74="NP"),"NP","")),IF(OR(D74="NP",D74=""),E74,IF(OR(E74="NP",E74=""),D74,MIN(D74,E74)))) | G74: =IF(OR(D74="",E74=""),"",IF(ISNUMBER(F74),RANK(F74,$F$4:$F$100,1),COUNT($F$4:$F$100)+COUNTIFS($B$4:B74,"<>",$F$4:F74,"NP")))
A75: =IF(B75<>"",COUNTA('7-8 ml_kluci'!B4:B100)+COUNTIF(B$4:B75,"<>"),"") | F75: =IF(AND(OR(D75="NP",D75=""),OR(E75="NP",E75="")),IF(AND(D75="",E75=""),"",IF(OR(D75="NP",E75="NP"),"NP","")),IF(OR(D75="NP",D75=""),E75,IF(OR(E75="NP",E75=""),D75,MIN(D75,E75)))) | G75: =IF(OR(D75="",E75=""),"",IF(ISNUMBER(F75),RANK(F75,$F$4:$F$100,1),COUNT($F$4:$F$100)+COUNTIFS($B$4:B75,"<>",$F$4:F75,"NP")))
A76: =IF(B76<>"",COUNTA('7-8 ml_kluci'!B4:B100)+COUNTIF(B$4:B76,"<>"),"") | F76: =IF(AND(OR(D76="NP",D76=""),OR(E76="NP",E76="")),IF(AND(D76="",E76=""),"",IF(OR(D76="NP",E76="NP"),"NP","")),IF(OR(D76="NP",D76=""),E76,IF(OR(E76="NP",E76=""),D76,MIN(D76,E76)))) | G76: =IF(OR(D76="",E76=""),"",IF(ISNUMBER(F76),RANK(F76,$F$4:$F$100,1),COUNT($F$4:$F$100)+COUNTIFS($B$4:B76,"<>",$F$4:F76,"NP")))
A77: =IF(B77<>"",COUNTA('7-8 ml_kluci'!B4:B100)+COUNTIF(B$4:B77,"<>"),"") | F77: =IF(AND(OR(D77="NP",D77=""),OR(E77="NP",E77="")),IF(AND(D77="",E77=""),"",IF(OR(D77="NP",E77="NP"),"NP","")),IF(OR(D77="NP",D77=""),E77,IF(OR(E77="NP",E77=""),D77,MIN(D77,E77)))) | G77: =IF(OR(D77="",E77=""),"",IF(ISNUMBER(F77),RANK(F77,$F$4:$F$100,1),COUNT($F$4:$F$100)+COUNTIFS($B$4:B77,"<>",$F$4:F77,"NP")))
A78: =IF(B78<>"",COUNTA('7-8 ml_kluci'!B4:B100)+COUNTIF(B$4:B78,"<>"),"") | F78: =IF(AND(OR(D78="NP",D78=""),OR(E78="NP",E78="")),IF(AND(D78="",E78=""),"",IF(OR(D78="NP",E78="NP"),"NP","")),IF(OR(D78="NP",D78=""),E78,IF(OR(E78="NP",E78=""),D78,MIN(D78,E78)))) | G78: =IF(OR(D78="",E78=""),"",IF(ISNUMBER(F78),RANK(F78,$F$4:$F$100,1),COUNT($F$4:$F$100)+COUNTIFS($B$4:B78,"<>",$F$4:F78,"NP")))
A79: =IF(B79<>"",COUNTA('7-8 ml_kluci'!B4:B100)+COUNTIF(B$4:B79,"<>"),"") | F79: =IF(AND(OR(D79="NP",D79=""),OR(E79="NP",E79="")),IF(AND(D79="",E79=""),"",IF(OR(D79="NP",E79="NP"),"NP","")),IF(OR(D79="NP",D79=""),E79,IF(OR(E79="NP",E79=""),D79,MIN(D79,E79)))) | G79: =IF(OR(D79="",E79=""),"",IF(ISNUMBER(F79),RANK(F79,$F$4:$F$100,1),COUNT($F$4:$F$100)+COUNTIFS($B$4:B79,"<>",$F$4:F79,"NP")))
A80: =IF(B80<>"",COUNTA('7-8 ml_kluci'!B4:B100)+COUNTIF(B$4:B80,"<>"),"") | F80: =IF(AND(OR(D80="NP",D80=""),OR(E80="NP",E80="")),IF(AND(D80="",E80=""),"",IF(OR(D80="NP",E80="NP"),"NP","")),IF(OR(D80="NP",D80=""),E80,IF(OR(E80="NP",E80=""),D80,MIN(D80,E80)))) | G80: =IF(OR(D80="",E80=""),"",IF(ISNUMBER(F80),RANK(F80,$F$4:$F$100,1),COUNT($F$4:$F$100)+COUNTIFS($B$4:B80,"<>",$F$4:F80,"NP")))
A81: =IF(B81<>"",COUNTA('7-8 ml_kluci'!B4:B100)+COUNTIF(B$4:B81,"<>"),"") | F81: =IF(AND(OR(D81="NP",D81=""),OR(E81="NP",E81="")),IF(AND(D81="",E81=""),"",IF(OR(D81="NP",E81="NP"),"NP","")),IF(OR(D81="NP",D81=""),E81,IF(OR(E81="NP",E81=""),D81,MIN(D81,E81)))) | G81: =IF(OR(D81="",E81=""),"",IF(ISNUMBER(F81),RANK(F81,$F$4:$F$100,1),COUNT($F$4:$F$100)+COUNTIFS($B$4:B81,"<>",$F$4:F81,"NP")))
A82: =IF(B82<>"",COUNTA('7-8 ml_kluci'!B4:B100)+COUNTIF(B$4:B82,"<>"),"") | F82: =IF(AND(OR(D82="NP",D82=""),OR(E82="NP",E82="")),IF(AND(D82="",E82=""),"",IF(OR(D82="NP",E82="NP"),"NP","")),IF(OR(D82="NP",D82=""),E82,IF(OR(E82="NP",E82=""),D82,MIN(D82,E82)))) | G82: =IF(OR(D82="",E82=""),"",IF(ISNUMBER(F82),RANK(F82,$F$4:$F$100,1),COUNT($F$4:$F$100)+COUNTIFS($B$4:B82,"<>",$F$4:F82,"NP")))
A83: =IF(B83<>"",COUNTA('7-8 ml_kluci'!B4:B100)+COUNTIF(B$4:B83,"<>"),"") | F83: =IF(AND(OR(D83="NP",D83=""),OR(E83="NP",E83="")),IF(AND(D83="",E83=""),"",IF(OR(D83="NP",E83="NP"),"NP","")),IF(OR(D83="NP",D83=""),E83,IF(OR(E83="NP",E83=""),D83,MIN(D83,E83)))) | G83: =IF(OR(D83="",E83=""),"",IF(ISNUMBER(F83),RANK(F83,$F$4:$F$100,1),COUNT($F$4:$F$100)+COUNTIFS($B$4:B83,"<>",$F$4:F83,"NP")))
A84: =IF(B84<>"",COUNTA('7-8 ml_kluci'!B4:B100)+COUNTIF(B$4:B84,"<>"),"") | F84: =IF(AND(OR(D84="NP",D84=""),OR(E84="NP",E84="")),IF(AND(D84="",E84=""),"",IF(OR(D84="NP",E84="NP"),"NP","")),IF(OR(D84="NP",D84=""),E84,IF(OR(E84="NP",E84=""),D84,MIN(D84,E84)))) | G84: =IF(OR(D84="",E84=""),"",IF(ISNUMBER(F84),RANK(F84,$F$4:$F$100,1),COUNT($F$4:$F$100)+COUNTIFS($B$4:B84,"<>",$F$4:F84,"NP")))
A85: =IF(B85<>"",COUNTA('7-8 ml_kluci'!B4:B100)+COUNTIF(B$4:B85,"<>"),"") | F85: =IF(AND(OR(D85="NP",D85=""),OR(E85="NP",E85="")),IF(AND(D85="",E85=""),"",IF(OR(D85="NP",E85="NP"),"NP","")),IF(OR(D85="NP",D85=""),E85,IF(OR(E85="NP",E85=""),D85,MIN(D85,E85)))) | G85: =IF(OR(D85="",E85=""),"",IF(ISNUMBER(F85),RANK(F85,$F$4:$F$100,1),COUNT($F$4:$F$100)+COUNTIFS($B$4:B85,"<>",$F$4:F85,"NP")))
A86: =IF(B86<>"",COUNTA('7-8 ml_kluci'!B4:B100)+COUNTIF(B$4:B86,"<>"),"") | F86: =IF(AND(OR(D86="NP",D86=""),OR(E86="NP",E86="")),IF(AND(D86="",E86=""),"",IF(OR(D86="NP",E86="NP"),"NP","")),IF(OR(D86="NP",D86=""),E86,IF(OR(E86="NP",E86=""),D86,MIN(D86,E86)))) | G86: =IF(OR(D86="",E86=""),"",IF(ISNUMBER(F86),RANK(F86,$F$4:$F$100,1),COUNT($F$4:$F$100)+COUNTIFS($B$4:B86,"<>",$F$4:F86,"NP")))
A87: =IF(B87<>"",COUNTA('7-8 ml_kluci'!B4:B100)+COUNTIF(B$4:B87,"<>"),"") | F87: =IF(AND(OR(D87="NP",D87=""),OR(E87="NP",E87="")),IF(AND(D87="",E87=""),"",IF(OR(D87="NP",E87="NP"),"NP","")),IF(OR(D87="NP",D87=""),E87,IF(OR(E87="NP",E87=""),D87,MIN(D87,E87)))) | G87: =IF(OR(D87="",E87=""),"",IF(ISNUMBER(F87),RANK(F87,$F$4:$F$100,1),COUNT($F$4:$F$100)+COUNTIFS($B$4:B87,"<>",$F$4:F87,"NP")))
A88: =IF(B88<>"",COUNTA('7-8 ml_kluci'!B4:B100)+COUNTIF(B$4:B88,"<>"),"") | F88: =IF(AND(OR(D88="NP",D88=""),OR(E88="NP",E88="")),IF(AND(D88="",E88=""),"",IF(OR(D88="NP",E88="NP"),"NP","")),IF(OR(D88="NP",D88=""),E88,IF(OR(E88="NP",E88=""),D88,MIN(D88,E88)))) | G88: =IF(OR(D88="",E88=""),"",IF(ISNUMBER(F88),RANK(F88,$F$4:$F$100,1),COUNT($F$4:$F$100)+COUNTIFS($B$4:B88,"<>",$F$4:F88,"NP")))
A89: =IF(B89<>"",COUNTA('7-8 ml_kluci'!B4:B100)+COUNTIF(B$4:B89,"<>"),"") | F89: =IF(AND(OR(D89="NP",D89=""),OR(E89="NP",E89="")),IF(AND(D89="",E89=""),"",IF(OR(D89="NP",E89="NP"),"NP","")),IF(OR(D89="NP",D89=""),E89,IF(OR(E89="NP",E89=""),D89,MIN(D89,E89)))) | G89: =IF(OR(D89="",E89=""),"",IF(ISNUMBER(F89),RANK(F89,$F$4:$F$100,1),COUNT($F$4:$F$100)+COUNTIFS($B$4:B89,"<>",$F$4:F89,"NP")))
A90: =IF(B90<>"",COUNTA('7-8 ml_kluci'!B4:B100)+COUNTIF(B$4:B90,"<>"),"") | F90: =IF(AND(OR(D90="NP",D90=""),OR(E90="NP",E90="")),IF(AND(D90="",E90=""),"",IF(OR(D90="NP",E90="NP"),"NP","")),IF(OR(D90="NP",D90=""),E90,IF(OR(E90="NP",E90=""),D90,MIN(D90,E90)))) | G90: =IF(OR(D90="",E90=""),"",IF(ISNUMBER(F90),RANK(F90,$F$4:$F$100,1),COUNT($F$4:$F$100)+COUNTIFS($B$4:B90,"<>",$F$4:F90,"NP")))
A91: =IF(B91<>"",COUNTA('7-8 ml_kluci'!B4:B100)+COUNTIF(B$4:B91,"<>"),"") | F91: =IF(AND(OR(D91="NP",D91=""),OR(E91="NP",E91="")),IF(AND(D91="",E91=""),"",IF(OR(D91="NP",E91="NP"),"NP","")),IF(OR(D91="NP",D91=""),E91,IF(OR(E91="NP",E91=""),D91,MIN(D91,E91)))) | G91: =IF(OR(D91="",E91=""),"",IF(ISNUMBER(F91),RANK(F91,$F$4:$F$100,1),COUNT($F$4:$F$100)+COUNTIFS($B$4:B91,"<>",$F$4:F91,"NP")))
A92: =IF(B92<>"",COUNTA('7-8 ml_kluci'!B4:B100)+COUNTIF(B$4:B92,"<>"),"") | F92: =IF(AND(OR(D92="NP",D92=""),OR(E92="NP",E92="")),IF(AND(D92="",E92=""),"",IF(OR(D92="NP",E92="NP"),"NP","")),IF(OR(D92="NP",D92=""),E92,IF(OR(E92="NP",E92=""),D92,MIN(D92,E92)))) | G92: =IF(OR(D92="",E92=""),"",IF(ISNUMBER(F92),RANK(F92,$F$4:$F$100,1),COUNT($F$4:$F$100)+COUNTIFS($B$4:B92,"<>",$F$4:F92,"NP")))
A93: =IF(B93<>"",COUNTA('7-8 ml_kluci'!B4:B100)+COUNTIF(B$4:B93,"<>"),"") | F93: =IF(AND(OR(D93="NP",D93=""),OR(E93="NP",E93="")),IF(AND(D93="",E93=""),"",IF(OR(D93="NP",E93="NP"),"NP","")),IF(OR(D93="NP",D93=""),E93,IF(OR(E93="NP",E93=""),D93,MIN(D93,E93)))) | G93: =IF(OR(D93="",E93=""),"",IF(ISNUMBER(F93),RANK(F93,$F$4:$F$100,1),COUNT($F$4:$F$100)+COUNTIFS($B$4:B93,"<>",$F$4:F93,"NP")))
A94: =IF(B94<>"",COUNTA('7-8 ml_kluci'!B4:B100)+COUNTIF(B$4:B94,"<>"),"") | F94: =IF(AND(OR(D94="NP",D94=""),OR(E94="NP",E94="")),IF(AND(D94="",E94=""),"",IF(OR(D94="NP",E94="NP"),"NP","")),IF(OR(D94="NP",D94=""),E94,IF(OR(E94="NP",E94=""),D94,MIN(D94,E94)))) | G94: =IF(OR(D94="",E94=""),"",IF(ISNUMBER(F94),RANK(F94,$F$4:$F$100,1),COUNT($F$4:$F$100)+COUNTIFS($B$4:B94,"<>",$F$4:F94,"NP")))
A95: =IF(B95<>"",COUNTA('7-8 ml_kluci'!B4:B100)+COUNTIF(B$4:B95,"<>"),"") | F95: =IF(AND(OR(D95="NP",D95=""),OR(E95="NP",E95="")),IF(AND(D95="",E95=""),"",IF(OR(D95="NP",E95="NP"),"NP","")),IF(OR(D95="NP",D95=""),E95,IF(OR(E95="NP",E95=""),D95,MIN(D95,E95)))) | G95: =IF(OR(D95="",E95=""),"",IF(ISNUMBER(F95),RANK(F95,$F$4:$F$100,1),COUNT($F$4:$F$100)+COUNTIFS($B$4:B95,"<>",$F$4:F95,"NP")))
A96: =IF(B96<>"",COUNTA('7-8 ml_kluci'!B4:B100)+COUNTIF(B$4:B96,"<>"),"") | F96: =IF(AND(OR(D96="NP",D96=""),OR(E96="NP",E96="")),IF(AND(D96="",E96=""),"",IF(OR(D96="NP",E96="NP"),"NP","")),IF(OR(D96="NP",D96=""),E96,IF(OR(E96="NP",E96=""),D96,MIN(D96,E96)))) | G96: =IF(OR(D96="",E96=""),"",IF(ISNUMBER(F96),RANK(F96,$F$4:$F$100,1),COUNT($F$4:$F$100)+COUNTIFS($B$4:B96,"<>",$F$4:F96,"NP")))
A97: =IF(B97<>"",COUNTA('7-8 ml_kluci'!B4:B100)+COUNTIF(B$4:B97,"<>"),"") | F97: =IF(AND(OR(D97="NP",D97=""),OR(E97="NP",E97="")),IF(AND(D97="",E97=""),"",IF(OR(D97="NP",E97="NP"),"NP","")),IF(OR(D97="NP",D97=""),E97,IF(OR(E97="NP",E97=""),D97,MIN(D97,E97)))) | G97: =IF(OR(D97="",E97=""),"",IF(ISNUMBER(F97),RANK(F97,$F$4:$F$100,1),COUNT($F$4:$F$100)+COUNTIFS($B$4:B97,"<>",$F$4:F97,"NP")))
A98: =IF(B98<>"",COUNTA('7-8 ml_kluci'!B4:B100)+COUNTIF(B$4:B98,"<>"),"") | F98: =IF(AND(OR(D98="NP",D98=""),OR(E98="NP",E98="")),IF(AND(D98="",E98=""),"",IF(OR(D98="NP",E98="NP"),"NP","")),IF(OR(D98="NP",D98=""),E98,IF(OR(E98="NP",E98=""),D98,MIN(D98,E98)))) | G98: =IF(OR(D98="",E98=""),"",IF(ISNUMBER(F98),RANK(F98,$F$4:$F$100,1),COUNT($F$4:$F$100)+COUNTIFS($B$4:B98,"<>",$F$4:F98,"NP")))
A99: =IF(B99<>"",COUNTA('7-8 ml_kluci'!B4:B100)+COUNTIF(B$4:B99,"<>"),"") | F99: =IF(AND(OR(D99="NP",D99=""),OR(E99="NP",E99="")),IF(AND(D99="",E99=""),"",IF(OR(D99="NP",E99="NP"),"NP","")),IF(OR(D99="NP",D99=""),E99,IF(OR(E99="NP",E99=""),D99,MIN(D99,E99)))) | G99: =IF(OR(D99="",E99=""),"",IF(ISNUMBER(F99),RANK(F99,$F$4:$F$100,1),COUNT($F$4:$F$100)+COUNTIFS($B$4:B99,"<>",$F$4:F99,"NP")))
A100: =IF(B100<>"",COUNTA('7-8 ml_kluci'!B4:B100)+COUNTIF(B$4:B100,"<>"),"") | F100: =IF(AND(OR(D100="NP",D100=""),OR(E100="NP",E100="")),IF(AND(D100="",E100=""),"",IF(OR(D100="NP",E100="NP"),"NP","")),IF(OR(D100="NP",D100=""),E100,IF(OR(E100="NP",E100=""),D100,MIN(D100,E100)))) | G100: =IF(OR(D100="",E100=""),"",IF(ISNUMBER(F100),RANK(F100,$F$4:$F$100,1),COUNT($F$4:$F$100)+COUNTIFS($B$4:B100,"<>",$F$4:F100,"NP")))

Sheet 9-11 ml_kluci
A1: Běh na 60 m s překážkami - Rohatec 23. 5. 2026
A2: Kategorie 9-11 mladší žáci - kluci | D2: 9-11 LET
A3: St. č. | B3: Příjmení a jméno | C3: SDH | D3: 1. pokus | E3: 2. pokus | F3: Výsl. čas | G3: Pořadí
A4: 26 | B4: Slezák Adam | C4: Miroslav | D4: 17.43 | E4: 18 | F4: =IF(AND(OR(D4="NP",D4=""),OR(E4="NP",E4="")),IF(AND(D4="",E4=""),"",IF(OR(D4="NP",E4="NP"),"NP","")),IF(OR(D4="NP",D4=""),E4,IF(OR(E4="NP",E4=""),D4,MIN(D4,E4)))) -> 17.43 | G4: =IF(OR(D4="",E4=""),"",IF(ISNUMBER(F4),RANK(F4,$F$4:$F$100,1),COUNT($F$4:$F$100)+COUNTIFS($B$4:B4,"<>",$F$4:F4,"NP"))) -> 4
A5: 27 | B5: Posnik Jaromír | C5: Vracov | D5: 22.92 | E5: 26.57 | F5: =IF(AND(OR(D5="NP",D5=""),OR(E5="NP",E5="")),IF(AND(D5="",E5=""),"",IF(OR(D5="NP",E5="NP"),"NP","")),IF(OR(D5="NP",D5=""),E5,IF(OR(E5="NP",E5=""),D5,MIN(D5,E5)))) -> 22.92 | G5: =IF(OR(D5="",E5=""),"",IF(ISNUMBER(F5),RANK(F5,$F$4:$F$100,1),COUNT($F$4:$F$100)+COUNTIFS($B$4:B5,"<>",$F$4:F5,"NP"))) -> 15
A6: 28 | B6: Míšek Martin | C6: Blatnice p. Sv. A. | D6: 15.94 | E6: 16.6 | F6: =IF(AND(OR(D6="NP",D6=""),OR(E6="NP",E6="")),IF(AND(D6="",E6=""),"",IF(OR(D6="NP",E6="NP"),"NP","")),IF(OR(D6="NP",D6=""),E6,IF(OR(E6="NP",E6=""),D6,MIN(D6,E6)))) -> 15.94 | G6: =IF(OR(D6="",E6=""),"",IF(ISNUMBER(F6),RANK(F6,$F$4:$F$100,1),COUNT($F$4:$F$100)+COUNTIFS($B$4:B6,"<>",$F$4:F6,"NP"))) -> 1
A7: 29 | B7: Ďuračka Marek | C7: Velká nad Veličkou | D7: 22.32 | E7: 27.24 | F7: =IF(AND(OR(D7="NP",D7=""),OR(E7="NP",E7="")),IF(AND(D7="",E7=""),"",IF(OR(D7="NP",E7="NP"),"NP","")),IF(OR(D7="NP",D7=""),E7,IF(OR(E7="NP",E7=""),D7,MIN(D7,E7)))) -> 22.32 | G7: =IF(OR(D7="",E7=""),"",IF(ISNUMBER(F7),RANK(F7,$F$4:$F$100,1),COUNT($F$4:$F$100)+COUNTIFS($B$4:B7,"<>",$F$4:F7,"NP"))) -> 13
A8: 30 | B8: Ševčík Štěpán | C8: Miroslav | D8: 41.08 | E8: 19 | F8: =IF(AND(OR(D8="NP",D8=""),OR(E8="NP",E8="")),IF(AND(D8="",E8=""),"",IF(OR(D8="NP",E8="NP"),"NP","")),IF(OR(D8="NP",D8=""),E8,IF(OR(E8="NP",E8=""),D8,MIN(D8,E8)))) -> 19 | G8: =IF(OR(D8="",E8=""),"",IF(ISNUMBER(F8),RANK(F8,$F$4:$F$100,1),COUNT($F$4:$F$100)+COUNTIFS($B$4:B8,"<>",$F$4:F8,"NP"))) -> 7
A9: 31 | B9: Fridrich Ondřej | C9: Vracov | D9: 23.97 | E9: 21.72 | F9: =IF(AND(OR(D9="NP",D9=""),OR(E9="NP",E9="")),IF(AND(D9="",E9=""),"",IF(OR(D9="NP",E9="NP"),"NP","")),IF(OR(D9="NP",D9=""),E9,IF(OR(E9="NP",E9=""),D9,MIN(D9,E9)))) -> 21.72 | G9: =IF(OR(D9="",E9=""),"",IF(ISNUMBER(F9),RANK(F9,$F$4:$F$100,1),COUNT($F$4:$F$100)+COUNTIFS($B$4:B9,"<>",$F$4:F9,"NP"))) -> 12
A10: 32 | B10: Urbánek Matěj | C10: Blatnice p. Sv. A. | D10: 19.79 | E10: 21.59 | F10: =IF(AND(OR(D10="NP",D10=""),OR(E10="NP",E10="")),IF(AND(D10="",E10=""),"",IF(OR(D10="NP",E10="NP"),"NP","")),IF(OR(D10="NP",D10=""),E10,IF(OR(E10="NP",E10=""),D10,MIN(D10,E10)))) -> 19.79 | G10: =IF(OR(D10="",E10=""),"",IF(ISNUMBER(F10),RANK(F10,$F$4:$F$100,1),COUNT($F$4:$F$100)+COUNTIFS($B$4:B10,"<>",$F$4:F10,"NP"))) -> 9
A11: 33 | B11: Hnilica Jakub | C11: Rohatec | D11: 21.43 | E11: 25.16 | F11: =IF(AND(OR(D11="NP",D11=""),OR(E11="NP",E11="")),IF(AND(D11="",E11=""),"",IF(OR(D11="NP",E11="NP"),"NP","")),IF(OR(D11="NP",D11=""),E11,IF(OR(E11="NP",E11=""),D11,MIN(D11,E11)))) -> 21.43 | G11: =IF(OR(D11="",E11=""),"",IF(ISNUMBER(F11),RANK(F11,$F$4:$F$100,1),COUNT($F$4:$F$100)+COUNTIFS($B$4:B11,"<>",$F$4:F11,"NP"))) -> 11
A12: 34 | B12: Krbálek Ivan | C12: Miroslav | D12: 20.52 | E12: 17.62 | F12: =IF(AND(OR(D12="NP",D12=""),OR(E12="NP",E12="")),IF(AND(D12="",E12=""),"",IF(OR(D12="NP",E12="NP"),"NP","")),IF(OR(D12="NP",D12=""),E12,IF(OR(E12="NP",E12=""),D12,MIN(D12,E12)))) -> 17.62 | G12: =IF(OR(D12="",E12=""),"",IF(ISNUMBER(F12),RANK(F12,$F$4:$F$100,1),COUNT($F$4:$F$100)+COUNTIFS($B$4:B12,"<>",$F$4:F12,"NP"))) -> 5
A13: 35 | B13: Ingr Adam | C13: Vlkoš | D13: 21.26 | E13: 21.3 | F13: =IF(AND(OR(D13="NP",D13=""),OR(E13="NP",E13="")),IF(AND(D13="",E13=""),"",IF(OR(D13="NP",E13="NP"),"NP","")),IF(OR(D13="NP",D13=""),E13,IF(OR(E13="NP",E13=""),D13,MIN(D13,E13)))) -> 21.26 | G13: =IF(OR(D13="",E13=""),"",IF(ISNUMBER(F13),RANK(F13,$F$4:$F$100,1),COUNT($F$4:$F$100)+COUNTIFS($B$4:B13,"<>",$F$4:F13,"NP"))) -> 10
A14: 36 | B14: Macek Josef | C14: Blatnice p. Sv. A. | D14: 19.91 | E14: 18.54 | F14: =IF(AND(OR(D14="NP",D14=""),OR(E14="NP",E14="")),IF(AND(D14="",E14=""),"",IF(OR(D14="NP",E14="NP"),"NP","")),IF(OR(D14="NP",D14=""),E14,IF(OR(E14="NP",E14=""),D14,MIN(D14,E14)))) -> 18.54 | G14: =IF(OR(D14="",E14=""),"",IF(ISNUMBER(F14),RANK(F14,$F$4:$F$100,1),COUNT($F$4:$F$100)+COUNTIFS($B$4:B14,"<>",$F$4:F14,"NP"))) -> 6
A15: 37 | B15: Matěj Tobias | C15: Rohatec | D15: 32 | E15: 33.66 | F15: =IF(AND(OR(D15="NP",D15=""),OR(E15="NP",E15="")),IF(AND(D15="",E15=""),"",IF(OR(D15="NP",E15="NP"),"NP","")),IF(OR(D15="NP",D15=""),E15,IF(OR(E15="NP",E15=""),D15,MIN(D15,E15)))) -> 32 | G15: =IF(OR(D15="",E15=""),"",IF(ISNUMBER(F15),RANK(F15,$F$4:$F$100,1),COUNT($F$4:$F$100)+COUNTIFS($B$4:B15,"<>",$F$4:F15,"NP"))) -> 18
... A19: 41 | B19: Urbánek Lukáš | C19: Miroslav | D19: 20.58 | E19: 16.75 | F19: =IF(AND(OR(D19="NP",D19=""),OR(E19="NP",E19="")),IF(AND(D19="",E19=""),"",IF(OR(D19="NP",E19="NP"),"NP","")),IF(OR(D19="NP",D19=""),E19,IF(OR(E19="NP",E19=""),D19,MIN(D19,E19)))) -> 16.75 | G19: =IF(OR(D19="",E19=""),"",IF(ISNUMBER(F19),RANK(F19,$F$4:$F$100,1),COUNT($F$4:$F$100)+COUNTIFS($B$4:B19,"<>",$F$4:F19,"NP"))) -> 3
A20: 42 | B20: Piňos Svatopluk | C20: Želetice | D20: 25.9 | E20: NP | F20: =IF(AND(OR(D20="NP",D20=""),OR(E20="NP",E20="")),IF(AND(D20="",E20=""),"",IF(OR(D20="NP",E20="NP"),"NP","")),IF(OR(D20="NP",D20=""),E20,IF(OR(E20="NP",E20=""),D20,MIN(D20,E20)))) -> 25.9 | G20: =IF(OR(D20="",E20=""),"",IF(ISNUMBER(F20),RANK(F20,$F$4:$F$100,1),COUNT($F$4:$F$100)+COUNTIFS($B$4:B20,"<>",$F$4:F20,"NP"))) -> 17
A21: 43 | B21: Spazier Sebastian | C21: Velká nad Veličkou | D21: 16.52 | E21: 20.71 | F21: =IF(AND(OR(D21="NP",D21=""),OR(E21="NP",E21="")),IF(AND(D21="",E21=""),"",IF(OR(D21="NP",E21="NP"),"NP","")),IF(OR(D21="NP",D21=""),E21,IF(OR(E21="NP",E21=""),D21,MIN(D21,E21)))) -> 16.52 | G21: =IF(OR(D21="",E21=""),"",IF(ISNUMBER(F21),RANK(F21,$F$4:$F$100,1),COUNT($F$4:$F$100)+COUNTIFS($B$4:B21,"<>",$F$4:F21,"NP"))) -> 2
A22: 44 | F22: =IF(AND(OR(D22="NP",D22=""),OR(E22="NP",E22="")),IF(AND(D22="",E22=""),"",IF(OR(D22="NP",E22="NP"),"NP","")),IF(OR(D22="NP",D22=""),E22,IF(OR(E22="NP",E22=""),D22,MIN(D22,E22)))) | G22: =IF(OR(D22="",E22=""),"",IF(ISNUMBER(F22),RANK(F22,$F$4:$F$100,1),COUNT($F$4:$F$100)+COUNTIFS($B$4:B22,"<>",$F$4:F22,"NP")))
A23: 45 | F23: =IF(AND(OR(D23="NP",D23=""),OR(E23="NP",E23="")),IF(AND(D23="",E23=""),"",IF(OR(D23="NP",E23="NP"),"NP","")),IF(OR(D23="NP",D23=""),E23,IF(OR(E23="NP",E23=""),D23,MIN(D23,E23)))) | G23: =IF(OR(D23="",E23=""),"",IF(ISNUMBER(F23),RANK(F23,$F$4:$F$100,1),COUNT($F$4:$F$100)+COUNTIFS($B$4:B23,"<>",$F$4:F23,"NP")))
A24: 46 | F24: =IF(AND(OR(D24="NP",D24=""),OR(E24="NP",E24="")),IF(AND(D24="",E24=""),"",IF(OR(D24="NP",E24="NP"),"NP","")),IF(OR(D24="NP",D24=""),E24,IF(OR(E24="NP",E24=""),D24,MIN(D24,E24)))) | G24: =IF(OR(D24="",E24=""),"",IF(ISNUMBER(F24),RANK(F24,$F$4:$F$100,1),COUNT($F$4:$F$100)+COUNTIFS($B$4:B24,"<>",$F$4:F24,"NP")))
A25: 47 | F25: =IF(AND(OR(D25="NP",D25=""),OR(E25="NP",E25="")),IF(AND(D25="",E25=""),"",IF(OR(D25="NP",E25="NP"),"NP","")),IF(OR(D25="NP",D25=""),E25,IF(OR(E25="NP",E25=""),D25,MIN(D25,E25)))) | G25: =IF(OR(D25="",E25=""),"",IF(ISNUMBER(F25),RANK(F25,$F$4:$F$100,1),COUNT($F$4:$F$100)+COUNTIFS($B$4:B25,"<>",$F$4:F25,"NP")))
A26: 48 | F26: =IF(AND(OR(D26="NP",D26=""),OR(E26="NP",E26="")),IF(AND(D26="",E26=""),"",IF(OR(D26="NP",E26="NP"),"NP","")),IF(OR(D26="NP",D26=""),E26,IF(OR(E26="NP",E26=""),D26,MIN(D26,E26)))) | G26: =IF(OR(D26="",E26=""),"",IF(ISNUMBER(F26),RANK(F26,$F$4:$F$100,1),COUNT($F$4:$F$100)+COUNTIFS($B$4:B26,"<>",$F$4:F26,"NP")))
A27: 49 | F27: =IF(AND(OR(D27="NP",D27=""),OR(E27="NP",E27="")),IF(AND(D27="",E27=""),"",IF(OR(D27="NP",E27="NP"),"NP","")),IF(OR(D27="NP",D27=""),E27,IF(OR(E27="NP",E27=""),D27,MIN(D27,E27)))) | G27: =IF(OR(D27="",E27=""),"",IF(ISNUMBER(F27),RANK(F27,$F$4:$F$100,1),COUNT($F$4:$F$100)+COUNTIFS($B$4:B27,"<>",$F$4:F27,"NP")))
A28: 50 | F28: =IF(AND(OR(D28="NP",D28=""),OR(E28="NP",E28="")),IF(AND(D28="",E28=""),"",IF(OR(D28="NP",E28="NP"),"NP","")),IF(OR(D28="NP",D28=""),E28,IF(OR(E28="NP",E28=""),D28,MIN(D28,E28)))) | G28: =IF(OR(D28="",E28=""),"",IF(ISNUMBER(F28),RANK(F28,$F$4:$F$100,1),COUNT($F$4:$F$100)+COUNTIFS($B$4:B28,"<>",$F$4:F28,"NP")))
A29: =IF(B29<>"",COUNTA('7-8 ml_kluci'!B4:B100)+COUNTA('7-8 ml_holky'!B4:B100)+COUNTIF(B$4:B29,"<>"),"") | F29: =IF(AND(OR(D29="NP",D29=""),OR(E29="NP",E29="")),IF(AND(D29="",E29=""),"",IF(OR(D29="NP",E29="NP"),"NP","")),IF(OR(D29="NP",D29=""),E29,IF(OR(E29="NP",E29=""),D29,MIN(D29,E29)))) | G29: =IF(OR(D29="",E29=""),"",IF(ISNUMBER(F29),RANK(F29,$F$4:$F$100,1),COUNT($F$4:$F$100)+COUNTIFS($B$4:B29,"<>",$F$4:F29,"NP")))
A30: =IF(B30<>"",COUNTA('7-8 ml_kluci'!B4:B100)+COUNTA('7-8 ml_holky'!B4:B100)+COUNTIF(B$4:B30,"<>"),"") | F30: =IF(AND(OR(D30="NP",D30=""),OR(E30="NP",E30="")),IF(AND(D30="",E30=""),"",IF(OR(D30="NP",E30="NP"),"NP","")),IF(OR(D30="NP",D30=""),E30,IF(OR(E30="NP",E30=""),D30,MIN(D30,E30)))) | G30: =IF(OR(D30="",E30=""),"",IF(ISNUMBER(F30),RANK(F30,$F$4:$F$100,1),COUNT($F$4:$F$100)+COUNTIFS($B$4:B30,"<>",$F$4:F30,"NP")))
A31: =IF(B31<>"",COUNTA('7-8 ml_kluci'!B4:B100)+COUNTA('7-8 ml_holky'!B4:B100)+COUNTIF(B$4:B31,"<>"),"") | F31: =IF(AND(OR(D31="NP",D31=""),OR(E31="NP",E31="")),IF(AND(D31="",E31=""),"",IF(OR(D31="NP",E31="NP"),"NP","")),IF(OR(D31="NP",D31=""),E31,IF(OR(E31="NP",E31=""),D31,MIN(D31,E31)))) | G31: =IF(OR(D31="",E31=""),"",IF(ISNUMBER(F31),RANK(F31,$F$4:$F$100,1),COUNT($F$4:$F$100)+COUNTIFS($B$4:B31,"<>",$F$4:F31,"NP")))
A32: =IF(B32<>"",COUNTA('7-8 ml_kluci'!B4:B100)+COUNTA('7-8 ml_holky'!B4:B100)+COUNTIF(B$4:B32,"<>"),"") | F32: =IF(AND(OR(D32="NP",D32=""),OR(E32="NP",E32="")),IF(AND(D32="",E32=""),"",IF(OR(D32="NP",E32="NP"),"NP","")),IF(OR(D32="NP",D32=""),E32,IF(OR(E32="NP",E32=""),D32,MIN(D32,E32)))) | G32: =IF(OR(D32="",E32=""),"",IF(ISNUMBER(F32),RANK(F32,$F$4:$F$100,1),COUNT($F$4:$F$100)+COUNTIFS($B$4:B32,"<>",$F$4:F32,"NP")))
A33: =IF(B33<>"",COUNTA('7-8 ml_kluci'!B4:B100)+COUNTA('7-8 ml_holky'!B4:B100)+COUNTIF(B$4:B33,"<>"),"") | F33: =IF(AND(OR(D33="NP",D33=""),OR(E33="NP",E33="")),IF(AND(D33="",E33=""),"",IF(OR(D33="NP",E33="NP"),"NP","")),IF(OR(D33="NP",D33=""),E33,IF(OR(E33="NP",E33=""),D33,MIN(D33,E33)))) | G33: =IF(OR(D33="",E33=""),"",IF(ISNUMBER(F33),RANK(F33,$F$4:$F$100,1),COUNT($F$4:$F$100)+COUNTIFS($B$4:B33,"<>",$F$4:F33,"NP")))
A34: =IF(B34<>"",COUNTA('7-8 ml_kluci'!B4:B100)+COUNTA('7-8 ml_holky'!B4:B100)+COUNTIF(B$4:B34,"<>"),"") | F34: =IF(AND(OR(D34="NP",D34=""),OR(E34="NP",E34="")),IF(AND(D34="",E34=""),"",IF(OR(D34="NP",E34="NP"),"NP","")),IF(OR(D34="NP",D34=""),E34,IF(OR(E34="NP",E34=""),D34,MIN(D34,E34)))) | G34: =IF(OR(D34="",E34=""),"",IF(ISNUMBER(F34),RANK(F34,$F$4:$F$100,1),COUNT($F$4:$F$100)+COUNTIFS($B$4:B34,"<>",$F$4:F34,"NP")))
A35: =IF(B35<>"",COUNTA('7-8 ml_kluci'!B4:B100)+COUNTA('7-8 ml_holky'!B4:B100)+COUNTIF(B$4:B35,"<>"),"") | F35: =IF(AND(OR(D35="NP",D35=""),OR(E35="NP",E35="")),IF(AND(D35="",E35=""),"",IF(OR(D35="NP",E35="NP"),"NP","")),IF(OR(D35="NP",D35=""),E35,IF(OR(E35="NP",E35=""),D35,MIN(D35,E35)))) | G35: =IF(OR(D35="",E35=""),"",IF(ISNUMBER(F35),RANK(F35,$F$4:$F$100,1),COUNT($F$4:$F$100)+COUNTIFS($B$4:B35,"<>",$F$4:F35,"NP")))
A36: =IF(B36<>"",COUNTA('7-8 ml_kluci'!B4:B100)+COUNTA('7-8 ml_holky'!B4:B100)+COUNTIF(B$4:B36,"<>"),"") | F36: =IF(AND(OR(D36="NP",D36=""),OR(E36="NP",E36="")),IF(AND(D36="",E36=""),"",IF(OR(D36="NP",E36="NP"),"NP","")),IF(OR(D36="NP",D36=""),E36,IF(OR(E36="NP",E36=""),D36,MIN(D36,E36)))) | G36: =IF(OR(D36="",E36=""),"",IF(ISNUMBER(F36),RANK(F36,$F$4:$F$100,1),COUNT($F$4:$F$100)+COUNTIFS($B$4:B36,"<>",$F$4:F36,"NP")))
A37: =IF(B37<>"",COUNTA('7-8 ml_kluci'!B4:B100)+COUNTA('7-8 ml_holky'!B4:B100)+COUNTIF(B$4:B37,"<>"),"") | F37: =IF(AND(OR(D37="NP",D37=""),OR(E37="NP",E37="")),IF(AND(D37="",E37=""),"",IF(OR(D37="NP",E37="NP"),"NP","")),IF(OR(D37="NP",D37=""),E37,IF(OR(E37="NP",E37=""),D37,MIN(D37,E37)))) | G37: =IF(OR(D37="",E37=""),"",IF(ISNUMBER(F37),RANK(F37,$F$4:$F$100,1),COUNT($F$4:$F$100)+COUNTIFS($B$4:B37,"<>",$F$4:F37,"NP")))
A38: =IF(B38<>"",COUNTA('7-8 ml_kluci'!B4:B100)+COUNTA('7-8 ml_holky'!B4:B100)+COUNTIF(B$4:B38,"<>"),"") | F38: =IF(AND(OR(D38="NP",D38=""),OR(E38="NP",E38="")),IF(AND(D38="",E38=""),"",IF(OR(D38="NP",E38="NP"),"NP","")),IF(OR(D38="NP",D38=""),E38,IF(OR(E38="NP",E38=""),D38,MIN(D38,E38)))) | G38: =IF(OR(D38="",E38=""),"",IF(ISNUMBER(F38),RANK(F38,$F$4:$F$100,1),COUNT($F$4:$F$100)+COUNTIFS($B$4:B38,"<>",$F$4:F38,"NP")))
A39: =IF(B39<>"",COUNTA('7-8 ml_kluci'!B4:B100)+COUNTA('7-8 ml_holky'!B4:B100)+COUNTIF(B$4:B39,"<>"),"") | F39: =IF(AND(OR(D39="NP",D39=""),OR(E39="NP",E39="")),IF(AND(D39="",E39=""),"",IF(OR(D39="NP",E39="NP"),"NP","")),IF(OR(D39="NP",D39=""),E39,IF(OR(E39="NP",E39=""),D39,MIN(D39,E39)))) | G39: =IF(OR(D39="",E39=""),"",IF(ISNUMBER(F39),RANK(F39,$F$4:$F$100,1),COUNT($F$4:$F$100)+COUNTIFS($B$4:B39,"<>",$F$4:F39,"NP")))
A40: =IF(B40<>"",COUNTA('7-8 ml_kluci'!B4:B100)+COUNTA('7-8 ml_holky'!B4:B100)+COUNTIF(B$4:B40,"<>"),"") | F40: =IF(AND(OR(D40="NP",D40=""),OR(E40="NP",E40="")),IF(AND(D40="",E40=""),"",IF(OR(D40="NP",E40="NP"),"NP","")),IF(OR(D40="NP",D40=""),E40,IF(OR(E40="NP",E40=""),D40,MIN(D40,E40)))) | G40: =IF(OR(D40="",E40=""),"",IF(ISNUMBER(F40),RANK(F40,$F$4:$F$100,1),COUNT($F$4:$F$100)+COUNTIFS($B$4:B40,"<>",$F$4:F40,"NP")))
A41: =IF(B41<>"",COUNTA('7-8 ml_kluci'!B4:B100)+COUNTA('7-8 ml_holky'!B4:B100)+COUNTIF(B$4:B41,"<>"),"") | F41: =IF(AND(OR(D41="NP",D41=""),OR(E41="NP",E41="")),IF(AND(D41="",E41=""),"",IF(OR(D41="NP",E41="NP"),"NP","")),IF(OR(D41="NP",D41=""),E41,IF(OR(E41="NP",E41=""),D41,MIN(D41,E41)))) | G41: =IF(OR(D41="",E41=""),"",IF(ISNUMBER(F41),RANK(F41,$F$4:$F$100,1),COUNT($F$4:$F$100)+COUNTIFS($B$4:B41,"<>",$F$4:F41,"NP")))
A42: =IF(B42<>"",COUNTA('7-8 ml_kluci'!B4:B100)+COUNTA('7-8 ml_holky'!B4:B100)+COUNTIF(B$4:B42,"<>"),"") | F42: =IF(AND(OR(D42="NP",D42=""),OR(E42="NP",E42="")),IF(AND(D42="",E42=""),"",IF(OR(D42="NP",E42="NP"),"NP","")),IF(OR(D42="NP",D42=""),E42,IF(OR(E42="NP",E42=""),D42,MIN(D42,E42)))) | G42: =IF(OR(D42="",E42=""),"",IF(ISNUMBER(F42),RANK(F42,$F$4:$F$100,1),COUNT($F$4:$F$100)+COUNTIFS($B$4:B42,"<>",$F$4:F42,"NP")))
A43: =IF(B43<>"",COUNTA('7-8 ml_kluci'!B4:B100)+COUNTA('7-8 ml_holky'!B4:B100)+COUNTIF(B$4:B43,"<>"),"") | F43: =IF(AND(OR(D43="NP",D43=""),OR(E43="NP",E43="")),IF(AND(D43="",E43=""),"",IF(OR(D43="NP",E43="NP"),"NP","")),IF(OR(D43="NP",D43=""),E43,IF(OR(E43="NP",E43=""),D43,MIN(D43,E43)))) | G43: =IF(OR(D43="",E43=""),"",IF(ISNUMBER(F43),RANK(F43,$F$4:$F$100,1),COUNT($F$4:$F$100)+COUNTIFS($B$4:B43,"<>",$F$4:F43,"NP")))
A44: =IF(B44<>"",COUNTA('7-8 ml_kluci'!B4:B100)+COUNTA('7-8 ml_holky'!B4:B100)+COUNTIF(B$4:B44,"<>"),"") | F44: =IF(AND(OR(D44="NP",D44=""),OR(E44="NP",E44="")),IF(AND(D44="",E44=""),"",IF(OR(D44="NP",E44="NP"),"NP","")),IF(OR(D44="NP",D44=""),E44,IF(OR(E44="NP",E44=""),D44,MIN(D44,E44)))) | G44: =IF(OR(D44="",E44=""),"",IF(ISNUMBER(F44),RANK(F44,$F$4:$F$100,1),COUNT($F$4:$F$100)+COUNTIFS($B$4:B44,"<>",$F$4:F44,"NP")))
A45: =IF(B45<>"",COUNTA('7-8 ml_kluci'!B4:B100)+COUNTA('7-8 ml_holky'!B4:B100)+COUNTIF(B$4:B45,"<>"),"") | F45: =IF(AND(OR(D45="NP",D45=""),OR(E45="NP",E45="")),IF(AND(D45="",E45=""),"",IF(OR(D45="NP",E45="NP"),"NP","")),IF(OR(D45="NP",D45=""),E45,IF(OR(E45="NP",E45=""),D45,MIN(D45,E45)))) | G45: =IF(OR(D45="",E45=""),"",IF(ISNUMBER(F45),RANK(F45,$F$4:$F$100,1),COUNT($F$4:$F$100)+COUNTIFS($B$4:B45,"<>",$F$4:F45,"NP")))
A46: =IF(B46<>"",COUNTA('7-8 ml_kluci'!B4:B100)+COUNTA('7-8 ml_holky'!B4:B100)+COUNTIF(B$4:B46,"<>"),"") | F46: =IF(AND(OR(D46="NP",D46=""),OR(E46="NP",E46="")),IF(AND(D46="",E46=""),"",IF(OR(D46="NP",E46="NP"),"NP","")),IF(OR(D46="NP",D46=""),E46,IF(OR(E46="NP",E46=""),D46,MIN(D46,E46)))) | G46: =IF(OR(D46="",E46=""),"",IF(ISNUMBER(F46),RANK(F46,$F$4:$F$100,1),COUNT($F$4:$F$100)+COUNTIFS($B$4:B46,"<>",$F$4:F46,"NP")))
A47: =IF(B47<>"",COUNTA('7-8 ml_kluci'!B4:B100)+COUNTA('7-8 ml_holky'!B4:B100)+COUNTIF(B$4:B47,"<>"),"") | F47: =IF(AND(OR(D47="NP",D47=""),OR(E47="NP",E47="")),IF(AND(D47="",E47=""),"",IF(OR(D47="NP",E47="NP"),"NP","")),IF(OR(D47="NP",D47=""),E47,IF(OR(E47="NP",E47=""),D47,MIN(D47,E47)))) | G47: =IF(OR(D47="",E47=""),"",IF(ISNUMBER(F47),RANK(F47,$F$4:$F$100,1),COUNT($F$4:$F$100)+COUNTIFS($B$4:B47,"<>",$F$4:F47,"NP")))
A48: =IF(B48<>"",COUNTA('7-8 ml_kluci'!B4:B100)+COUNTA('7-8 ml_holky'!B4:B100)+COUNTIF(B$4:B48,"<>"),"") | F48: =IF(AND(OR(D48="NP",D48=""),OR(E48="NP",E48="")),IF(AND(D48="",E48=""),"",IF(OR(D48="NP",E48="NP"),"NP","")),IF(OR(D48="NP",D48=""),E48,IF(OR(E48="NP",E48=""),D48,MIN(D48,E48)))) | G48: =IF(OR(D48="",E48=""),"",IF(ISNUMBER(F48),RANK(F48,$F$4:$F$100,1),COUNT($F$4:$F$100)+COUNTIFS($B$4:B48,"<>",$F$4:F48,"NP")))
A49: =IF(B49<>"",COUNTA('7-8 ml_kluci'!B4:B100)+COUNTA('7-8 ml_holky'!B4:B100)+COUNTIF(B$4:B49,"<>"),"") | F49: =IF(AND(OR(D49="NP",D49=""),OR(E49="NP",E49="")),IF(AND(D49="",E49=""),"",IF(OR(D49="NP",E49="NP"),"NP","")),IF(OR(D49="NP",D49=""),E49,IF(OR(E49="NP",E49=""),D49,MIN(D49,E49)))) | G49: =IF(OR(D49="",E49=""),"",IF(ISNUMBER(F49),RANK(F49,$F$4:$F$100,1),COUNT($F$4:$F$100)+COUNTIFS($B$4:B49,"<>",$F$4:F49,"NP")))
A50: =IF(B50<>"",COUNTA('7-8 ml_kluci'!B4:B100)+COUNTA('7-8 ml_holky'!B4:B100)+COUNTIF(B$4:B50,"<>"),"") | F50: =IF(AND(OR(D50="NP",D50=""),OR(E50="NP",E50="")),IF(AND(D50="",E50=""),"",IF(OR(D50="NP",E50="NP"),"NP","")),IF(OR(D50="NP",D50=""),E50,IF(OR(E50="NP",E50=""),D50,MIN(D50,E50)))) | G50: =IF(OR(D50="",E50=""),"",IF(ISNUMBER(F50),RANK(F50,$F$4:$F$100,1),COUNT($F$4:$F$100)+COUNTIFS($B$4:B50,"<>",$F$4:F50,"NP")))
A51: =IF(B51<>"",COUNTA('7-8 ml_kluci'!B4:B100)+COUNTA('7-8 ml_holky'!B4:B100)+COUNTIF(B$4:B51,"<>"),"") | F51: =IF(AND(OR(D51="NP",D51=""),OR(E51="NP",E51="")),IF(AND(D51="",E51=""),"",IF(OR(D51="NP",E51="NP"),"NP","")),IF(OR(D51="NP",D51=""),E51,IF(OR(E51="NP",E51=""),D51,MIN(D51,E51)))) | G51: =IF(OR(D51="",E51=""),"",IF(ISNUMBER(F51),RANK(F51,$F$4:$F$100,1),COUNT($F$4:$F$100)+COUNTIFS($B$4:B51,"<>",$F$4:F51,"NP")))
A52: =IF(B52<>"",COUNTA('7-8 ml_kluci'!B4:B100)+COUNTA('7-8 ml_holky'!B4:B100)+COUNTIF(B$4:B52,"<>"),"") | F52: =IF(AND(OR(D52="NP",D52=""),OR(E52="NP",E52="")),IF(AND(D52="",E52=""),"",IF(OR(D52="NP",E52="NP"),"NP","")),IF(OR(D52="NP",D52=""),E52,IF(OR(E52="NP",E52=""),D52,MIN(D52,E52)))) | G52: =IF(OR(D52="",E52=""),"",IF(ISNUMBER(F52),RANK(F52,$F$4:$F$100,1),COUNT($F$4:$F$100)+COUNTIFS($B$4:B52,"<>",$F$4:F52,"NP")))
A53: =IF(B53<>"",COUNTA('7-8 ml_kluci'!B4:B100)+COUNTA('7-8 ml_holky'!B4:B100)+COUNTIF(B$4:B53,"<>"),"") | F53: =IF(AND(OR(D53="NP",D53=""),OR(E53="NP",E53="")),IF(AND(D53="",E53=""),"",IF(OR(D53="NP",E53="NP"),"NP","")),IF(OR(D53="NP",D53=""),E53,IF(OR(E53="NP",E53=""),D53,MIN(D53,E53)))) | G53: =IF(OR(D53="",E53=""),"",IF(ISNUMBER(F53),RANK(F53,$F$4:$F$100,1),COUNT($F$4:$F$100)+COUNTIFS($B$4:B53,"<>",$F$4:F53,"NP")))
A54: =IF(B54<>"",COUNTA('7-8 ml_kluci'!B4:B100)+COUNTA('7-8 ml_holky'!B4:B100)+COUNTIF(B$4:B54,"<>"),"") | F54: =IF(AND(OR(D54="NP",D54=""),OR(E54="NP",E54="")),IF(AND(D54="",E54=""),"",IF(OR(D54="NP",E54="NP"),"NP","")),IF(OR(D54="NP",D54=""),E54,IF(OR(E54="NP",E54=""),D54,MIN(D54,E54)))) | G54: =IF(OR(D54="",E54=""),"",IF(ISNUMBER(F54),RANK(F54,$F$4:$F$100,1),COUNT($F$4:$F$100)+COUNTIFS($B$4:B54,"<>",$F$4:F54,"NP")))
A55: =IF(B55<>"",COUNTA('7-8 ml_kluci'!B4:B100)+COUNTA('7-8 ml_holky'!B4:B100)+COUNTIF(B$4:B55,"<>"),"") | F55: =IF(AND(OR(D55="NP",D55=""),OR(E55="NP",E55="")),IF(AND(D55="",E55=""),"",IF(OR(D55="NP",E55="NP"),"NP","")),IF(OR(D55="NP",D55=""),E55,IF(OR(E55="NP",E55=""),D55,MIN(D55,E55)))) | G55: =IF(OR(D55="",E55=""),"",IF(ISNUMBER(F55),RANK(F55,$F$4:$F$100,1),COUNT($F$4:$F$100)+COUNTIFS($B$4:B55,"<>",$F$4:F55,"NP")))
A56: =IF(B56<>"",COUNTA('7-8 ml_kluci'!B4:B100)+COUNTA('7-8 ml_holky'!B4:B100)+COUNTIF(B$4:B56,"<>"),"") | F56: =IF(AND(OR(D56="NP",D56=""),OR(E56="NP",E56="")),IF(AND(D56="",E56=""),"",IF(OR(D56="NP",E56="NP"),"NP","")),IF(OR(D56="NP",D56=""),E56,IF(OR(E56="NP",E56=""),D56,MIN(D56,E56)))) | G56: =IF(OR(D56="",E56=""),"",IF(ISNUMBER(F56),RANK(F56,$F$4:$F$100,1),COUNT($F$4:$F$100)+COUNTIFS($B$4:B56,"<>",$F$4:F56,"NP")))
A57: =IF(B57<>"",COUNTA('7-8 ml_kluci'!B4:B100)+COUNTA('7-8 ml_holky'!B4:B100)+COUNTIF(B$4:B57,"<>"),"") | F57: =IF(AND(OR(D57="NP",D57=""),OR(E57="NP",E57="")),IF(AND(D57="",E57=""),"",IF(OR(D57="NP",E57="NP"),"NP","")),IF(OR(D57="NP",D57=""),E57,IF(OR(E57="NP",E57=""),D57,MIN(D57,E57)))) | G57: =IF(OR(D57="",E57=""),"",IF(ISNUMBER(F57),RANK(F57,$F$4:$F$100,1),COUNT($F$4:$F$100)+COUNTIFS($B$4:B57,"<>",$F$4:F57,"NP")))
A58: =IF(B58<>"",COUNTA('7-8 ml_kluci'!B4:B100)+COUNTA('7-8 ml_holky'!B4:B100)+COUNTIF(B$4:B58,"<>"),"") | F58: =IF(AND(OR(D58="NP",D58=""),OR(E58="NP",E58="")),IF(AND(D58="",E58=""),"",IF(OR(D58="NP",E58="NP"),"NP","")),IF(OR(D58="NP",D58=""),E58,IF(OR(E58="NP",E58=""),D58,MIN(D58,E58)))) | G58: =IF(OR(D58="",E58=""),"",IF(ISNUMBER(F58),RANK(F58,$F$4:$F$100,1),COUNT($F$4:$F$100)+COUNTIFS($B$4:B58,"<>",$F$4:F58,"NP")))
A59: =IF(B59<>"",COUNTA('7-8 ml_kluci'!B4:B100)+COUNTA('7-8 ml_holky'!B4:B100)+COUNTIF(B$4:B59,"<>"),"") | F59: =IF(AND(OR(D59="NP",D59=""),OR(E59="NP",E59="")),IF(AND(D59="",E59=""),"",IF(OR(D59="NP",E59="NP"),"NP","")),IF(OR(D59="NP",D59=""),E59,IF(OR(E59="NP",E59=""),D59,MIN(D59,E59)))) | G59: =IF(OR(D59="",E59=""),"",IF(ISNUMBER(F59),RANK(F59,$F$4:$F$100,1),COUNT($F$4:$F$100)+COUNTIFS($B$4:B59,"<>",$F$4:F59,"NP")))
A60: =IF(B60<>"",COUNTA('7-8 ml_kluci'!B4:B100)+COUNTA('7-8 ml_holky'!B4:B100)+COUNTIF(B$4:B60,"<>"),"") | F60: =IF(AND(OR(D60="NP",D60=""),OR(E60="NP",E60="")),IF(AND(D60="",E60=""),"",IF(OR(D60="NP",E60="NP"),"NP","")),IF(OR(D60="NP",D60=""),E60,IF(OR(E60="NP",E60=""),D60,MIN(D60,E60)))) | G60: =IF(OR(D60="",E60=""),"",IF(ISNUMBER(F60),RANK(F60,$F$4:$F$100,1),COUNT($F$4:$F$100)+COUNTIFS($B$4:B60,"<>",$F$4:F60,"NP")))
A61: =IF(B61<>"",COUNTA('7-8 ml_kluci'!B4:B100)+COUNTA('7-8 ml_holky'!B4:B100)+COUNTIF(B$4:B61,"<>"),"") | F61: =IF(AND(OR(D61="NP",D61=""),OR(E61="NP",E61="")),IF(AND(D61="",E61=""),"",IF(OR(D61="NP",E61="NP"),"NP","")),IF(OR(D61="NP",D61=""),E61,IF(OR(E61="NP",E61=""),D61,MIN(D61,E61)))) | G61: =IF(OR(D61="",E61=""),"",IF(ISNUMBER(F61),RANK(F61,$F$4:$F$100,1),COUNT($F$4:$F$100)+COUNTIFS($B$4:B61,"<>",$F$4:F61,"NP")))
A62: =IF(B62<>"",COUNTA('7-8 ml_kluci'!B4:B100)+COUNTA('7-8 ml_holky'!B4:B100)+COUNTIF(B$4:B62,"<>"),"") | F62: =IF(AND(OR(D62="NP",D62=""),OR(E62="NP",E62="")),IF(AND(D62="",E62=""),"",IF(OR(D62="NP",E62="NP"),"NP","")),IF(OR(D62="NP",D62=""),E62,IF(OR(E62="NP",E62=""),D62,MIN(D62,E62)))) | G62: =IF(OR(D62="",E62=""),"",IF(ISNUMBER(F62),RANK(F62,$F$4:$F$100,1),COUNT($F$4:$F$100)+COUNTIFS($B$4:B62,"<>",$F$4:F62,"NP")))
A63: =IF(B63<>"",COUNTA('7-8 ml_kluci'!B4:B100)+COUNTA('7-8 ml_holky'!B4:B100)+COUNTIF(B$4:B63,"<>"),"") | F63: =IF(AND(OR(D63="NP",D63=""),OR(E63="NP",E63="")),IF(AND(D63="",E63=""),"",IF(OR(D63="NP",E63="NP"),"NP","")),IF(OR(D63="NP",D63=""),E63,IF(OR(E63="NP",E63=""),D63,MIN(D63,E63)))) | G63: =IF(OR(D63="",E63=""),"",IF(ISNUMBER(F63),RANK(F63,$F$4:$F$100,1),COUNT($F$4:$F$100)+COUNTIFS($B$4:B63,"<>",$F$4:F63,"NP")))
A64: =IF(B64<>"",COUNTA('7-8 ml_kluci'!B4:B100)+COUNTA('7-8 ml_holky'!B4:B100)+COUNTIF(B$4:B64,"<>"),"") | F64: =IF(AND(OR(D64="NP",D64=""),OR(E64="NP",E64="")),IF(AND(D64="",E64=""),"",IF(OR(D64="NP",E64="NP"),"NP","")),IF(OR(D64="NP",D64=""),E64,IF(OR(E64="NP",E64=""),D64,MIN(D64,E64)))) | G64: =IF(OR(D64="",E64=""),"",IF(ISNUMBER(F64),RANK(F64,$F$4:$F$100,1),COUNT($F$4:$F$100)+COUNTIFS($B$4:B64,"<>",$F$4:F64,"NP")))
A65: =IF(B65<>"",COUNTA('7-8 ml_kluci'!B4:B100)+COUNTA('7-8 ml_holky'!B4:B100)+COUNTIF(B$4:B65,"<>"),"") | F65: =IF(AND(OR(D65="NP",D65=""),OR(E65="NP",E65="")),IF(AND(D65="",E65=""),"",IF(OR(D65="NP",E65="NP"),"NP","")),IF(OR(D65="NP",D65=""),E65,IF(OR(E65="NP",E65=""),D65,MIN(D65,E65)))) | G65: =IF(OR(D65="",E65=""),"",IF(ISNUMBER(F65),RANK(F65,$F$4:$F$100,1),COUNT($F$4:$F$100)+COUNTIFS($B$4:B65,"<>",$F$4:F65,"NP")))
A66: =IF(B66<>"",COUNTA('7-8 ml_kluci'!B4:B100)+COUNTA('7-8 ml_holky'!B4:B100)+COUNTIF(B$4:B66,"<>"),"") | F66: =IF(AND(OR(D66="NP",D66=""),OR(E66="NP",E66="")),IF(AND(D66="",E66=""),"",IF(OR(D66="NP",E66="NP"),"NP","")),IF(OR(D66="NP",D66=""),E66,IF(OR(E66="NP",E66=""),D66,MIN(D66,E66)))) | G66: =IF(OR(D66="",E66=""),"",IF(ISNUMBER(F66),RANK(F66,$F$4:$F$100,1),COUNT($F$4:$F$100)+COUNTIFS($B$4:B66,"<>",$F$4:F66,"NP")))
A67: =IF(B67<>"",COUNTA('7-8 ml_kluci'!B4:B100)+COUNTA('7-8 ml_holky'!B4:B100)+COUNTIF(B$4:B67,"<>"),"") | F67: =IF(AND(OR(D67="NP",D67=""),OR(E67="NP",E67="")),IF(AND(D67="",E67=""),"",IF(OR(D67="NP",E67="NP"),"NP","")),IF(OR(D67="NP",D67=""),E67,IF(OR(E67="NP",E67=""),D67,MIN(D67,E67)))) | G67: =IF(OR(D67="",E67=""),"",IF(ISNUMBER(F67),RANK(F67,$F$4:$F$100,1),COUNT($F$4:$F$100)+COUNTIFS($B$4:B67,"<>",$F$4:F67,"NP")))
A68: =IF(B68<>"",COUNTA('7-8 ml_kluci'!B4:B100)+COUNTA('7-8 ml_holky'!B4:B100)+COUNTIF(B$4:B68,"<>"),"") | F68: =IF(AND(OR(D68="NP",D68=""),OR(E68="NP",E68="")),IF(AND(D68="",E68=""),"",IF(OR(D68="NP",E68="NP"),"NP","")),IF(OR(D68="NP",D68=""),E68,IF(OR(E68="NP",E68=""),D68,MIN(D68,E68)))) | G68: =IF(OR(D68="",E68=""),"",IF(ISNUMBER(F68),RANK(F68,$F$4:$F$100,1),COUNT($F$4:$F$100)+COUNTIFS($B$4:B68,"<>",$F$4:F68,"NP")))
A69: =IF(B69<>"",COUNTA('7-8 ml_kluci'!B4:B100)+COUNTA('7-8 ml_holky'!B4:B100)+COUNTIF(B$4:B69,"<>"),"") | F69: =IF(AND(OR(D69="NP",D69=""),OR(E69="NP",E69="")),IF(AND(D69="",E69=""),"",IF(OR(D69="NP",E69="NP"),"NP","")),IF(OR(D69="NP",D69=""),E69,IF(OR(E69="NP",E69=""),D69,MIN(D69,E69)))) | G69: =IF(OR(D69="",E69=""),"",IF(ISNUMBER(F69),RANK(F69,$F$4:$F$100,1),COUNT($F$4:$F$100)+COUNTIFS($B$4:B69,"<>",$F$4:F69,"NP")))
A70: =IF(B70<>"",COUNTA('7-8 ml_kluci'!B4:B100)+COUNTA('7-8 ml_holky'!B4:B100)+COUNTIF(B$4:B70,"<>"),"") | F70: =IF(AND(OR(D70="NP",D70=""),OR(E70="NP",E70="")),IF(AND(D70="",E70=""),"",IF(OR(D70="NP",E70="NP"),"NP","")),IF(OR(D70="NP",D70=""),E70,IF(OR(E70="NP",E70=""),D70,MIN(D70,E70)))) | G70: =IF(OR(D70="",E70=""),"",IF(ISNUMBER(F70),RANK(F70,$F$4:$F$100,1),COUNT($F$4:$F$100)+COUNTIFS($B$4:B70,"<>",$F$4:F70,"NP")))
A71: =IF(B71<>"",COUNTA('7-8 ml_kluci'!B4:B100)+COUNTA('7-8 ml_holky'!B4:B100)+COUNTIF(B$4:B71,"<>"),"") | F71: =IF(AND(OR(D71="NP",D71=""),OR(E71="NP",E71="")),IF(AND(D71="",E71=""),"",IF(OR(D71="NP",E71="NP"),"NP","")),IF(OR(D71="NP",D71=""),E71,IF(OR(E71="NP",E71=""),D71,MIN(D71,E71)))) | G71: =IF(OR(D71="",E71=""),"",IF(ISNUMBER(F71),RANK(F71,$F$4:$F$100,1),COUNT($F$4:$F$100)+COUNTIFS($B$4:B71,"<>",$F$4:F71,"NP")))
A72: =IF(B72<>"",COUNTA('7-8 ml_kluci'!B4:B100)+COUNTA('7-8 ml_holky'!B4:B100)+COUNTIF(B$4:B72,"<>"),"") | F72: =IF(AND(OR(D72="NP",D72=""),OR(E72="NP",E72="")),IF(AND(D72="",E72=""),"",IF(OR(D72="NP",E72="NP"),"NP","")),IF(OR(D72="NP",D72=""),E72,IF(OR(E72="NP",E72=""),D72,MIN(D72,E72)))) | G72: =IF(OR(D72="",E72=""),"",IF(ISNUMBER(F72),RANK(F72,$F$4:$F$100,1),COUNT($F$4:$F$100)+COUNTIFS($B$4:B72,"<>",$F$4:F72,"NP")))
A73: =IF(B73<>"",COUNTA('7-8 ml_kluci'!B4:B100)+COUNTA('7-8 ml_holky'!B4:B100)+COUNTIF(B$4:B73,"<>"),"") | F73: =IF(AND(OR(D73="NP",D73=""),OR(E73="NP",E73="")),IF(AND(D73="",E73=""),"",IF(OR(D73="NP",E73="NP"),"NP","")),IF(OR(D73="NP",D73=""),E73,IF(OR(E73="NP",E73=""),D73,MIN(D73,E73)))) | G73: =IF(OR(D73="",E73=""),"",IF(ISNUMBER(F73),RANK(F73,$F$4:$F$100,1),COUNT($F$4:$F$100)+COUNTIFS($B$4:B73,"<>",$F$4:F73,"NP")))
A74: =IF(B74<>"",COUNTA('7-8 ml_kluci'!B4:B100)+COUNTA('7-8 ml_holky'!B4:B100)+COUNTIF(B$4:B74,"<>"),"") | F74: =IF(AND(OR(D74="NP",D74=""),OR(E74="NP",E74="")),IF(AND(D74="",E74=""),"",IF(OR(D74="NP",E74="NP"),"NP","")),IF(OR(D74="NP",D74=""),E74,IF(OR(E74="NP",E74=""),D74,MIN(D74,E74)))) | G74: =IF(OR(D74="",E74=""),"",IF(ISNUMBER(F74),RANK(F74,$F$4:$F$100,1),COUNT($F$4:$F$100)+COUNTIFS($B$4:B74,"<>",$F$4:F74,"NP")))
A75: =IF(B75<>"",COUNTA('7-8 ml_kluci'!B4:B100)+COUNTA('7-8 ml_holky'!B4:B100)+COUNTIF(B$4:B75,"<>"),"") | F75: =IF(AND(OR(D75="NP",D75=""),OR(E75="NP",E75="")),IF(AND(D75="",E75=""),"",IF(OR(D75="NP",E75="NP"),"NP","")),IF(OR(D75="NP",D75=""),E75,IF(OR(E75="NP",E75=""),D75,MIN(D75,E75)))) | G75: =IF(OR(D75="",E75=""),"",IF(ISNUMBER(F75),RANK(F75,$F$4:$F$100,1),COUNT($F$4:$F$100)+COUNTIFS($B$4:B75,"<>",$F$4:F75,"NP")))
A76: =IF(B76<>"",COUNTA('7-8 ml_kluci'!B4:B100)+COUNTA('7-8 ml_holky'!B4:B100)+COUNTIF(B$4:B76,"<>"),"") | F76: =IF(AND(OR(D76="NP",D76=""),OR(E76="NP",E76="")),IF(AND(D76="",E76=""),"",IF(OR(D76="NP",E76="NP"),"NP","")),IF(OR(D76="NP",D76=""),E76,IF(OR(E76="NP",E76=""),D76,MIN(D76,E76)))) | G76: =IF(OR(D76="",E76=""),"",IF(ISNUMBER(F76),RANK(F76,$F$4:$F$100,1),COUNT($F$4:$F$100)+COUNTIFS($B$4:B76,"<>",$F$4:F76,"NP")))
A77: =IF(B77<>"",COUNTA('7-8 ml_kluci'!B4:B100)+COUNTA('7-8 ml_holky'!B4:B100)+COUNTIF(B$4:B77,"<>"),"") | F77: =IF(AND(OR(D77="NP",D77=""),OR(E77="NP",E77="")),IF(AND(D77="",E77=""),"",IF(OR(D77="NP",E77="NP"),"NP","")),IF(OR(D77="NP",D77=""),E77,IF(OR(E77="NP",E77=""),D77,MIN(D77,E77)))) | G77: =IF(OR(D77="",E77=""),"",IF(ISNUMBER(F77),RANK(F77,$F$4:$F$100,1),COUNT($F$4:$F$100)+COUNTIFS($B$4:B77,"<>",$F$4:F77,"NP")))
A78: =IF(B78<>"",COUNTA('7-8 ml_kluci'!B4:B100)+COUNTA('7-8 ml_holky'!B4:B100)+COUNTIF(B$4:B78,"<>"),"") | F78: =IF(AND(OR(D78="NP",D78=""),OR(E78="NP",E78="")),IF(AND(D78="",E78=""),"",IF(OR(D78="NP",E78="NP"),"NP","")),IF(OR(D78="NP",D78=""),E78,IF(OR(E78="NP",E78=""),D78,MIN(D78,E78)))) | G78: =IF(OR(D78="",E78=""),"",IF(ISNUMBER(F78),RANK(F78,$F$4:$F$100,1),COUNT($F$4:$F$100)+COUNTIFS($B$4:B78,"<>",$F$4:F78,"NP")))
A79: =IF(B79<>"",COUNTA('7-8 ml_kluci'!B4:B100)+COUNTA('7-8 ml_holky'!B4:B100)+COUNTIF(B$4:B79,"<>"),"") | F79: =IF(AND(OR(D79="NP",D79=""),OR(E79="NP",E79="")),IF(AND(D79="",E79=""),"",IF(OR(D79="NP",E79="NP"),"NP","")),IF(OR(D79="NP",D79=""),E79,IF(OR(E79="NP",E79=""),D79,MIN(D79,E79)))) | G79: =IF(OR(D79="",E79=""),"",IF(ISNUMBER(F79),RANK(F79,$F$4:$F$100,1),COUNT($F$4:$F$100)+COUNTIFS($B$4:B79,"<>",$F$4:F79,"NP")))
A80: =IF(B80<>"",COUNTA('7-8 ml_kluci'!B4:B100)+COUNTA('7-8 ml_holky'!B4:B100)+COUNTIF(B$4:B80,"<>"),"") | F80: =IF(AND(OR(D80="NP",D80=""),OR(E80="NP",E80="")),IF(AND(D80="",E80=""),"",IF(OR(D80="NP",E80="NP"),"NP","")),IF(OR(D80="NP",D80=""),E80,IF(OR(E80="NP",E80=""),D80,MIN(D80,E80)))) | G80: =IF(OR(D80="",E80=""),"",IF(ISNUMBER(F80),RANK(F80,$F$4:$F$100,1),COUNT($F$4:$F$100)+COUNTIFS($B$4:B80,"<>",$F$4:F80,"NP")))
A81: =IF(B81<>"",COUNTA('7-8 ml_kluci'!B4:B100)+COUNTA('7-8 ml_holky'!B4:B100)+COUNTIF(B$4:B81,"<>"),"") | F81: =IF(AND(OR(D81="NP",D81=""),OR(E81="NP",E81="")),IF(AND(D81="",E81=""),"",IF(OR(D81="NP",E81="NP"),"NP","")),IF(OR(D81="NP",D81=""),E81,IF(OR(E81="NP",E81=""),D81,MIN(D81,E81)))) | G81: =IF(OR(D81="",E81=""),"",IF(ISNUMBER(F81),RANK(F81,$F$4:$F$100,1),COUNT($F$4:$F$100)+COUNTIFS($B$4:B81,"<>",$F$4:F81,"NP")))
A82: =IF(B82<>"",COUNTA('7-8 ml_kluci'!B4:B100)+COUNTA('7-8 ml_holky'!B4:B100)+COUNTIF(B$4:B82,"<>"),"") | F82: =IF(AND(OR(D82="NP",D82=""),OR(E82="NP",E82="")),IF(AND(D82="",E82=""),"",IF(OR(D82="NP",E82="NP"),"NP","")),IF(OR(D82="NP",D82=""),E82,IF(OR(E82="NP",E82=""),D82,MIN(D82,E82)))) | G82: =IF(OR(D82="",E82=""),"",IF(ISNUMBER(F82),RANK(F82,$F$4:$F$100,1),COUNT($F$4:$F$100)+COUNTIFS($B$4:B82,"<>",$F$4:F82,"NP")))
A83: =IF(B83<>"",COUNTA('7-8 ml_kluci'!B4:B100)+COUNTA('7-8 ml_holky'!B4:B100)+COUNTIF(B$4:B83,"<>"),"") | F83: =IF(AND(OR(D83="NP",D83=""),OR(E83="NP",E83="")),IF(AND(D83="",E83=""),"",IF(OR(D83="NP",E83="NP"),"NP","")),IF(OR(D83="NP",D83=""),E83,IF(OR(E83="NP",E83=""),D83,MIN(D83,E83)))) | G83: =IF(OR(D83="",E83=""),"",IF(ISNUMBER(F83),RANK(F83,$F$4:$F$100,1),COUNT($F$4:$F$100)+COUNTIFS($B$4:B83,"<>",$F$4:F83,"NP")))
A84: =IF(B84<>"",COUNTA('7-8 ml_kluci'!B4:B100)+COUNTA('7-8 ml_holky'!B4:B100)+COUNTIF(B$4:B84,"<>"),"") | F84: =IF(AND(OR(D84="NP",D84=""),OR(E84="NP",E84="")),IF(AND(D84="",E84=""),"",IF(OR(D84="NP",E84="NP"),"NP","")),IF(OR(D84="NP",D84=""),E84,IF(OR(E84="NP",E84=""),D84,MIN(D84,E84)))) | G84: =IF(OR(D84="",E84=""),"",IF(ISNUMBER(F84),RANK(F84,$F$4:$F$100,1),COUNT($F$4:$F$100)+COUNTIFS($B$4:B84,"<>",$F$4:F84,"NP")))
A85: =IF(B85<>"",COUNTA('7-8 ml_kluci'!B4:B100)+COUNTA('7-8 ml_holky'!B4:B100)+COUNTIF(B$4:B85,"<>"),"") | F85: =IF(AND(OR(D85="NP",D85=""),OR(E85="NP",E85="")),IF(AND(D85="",E85=""),"",IF(OR(D85="NP",E85="NP"),"NP","")),IF(OR(D85="NP",D85=""),E85,IF(OR(E85="NP",E85=""),D85,MIN(D85,E85)))) | G85: =IF(OR(D85="",E85=""),"",IF(ISNUMBER(F85),RANK(F85,$F$4:$F$100,1),COUNT($F$4:$F$100)+COUNTIFS($B$4:B85,"<>",$F$4:F85,"NP")))
A86: =IF(B86<>"",COUNTA('7-8 ml_kluci'!B4:B100)+COUNTA('7-8 ml_holky'!B4:B100)+COUNTIF(B$4:B86,"<>"),"") | F86: =IF(AND(OR(D86="NP",D86=""),OR(E86="NP",E86="")),IF(AND(D86="",E86=""),"",IF(OR(D86="NP",E86="NP"),"NP","")),IF(OR(D86="NP",D86=""),E86,IF(OR(E86="NP",E86=""),D86,MIN(D86,E86)))) | G86: =IF(OR(D86="",E86=""),"",IF(ISNUMBER(F86),RANK(F86,$F$4:$F$100,1),COUNT($F$4:$F$100)+COUNTIFS($B$4:B86,"<>",$F$4:F86,"NP")))
A87: =IF(B87<>"",COUNTA('7-8 ml_kluci'!B4:B100)+COUNTA('7-8 ml_holky'!B4:B100)+COUNTIF(B$4:B87,"<>"),"") | F87: =IF(AND(OR(D87="NP",D87=""),OR(E87="NP",E87="")),IF(AND(D87="",E87=""),"",IF(OR(D87="NP",E87="NP"),"NP","")),IF(OR(D87="NP",D87=""),E87,IF(OR(E87="NP",E87=""),D87,MIN(D87,E87)))) | G87: =IF(OR(D87="",E87=""),"",IF(ISNUMBER(F87),RANK(F87,$F$4:$F$100,1),COUNT($F$4:$F$100)+COUNTIFS($B$4:B87,"<>",$F$4:F87,"NP")))
A88: =IF(B88<>"",COUNTA('7-8 ml_kluci'!B4:B100)+COUNTA('7-8 ml_holky'!B4:B100)+COUNTIF(B$4:B88,"<>"),"") | F88: =IF(AND(OR(D88="NP",D88=""),OR(E88="NP",E88="")),IF(AND(D88="",E88=""),"",IF(OR(D88="NP",E88="NP"),"NP","")),IF(OR(D88="NP",D88=""),E88,IF(OR(E88="NP",E88=""),D88,MIN(D88,E88)))) | G88: =IF(OR(D88="",E88=""),"",IF(ISNUMBER(F88),RANK(F88,$F$4:$F$100,1),COUNT($F$4:$F$100)+COUNTIFS($B$4:B88,"<>",$F$4:F88,"NP")))
A89: =IF(B89<>"",COUNTA('7-8 ml_kluci'!B4:B100)+COUNTA('7-8 ml_holky'!B4:B100)+COUNTIF(B$4:B89,"<>"),"") | F89: =IF(AND(OR(D89="NP",D89=""),OR(E89="NP",E89="")),IF(AND(D89="",E89=""),"",IF(OR(D89="NP",E89="NP"),"NP","")),IF(OR(D89="NP",D89=""),E89,IF(OR(E89="NP",E89=""),D89,MIN(D89,E89)))) | G89: =IF(OR(D89="",E89=""),"",IF(ISNUMBER(F89),RANK(F89,$F$4:$F$100,1),COUNT($F$4:$F$100)+COUNTIFS($B$4:B89,"<>",$F$4:F89,"NP")))
A90: =IF(B90<>"",COUNTA('7-8 ml_kluci'!B4:B100)+COUNTA('7-8 ml_holky'!B4:B100)+COUNTIF(B$4:B90,"<>"),"") | F90: =IF(AND(OR(D90="NP",D90=""),OR(E90="NP",E90="")),IF(AND(D90="",E90=""),"",IF(OR(D90="NP",E90="NP"),"NP","")),IF(OR(D90="NP",D90=""),E90,IF(OR(E90="NP",E90=""),D90,MIN(D90,E90)))) | G90: =IF(OR(D90="",E90=""),"",IF(ISNUMBER(F90),RANK(F90,$F$4:$F$100,1),COUNT($F$4:$F$100)+COUNTIFS($B$4:B90,"<>",$F$4:F90,"NP")))
A91: =IF(B91<>"",COUNTA('7-8 ml_kluci'!B4:B100)+COUNTA('7-8 ml_holky'!B4:B100)+COUNTIF(B$4:B91,"<>"),"") | F91: =IF(AND(OR(D91="NP",D91=""),OR(E91="NP",E91="")),IF(AND(D91="",E91=""),"",IF(OR(D91="NP",E91="NP"),"NP","")),IF(OR(D91="NP",D91=""),E91,IF(OR(E91="NP",E91=""),D91,MIN(D91,E91)))) | G91: =IF(OR(D91="",E91=""),"",IF(ISNUMBER(F91),RANK(F91,$F$4:$F$100,1),COUNT($F$4:$F$100)+COUNTIFS($B$4:B91,"<>",$F$4:F91,"NP")))
A92: =IF(B92<>"",COUNTA('7-8 ml_kluci'!B4:B100)+COUNTA('7-8 ml_holky'!B4:B100)+COUNTIF(B$4:B92,"<>"),"") | F92: =IF(AND(OR(D92="NP",D92=""),OR(E92="NP",E92="")),IF(AND(D92="",E92=""),"",IF(OR(D92="NP",E92="NP"),"NP","")),IF(OR(D92="NP",D92=""),E92,IF(OR(E92="NP",E92=""),D92,MIN(D92,E92)))) | G92: =IF(OR(D92="",E92=""),"",IF(ISNUMBER(F92),RANK(F92,$F$4:$F$100,1),COUNT($F$4:$F$100)+COUNTIFS($B$4:B92,"<>",$F$4:F92,"NP")))
A93: =IF(B93<>"",COUNTA('7-8 ml_kluci'!B4:B100)+COUNTA('7-8 ml_holky'!B4:B100)+COUNTIF(B$4:B93,"<>"),"") | F93: =IF(AND(OR(D93="NP",D93=""),OR(E93="NP",E93="")),IF(AND(D93="",E93=""),"",IF(OR(D93="NP",E93="NP"),"NP","")),IF(OR(D93="NP",D93=""),E93,IF(OR(E93="NP",E93=""),D93,MIN(D93,E93)))) | G93: =IF(OR(D93="",E93=""),"",IF(ISNUMBER(F93),RANK(F93,$F$4:$F$100,1),COUNT($F$4:$F$100)+COUNTIFS($B$4:B93,"<>",$F$4:F93,"NP")))
A94: =IF(B94<>"",COUNTA('7-8 ml_kluci'!B4:B100)+COUNTA('7-8 ml_holky'!B4:B100)+COUNTIF(B$4:B94,"<>"),"") | F94: =IF(AND(OR(D94="NP",D94=""),OR(E94="NP",E94="")),IF(AND(D94="",E94=""),"",IF(OR(D94="NP",E94="NP"),"NP","")),IF(OR(D94="NP",D94=""),E94,IF(OR(E94="NP",E94=""),D94,MIN(D94,E94)))) | G94: =IF(OR(D94="",E94=""),"",IF(ISNUMBER(F94),RANK(F94,$F$4:$F$100,1),COUNT($F$4:$F$100)+COUNTIFS($B$4:B94,"<>",$F$4:F94,"NP")))
A95: =IF(B95<>"",COUNTA('7-8 ml_kluci'!B4:B100)+COUNTA('7-8 ml_holky'!B4:B100)+COUNTIF(B$4:B95,"<>"),"") | F95: =IF(AND(OR(D95="NP",D95=""),OR(E95="NP",E95="")),IF(AND(D95="",E95=""),"",IF(OR(D95="NP",E95="NP"),"NP","")),IF(OR(D95="NP",D95=""),E95,IF(OR(E95="NP",E95=""),D95,MIN(D95,E95)))) | G95: =IF(OR(D95="",E95=""),"",IF(ISNUMBER(F95),RANK(F95,$F$4:$F$100,1),COUNT($F$4:$F$100)+COUNTIFS($B$4:B95,"<>",$F$4:F95,"NP")))
A96: =IF(B96<>"",COUNTA('7-8 ml_kluci'!B4:B100)+COUNTA('7-8 ml_holky'!B4:B100)+COUNTIF(B$4:B96,"<>"),"") | F96: =IF(AND(OR(D96="NP",D96=""),OR(E96="NP",E96="")),IF(AND(D96="",E96=""),"",IF(OR(D96="NP",E96="NP"),"NP","")),IF(OR(D96="NP",D96=""),E96,IF(OR(E96="NP",E96=""),D96,MIN(D96,E96)))) | G96: =IF(OR(D96="",E96=""),"",IF(ISNUMBER(F96),RANK(F96,$F$4:$F$100,1),COUNT($F$4:$F$100)+COUNTIFS($B$4:B96,"<>",$F$4:F96,"NP")))
A97: =IF(B97<>"",COUNTA('7-8 ml_kluci'!B4:B100)+COUNTA('7-8 ml_holky'!B4:B100)+COUNTIF(B$4:B97,"<>"),"") | F97: =IF(AND(OR(D97="NP",D97=""),OR(E97="NP",E97="")),IF(AND(D97="",E97=""),"",IF(OR(D97="NP",E97="NP"),"NP","")),IF(OR(D97="NP",D97=""),E97,IF(OR(E97="NP",E97=""),D97,MIN(D97,E97)))) | G97: =IF(OR(D97="",E97=""),"",IF(ISNUMBER(F97),RANK(F97,$F$4:$F$100,1),COUNT($F$4:$F$100)+COUNTIFS($B$4:B97,"<>",$F$4:F97,"NP")))
A98: =IF(B98<>"",COUNTA('7-8 ml_kluci'!B4:B100)+COUNTA('7-8 ml_holky'!B4:B100)+COUNTIF(B$4:B98,"<>"),"") | F98: =IF(AND(OR(D98="NP",D98=""),OR(E98="NP",E98="")),IF(AND(D98="",E98=""),"",IF(OR(D98="NP",E98="NP"),"NP","")),IF(OR(D98="NP",D98=""),E98,IF(OR(E98="NP",E98=""),D98,MIN(D98,E98)))) | G98: =IF(OR(D98="",E98=""),"",IF(ISNUMBER(F98),RANK(F98,$F$4:$F$100,1),COUNT($F$4:$F$100)+COUNTIFS($B$4:B98,"<>",$F$4:F98,"NP")))
A99: =IF(B99<>"",COUNTA('7-8 ml_kluci'!B4:B100)+COUNTA('7-8 ml_holky'!B4:B100)+COUNTIF(B$4:B99,"<>"),"") | F99: =IF(AND(OR(D99="NP",D99=""),OR(E99="NP",E99="")),IF(AND(D99="",E99=""),"",IF(OR(D99="NP",E99="NP"),"NP","")),IF(OR(D99="NP",D99=""),E99,IF(OR(E99="NP",E99=""),D99,MIN(D99,E99)))) | G99: =IF(OR(D99="",E99=""),"",IF(ISNUMBER(F99),RANK(F99,$F$4:$F$100,1),COUNT($F$4:$F$100)+COUNTIFS($B$4:B99,"<>",$F$4:F99,"NP")))
A100: =IF(B100<>"",COUNTA('7-8 ml_kluci'!B4:B100)+COUNTA('7-8 ml_holky'!B4:B100)+COUNTIF(B$4:B100,"<>"),"") | F100: =IF(AND(OR(D100="NP",D100=""),OR(E100="NP",E100="")),IF(AND(D100="",E100=""),"",IF(OR(D100="NP",E100="NP"),"NP","")),IF(OR(D100="NP",D100=""),E100,IF(OR(E100="NP",E100=""),D100,MIN(D100,E100)))) | G100: =IF(OR(D100="",E100=""),"",IF(ISNUMBER(F100),RANK(F100,$F$4:$F$100,1),COUNT($F$4:$F$100)+COUNTIFS($B$4:B100,"<>",$F$4:F100,"NP")))

Sheet 9-11 ml_holky
A1: Běh na 60 m s překážkami - Rohatec 23. 5. 2026
A2: Kategorie 9-11 mladší žáci - holky | D2: 9-11 LET
A3: St. č. | B3: Příjmení a jméno | C3: SDH | D3: 1. pokus | E3: 2. pokus | F3: Výsl. čas | G3: Pořadí
A4: 50 | B4: Ševčíková Anna | C4: Miroslav | D4: 16.75 | E4: 17.06 | F4: =IF(AND(OR(D4="NP",D4=""),OR(E4="NP",E4="")),IF(AND(D4="",E4=""),"",IF(OR(D4="NP",E4="NP"),"NP","")),IF(OR(D4="NP",D4=""),E4,IF(OR(E4="NP",E4=""),D4,MIN(D4,E4)))) -> 16.75 | G4: =IF(OR(D4="",E4=""),"",IF(ISNUMBER(F4),RANK(F4,$F$4:$F$100,1),COUNT($F$4:$F$100)+COUNTIFS($B$4:B4,"<>",$F$4:F4,"NP"))) -> 3
A5: 51 | B5: Křivánková Sabina | C5: Vracov | D5: 21.78 | E5: 19.54 | F5: =IF(AND(OR(D5="NP",D5=""),OR(E5="NP",E5="")),IF(AND(D5="",E5=""),"",IF(OR(D5="NP",E5="NP"),"NP","")),IF(OR(D5="NP",D5=""),E5,IF(OR(E5="NP",E5=""),D5,MIN(D5,E5)))) -> 19.54 | G5: =IF(OR(D5="",E5=""),"",IF(ISNUMBER(F5),RANK(F5,$F$4:$F$100,1),COUNT($F$4:$F$100)+COUNTIFS($B$4:B5,"<>",$F$4:F5,"NP"))) -> 7
A6: 52 | B6: Letochová Vendula | C6: Rohatec | D6: 27.78 | E6: 26.99 | F6: =IF(AND(OR(D6="NP",D6=""),OR(E6="NP",E6="")),IF(AND(D6="",E6=""),"",IF(OR(D6="NP",E6="NP"),"NP","")),IF(OR(D6="NP",D6=""),E6,IF(OR(E6="NP",E6=""),D6,MIN(D6,E6)))) -> 26.99 | G6: =IF(OR(D6="",E6=""),"",IF(ISNUMBER(F6),RANK(F6,$F$4:$F$100,1),COUNT($F$4:$F$100)+COUNTIFS($B$4:B6,"<>",$F$4:F6,"NP"))) -> 13
A7: 53 | B7: Frolková Nicol | C7: Hroznová Lhota | D7: 20.03 | E7: 18.18 | F7: =IF(AND(OR(D7="NP",D7=""),OR(E7="NP",E7="")),IF(AND(D7="",E7=""),"",IF(OR(D7="NP",E7="NP"),"NP","")),IF(OR(D7="NP",D7=""),E7,IF(OR(E7="NP",E7=""),D7,MIN(D7,E7)))) -> 18.18 | G7: =IF(OR(D7="",E7=""),"",IF(ISNUMBER(F7),RANK(F7,$F$4:$F$100,1),COUNT($F$4:$F$100)+COUNTIFS($B$4:B7,"<>",$F$4:F7,"NP"))) -> 4
A8: 54 | B8: Komendová Pavla | C8: Miroslav | D8: 26 | E8: NP | F8: =IF(AND(OR(D8="NP",D8=""),OR(E8="NP",E8="")),IF(AND(D8="",E8=""),"",IF(OR(D8="NP",E8="NP"),"NP","")),IF(OR(D8="NP",D8=""),E8,IF(OR(E8="NP",E8=""),D8,MIN(D8,E8)))) -> 26 | G8: =IF(OR(D8="",E8=""),"",IF(ISNUMBER(F8),RANK(F8,$F$4:$F$100,1),COUNT($F$4:$F$100)+COUNTIFS($B$4:B8,"<>",$F$4:F8,"NP"))) -> 12
A9: 55 | B9: Motyčková Ema | C9: Vnorovy | D9: NP | E9: 21.82 | F9: =IF(AND(OR(D9="NP",D9=""),OR(E9="NP",E9="")),IF(AND(D9="",E9=""),"",IF(OR(D9="NP",E9="NP"),"NP","")),IF(OR(D9="NP",D9=""),E9,IF(OR(E9="NP",E9=""),D9,MIN(D9,E9)))) -> 21.82 | G9: =IF(OR(D9="",E9=""),"",IF(ISNUMBER(F9),RANK(F9,$F$4:$F$100,1),COUNT($F$4:$F$100)+COUNTIFS($B$4:B9,"<>",$F$4:F9,"NP"))) -> 8
A10: 56 | B10: Střížová Michaela | C10: Ratíškovice | D10: 18.2 | E10: 18.68 | F10: =IF(AND(OR(D10="NP",D10=""),OR(E10="NP",E10="")),IF(AND(D10="",E10=""),"",IF(OR(D10="NP",E10="NP"),"NP","")),IF(OR(D10="NP",D10=""),E10,IF(OR(E10="NP",E10=""),D10,MIN(D10,E10)))) -> 18.2 | G10: =IF(OR(D10="",E10=""),"",IF(ISNUMBER(F10),RANK(F10,$F$4:$F$100,1),COUNT($F$4:$F$100)+COUNTIFS($B$4:B10,"<>",$F$4:F10,"NP"))) -> 5
A11: 57 | B11: Holešinská Lenka | C11: Vracov | D11: 17.46 | E11: 16.67 | F11: =IF(AND(OR(D11="NP",D11=""),OR(E11="NP",E11="")),IF(AND(D11="",E11=""),"",IF(OR(D11="NP",E11="NP"),"NP","")),IF(OR(D11="NP",D11=""),E11,IF(OR(E11="NP",E11=""),D11,MIN(D11,E11)))) -> 16.67 | G11: =IF(OR(D11="",E11=""),"",IF(ISNUMBER(F11),RANK(F11,$F$4:$F$100,1),COUNT($F$4:$F$100)+COUNTIFS($B$4:B11,"<>",$F$4:F11,"NP"))) -> 2
A12: 58 | B12: Pavelková Anna | C12: Rohatec | D12: 30.88 | E12: 28.41 | F12: =IF(AND(OR(D12="NP",D12=""),OR(E12="NP",E12="")),IF(AND(D12="",E12=""),"",IF(OR(D12="NP",E12="NP"),"NP","")),IF(OR(D12="NP",D12=""),E12,IF(OR(E12="NP",E12=""),D12,MIN(D12,E12)))) -> 28.41 | G12: =IF(OR(D12="",E12=""),"",IF(ISNUMBER(F12),RANK(F12,$F$4:$F$100,1),COUNT($F$4:$F$100)+COUNTIFS($B$4:B12,"<>",$F$4:F12,"NP"))) -> 14
A13: 59 | B13: Nováková Liliana | C13: Vlkoš | D13: 24.52 | E13: 22.49 | F13: =IF(AND(OR(D13="NP",D13=""),OR(E13="NP",E13="")),IF(AND(D13="",E13=""),"",IF(OR(D13="NP",E13="NP"),"NP","")),IF(OR(D13="NP",D13=""),E13,IF(OR(E13="NP",E13=""),D13,MIN(D13,E13)))) -> 22.49 | G13: =IF(OR(D13="",E13=""),"",IF(ISNUMBER(F13),RANK(F13,$F$4:$F$100,1),COUNT($F$4:$F$100)+COUNTIFS($B$4:B13,"<>",$F$4:F13,"NP"))) -> 10
A14: 60 | B14: Šimonová Eliška | C14: Hroznová Lhota | D14: 22.44 | E14: 22.68 | F14: =IF(AND(OR(D14="NP",D14=""),OR(E14="NP",E14="")),IF(AND(D14="",E14=""),"",IF(OR(D14="NP",E14="NP"),"NP","")),IF(OR(D14="NP",D14=""),E14,IF(OR(E14="NP",E14=""),D14,MIN(D14,E14)))) -> 22.44 | G14: =IF(OR(D14="",E14=""),"",IF(ISNUMBER(F14),RANK(F14,$F$4:$F$100,1),COUNT($F$4:$F$100)+COUNTIFS($B$4:B14,"<>",$F$4:F14,"NP"))) -> 9
A15: 61 | B15: Macková Marie | C15: Blatnice p. Sv. A. | D15: 18.72 | E15: 18.69 | F15: =IF(AND(OR(D15="NP",D15=""),OR(E15="NP",E15="")),IF(AND(D15="",E15=""),"",IF(OR(D15="NP",E15="NP"),"NP","")),IF(OR(D15="NP",D15=""),E15,IF(OR(E15="NP",E15=""),D15,MIN(D15,E15)))) -> 18.69 | G15: =IF(OR(D15="",E15=""),"",IF(ISNUMBER(F15),RANK(F15,$F$4:$F$100,1),COUNT($F$4:$F$100)+COUNTIFS($B$4:B15,"<>",$F$4:F15,"NP"))) -> 6
A16: 62 | B16: Drbalová Nella | C16: Želetice | D16: 30.13 | E16: NP | F16: =IF(AND(OR(D16="NP",D16=""),OR(E16="NP",E16="")),IF(AND(D16="",E16=""),"",IF(OR(D16="NP",E16="NP"),"NP","")),IF(OR(D16="NP",D16=""),E16,IF(OR(E16="NP",E16=""),D16,MIN(D16,E16)))) -> 30.13 | G16: =IF(OR(D16="",E16=""),"",IF(ISNUMBER(F16),RANK(F16,$F$4:$F$100,1),COUNT($F$4:$F$100)+COUNTIFS($B$4:B16,"<>",$F$4:F16,"NP"))) -> 15
A17: 63 | B17: Motyčková Ester | C17: Vnorovy | D17: 31.03 | E17: NP | F17: =IF(AND(OR(D17="NP",D17=""),OR(E17="NP",E17="")),IF(AND(D17="",E17=""),"",IF(OR(D17="NP",E17="NP"),"NP","")),IF(OR(D17="NP",D17=""),E17,IF(OR(E17="NP",E17=""),D17,MIN(D17,E17)))) -> 31.03 | G17: =IF(OR(D17="",E17=""),"",IF(ISNUMBER(F17),RANK(F17,$F$4:$F$100,1),COUNT($F$4:$F$100)+COUNTIFS($B$4:B17,"<>",$F$4:F17,"NP"))) -> 16
A18: 64 | B18: Neničková Natálie | C18: Vlkoš | D18: 25.77 | E18: 24.59 | F18: =IF(AND(OR(D18="NP",D18=""),OR(E18="NP",E18="")),IF(AND(D18="",E18=""),"",IF(OR(D18="NP",E18="NP"),"NP","")),IF(OR(D18="NP",D18=""),E18,IF(OR(E18="NP",E18=""),D18,MIN(D18,E18)))) -> 24.59 | G18: =IF(OR(D18="",E18=""),"",IF(ISNUMBER(F18),RANK(F18,$F$4:$F$100,1),COUNT($F$4:$F$100)+COUNTIFS($B$4:B18,"<>",$F$4:F18,"NP"))) -> 11
A19: 65 | B19: Říháková Beata Nikola | C19: Rohatec | D19: 37.06 | E19: 35.47 | F19: =IF(AND(OR(D19="NP",D19=""),OR(E19="NP",E19="")),IF(AND(D19="",E19=""),"",IF(OR(D19="NP",E19="NP"),"NP","")),IF(OR(D19="NP",D19=""),E19,IF(OR(E19="NP",E19=""),D19,MIN(D19,E19)))) -> 35.47 | G19: =IF(OR(D19="",E19=""),"",IF(ISNUMBER(F19),RANK(F19,$F$4:$F$100,1),COUNT($F$4:$F$100)+COUNTIFS($B$4:B19,"<>",$F$4:F19,"NP"))) -> 17
A20: 66 | B20: Novoměstská Isabela | C20: Vracov | D20: 14.3 | E20: 15.37 | F20: =IF(AND(OR(D20="NP",D20=""),OR(E20="NP",E20="")),IF(AND(D20="",E20=""),"",IF(OR(D20="NP",E20="NP"),"NP","")),IF(OR(D20="NP",D20=""),E20,IF(OR(E20="NP",E20=""),D20,MIN(D20,E20)))) -> 14.3 | G20: =IF(OR(D20="",E20=""),"",IF(ISNUMBER(F20),RANK(F20,$F$4:$F$100,1),COUNT($F$4:$F$100)+COUNTIFS($B$4:B20,"<>",$F$4:F20,"NP"))) -> 1
A21: 67 | F21: =IF(AND(OR(D21="NP",D21=""),OR(E21="NP",E21="")),IF(AND(D21="",E21=""),"",IF(OR(D21="NP",E21="NP"),"NP","")),IF(OR(D21="NP",D21=""),E21,IF(OR(E21="NP",E21=""),D21,MIN(D21,E21)))) | G21: =IF(OR(D21="",E21=""),"",IF(ISNUMBER(F21),RANK(F21,$F$4:$F$100,1),COUNT($F$4:$F$100)+COUNTIFS($B$4:B21,"<>",$F$4:F21,"NP")))
A22: 68 | F22: =IF(AND(OR(D22="NP",D22=""),OR(E22="NP",E22="")),IF(AND(D22="",E22=""),"",IF(OR(D22="NP",E22="NP"),"NP","")),IF(OR(D22="NP",D22=""),E22,IF(OR(E22="NP",E22=""),D22,MIN(D22,E22)))) | G22: =IF(OR(D22="",E22=""),"",IF(ISNUMBER(F22),RANK(F22,$F$4:$F$100,1),COUNT($F$4:$F$100)+COUNTIFS($B$4:B22,"<>",$F$4:F22,"NP")))
A23: 69 | F23: =IF(AND(OR(D23="NP",D23=""),OR(E23="NP",E23="")),IF(AND(D23="",E23=""),"",IF(OR(D23="NP",E23="NP"),"NP","")),IF(OR(D23="NP",D23=""),E23,IF(OR(E23="NP",E23=""),D23,MIN(D23,E23)))) | G23: =IF(OR(D23="",E23=""),"",IF(ISNUMBER(F23),RANK(F23,$F$4:$F$100,1),COUNT($F$4:$F$100)+COUNTIFS($B$4:B23,"<>",$F$4:F23,"NP")))
A24: 70 | F24: =IF(AND(OR(D24="NP",D24=""),OR(E24="NP",E24="")),IF(AND(D24="",E24=""),"",IF(OR(D24="NP",E24="NP"),"NP","")),IF(OR(D24="NP",D24=""),E24,IF(OR(E24="NP",E24=""),D24,MIN(D24,E24)))) | G24: =IF(OR(D24="",E24=""),"",IF(ISNUMBER(F24),RANK(F24,$F$4:$F$100,1),COUNT($F$4:$F$100)+COUNTIFS($B$4:B24,"<>",$F$4:F24,"NP")))
A25: 71 | F25: =IF(AND(OR(D25="NP",D25=""),OR(E25="NP",E25="")),IF(AND(D25="",E25=""),"",IF(OR(D25="NP",E25="NP"),"NP","")),IF(OR(D25="NP",D25=""),E25,IF(OR(E25="NP",E25=""),D25,MIN(D25,E25)))) | G25: =IF(OR(D25="",E25=""),"",IF(ISNUMBER(F25),RANK(F25,$F$4:$F$100,1),COUNT($F$4:$F$100)+COUNTIFS($B$4:B25,"<>",$F$4:F25,"NP")))
A26: 72 | F26: =IF(AND(OR(D26="NP",D26=""),OR(E26="NP",E26="")),IF(AND(D26="",E26=""),"",IF(OR(D26="NP",E26="NP"),"NP","")),IF(OR(D26="NP",D26=""),E26,IF(OR(E26="NP",E26=""),D26,MIN(D26,E26)))) | G26: =IF(OR(D26="",E26=""),"",IF(ISNUMBER(F26),RANK(F26,$F$4:$F$100,1),COUNT($F$4:$F$100)+COUNTIFS($B$4:B26,"<>",$F$4:F26,"NP")))
A27: 73 | F27: =IF(AND(OR(D27="NP",D27=""),OR(E27="NP",E27="")),IF(AND(D27="",E27=""),"",IF(OR(D27="NP",E27="NP"),"NP","")),IF(OR(D27="NP",D27=""),E27,IF(OR(E27="NP",E27=""),D27,MIN(D27,E27)))) | G27: =IF(OR(D27="",E27=""),"",IF(ISNUMBER(F27),RANK(F27,$F$4:$F$100,1),COUNT($F$4:$F$100)+COUNTIFS($B$4:B27,"<>",$F$4:F27,"NP")))
A28: 75 | F28: =IF(AND(OR(D28="NP",D28=""),OR(E28="NP",E28="")),IF(AND(D28="",E28=""),"",IF(OR(D28="NP",E28="NP"),"NP","")),IF(OR(D28="NP",D28=""),E28,IF(OR(E28="NP",E28=""),D28,MIN(D28,E28)))) | G28: =IF(OR(D28="",E28=""),"",IF(ISNUMBER(F28),RANK(F28,$F$4:$F$100,1),COUNT($F$4:$F$100)+COUNTIFS($B$4:B28,"<>",$F$4:F28,"NP")))
A29: =IF(B29<>"",COUNTA('7-8 ml_kluci'!B4:B100)+COUNTA('7-8 ml_holky'!B4:B100)+COUNTA('9-11 ml_kluci'!B4:B100)+COUNTIF(B$4:B29,"<>"),"") | F29: =IF(AND(OR(D29="NP",D29=""),OR(E29="NP",E29="")),IF(AND(D29="",E29=""),"",IF(OR(D29="NP",E29="NP"),"NP","")),IF(OR(D29="NP",D29=""),E29,IF(OR(E29="NP",E29=""),D29,MIN(D29,E29)))) | G29: =IF(OR(D29="",E29=""),"",IF(ISNUMBER(F29),RANK(F29,$F$4:$F$100,1),COUNT($F$4:$F$100)+COUNTIFS($B$4:B29,"<>",$F$4:F29,"NP")))
A30: =IF(B30<>"",COUNTA('7-8 ml_kluci'!B4:B100)+COUNTA('7-8 ml_holky'!B4:B100)+COUNTA('9-11 ml_kluci'!B4:B100)+COUNTIF(B$4:B30,"<>"),"") | F30: =IF(AND(OR(D30="NP",D30=""),OR(E30="NP",E30="")),IF(AND(D30="",E30=""),"",IF(OR(D30="NP",E30="NP"),"NP","")),IF(OR(D30="NP",D30=""),E30,IF(OR(E30="NP",E30=""),D30,MIN(D30,E30)))) | G30: =IF(OR(D30="",E30=""),"",IF(ISNUMBER(F30),RANK(F30,$F$4:$F$100,1),COUNT($F$4:$F$100)+COUNTIFS($B$4:B30,"<>",$F$4:F30,"NP")))
A31: =IF(B31<>"",COUNTA('7-8 ml_kluci'!B4:B100)+COUNTA('7-8 ml_holky'!B4:B100)+COUNTA('9-11 ml_kluci'!B4:B100)+COUNTIF(B$4:B31,"<>"),"") | F31: =IF(AND(OR(D31="NP",D31=""),OR(E31="NP",E31="")),IF(AND(D31="",E31=""),"",IF(OR(D31="NP",E31="NP"),"NP","")),IF(OR(D31="NP",D31=""),E31,IF(OR(E31="NP",E31=""),D31,MIN(D31,E31)))) | G31: =IF(OR(D31="",E31=""),"",IF(ISNUMBER(F31),RANK(F31,$F$4:$F$100,1),COUNT($F$4:$F$100)+COUNTIFS($B$4:B31,"<>",$F$4:F31,"NP")))
A32: =IF(B32<>"",COUNTA('7-8 ml_kluci'!B4:B100)+COUNTA('7-8 ml_holky'!B4:B100)+COUNTA('9-11 ml_kluci'!B4:B100)+COUNTIF(B$4:B32,"<>"),"") | F32: =IF(AND(OR(D32="NP",D32=""),OR(E32="NP",E32="")),IF(AND(D32="",E32=""),"",IF(OR(D32="NP",E32="NP"),"NP","")),IF(OR(D32="NP",D32=""),E32,IF(OR(E32="NP",E32=""),D32,MIN(D32,E32)))) | G32: =IF(OR(D32="",E32=""),"",IF(ISNUMBER(F32),RANK(F32,$F$4:$F$100,1),COUNT($F$4:$F$100)+COUNTIFS($B$4:B32,"<>",$F$4:F32,"NP")))
A33: =IF(B33<>"",COUNTA('7-8 ml_kluci'!B4:B100)+COUNTA('7-8 ml_holky'!B4:B100)+COUNTA('9-11 ml_kluci'!B4:B100)+COUNTIF(B$4:B33,"<>"),"") | F33: =IF(AND(OR(D33="NP",D33=""),OR(E33="NP",E33="")),IF(AND(D33="",E33=""),"",IF(OR(D33="NP",E33="NP"),"NP","")),IF(OR(D33="NP",D33=""),E33,IF(OR(E33="NP",E33=""),D33,MIN(D33,E33)))) | G33: =IF(OR(D33="",E33=""),"",IF(ISNUMBER(F33),RANK(F33,$F$4:$F$100,1),COUNT($F$4:$F$100)+COUNTIFS($B$4:B33,"<>",$F$4:F33,"NP")))
A34: =IF(B34<>"",COUNTA('7-8 ml_kluci'!B4:B100)+COUNTA('7-8 ml_holky'!B4:B100)+COUNTA('9-11 ml_kluci'!B4:B100)+COUNTIF(B$4:B34,"<>"),"") | F34: =IF(AND(OR(D34="NP",D34=""),OR(E34="NP",E34="")),IF(AND(D34="",E34=""),"",IF(OR(D34="NP",E34="NP"),"NP","")),IF(OR(D34="NP",D34=""),E34,IF(OR(E34="NP",E34=""),D34,MIN(D34,E34)))) | G34: =IF(OR(D34="",E34=""),"",IF(ISNUMBER(F34),RANK(F34,$F$4:$F$100,1),COUNT($F$4:$F$100)+COUNTIFS($B$4:B34,"<>",$F$4:F34,"NP")))
A35: =IF(B35<>"",COUNTA('7-8 ml_kluci'!B4:B100)+COUNTA('7-8 ml_holky'!B4:B100)+COUNTA('9-11 ml_kluci'!B4:B100)+COUNTIF(B$4:B35,"<>"),"") | F35: =IF(AND(OR(D35="NP",D35=""),OR(E35="NP",E35="")),IF(AND(D35="",E35=""),"",IF(OR(D35="NP",E35="NP"),"NP","")),IF(OR(D35="NP",D35=""),E35,IF(OR(E35="NP",E35=""),D35,MIN(D35,E35)))) | G35: =IF(OR(D35="",E35=""),"",IF(ISNUMBER(F35),RANK(F35,$F$4:$F$100,1),COUNT($F$4:$F$100)+COUNTIFS($B$4:B35,"<>",$F$4:F35,"NP")))
A36: =IF(B36<>"",COUNTA('7-8 ml_kluci'!B4:B100)+COUNTA('7-8 ml_holky'!B4:B100)+COUNTA('9-11 ml_kluci'!B4:B100)+COUNTIF(B$4:B36,"<>"),"") | F36: =IF(AND(OR(D36="NP",D36=""),OR(E36="NP",E36="")),IF(AND(D36="",E36=""),"",IF(OR(D36="NP",E36="NP"),"NP","")),IF(OR(D36="NP",D36=""),E36,IF(OR(E36="NP",E36=""),D36,MIN(D36,E36)))) | G36: =IF(OR(D36="",E36=""),"",IF(ISNUMBER(F36),RANK(F36,$F$4:$F$100,1),COUNT($F$4:$F$100)+COUNTIFS($B$4:B36,"<>",$F$4:F36,"NP")))
A37: =IF(B37<>"",COUNTA('7-8 ml_kluci'!B4:B100)+COUNTA('7-8 ml_holky'!B4:B100)+COUNTA('9-11 ml_kluci'!B4:B100)+COUNTIF(B$4:B37,"<>"),"") | F37: =IF(AND(OR(D37="NP",D37=""),OR(E37="NP",E37="")),IF(AND(D37="",E37=""),"",IF(OR(D37="NP",E37="NP"),"NP","")),IF(OR(D37="NP",D37=""),E37,IF(OR(E37="NP",E37=""),D37,MIN(D37,E37)))) | G37: =IF(OR(D37="",E37=""),"",IF(ISNUMBER(F37),RANK(F37,$F$4:$F$100,1),COUNT($F$4:$F$100)+COUNTIFS($B$4:B37,"<>",$F$4:F37,"NP")))
A38: =IF(B38<>"",COUNTA('7-8 ml_kluci'!B4:B100)+COUNTA('7-8 ml_holky'!B4:B100)+COUNTA('9-11 ml_kluci'!B4:B100)+COUNTIF(B$4:B38,"<>"),"") | F38: =IF(AND(OR(D38="NP",D38=""),OR(E38="NP",E38="")),IF(AND(D38="",E38=""),"",IF(OR(D38="NP",E38="NP"),"NP","")),IF(OR(D38="NP",D38=""),E38,IF(OR(E38="NP",E38=""),D38,MIN(D38,E38)))) | G38: =IF(OR(D38="",E38=""),"",IF(ISNUMBER(F38),RANK(F38,$F$4:$F$100,1),COUNT($F$4:$F$100)+COUNTIFS($B$4:B38,"<>",$F$4:F38,"NP")))
A39: =IF(B39<>"",COUNTA('7-8 ml_kluci'!B4:B100)+COUNTA('7-8 ml_holky'!B4:B100)+COUNTA('9-11 ml_kluci'!B4:B100)+COUNTIF(B$4:B39,"<>"),"") | F39: =IF(AND(OR(D39="NP",D39=""),OR(E39="NP",E39="")),IF(AND(D39="",E39=""),"",IF(OR(D39="NP",E39="NP"),"NP","")),IF(OR(D39="NP",D39=""),E39,IF(OR(E39="NP",E39=""),D39,MIN(D39,E39)))) | G39: =IF(OR(D39="",E39=""),"",IF(ISNUMBER(F39),RANK(F39,$F$4:$F$100,1),COUNT($F$4:$F$100)+COUNTIFS($B$4:B39,"<>",$F$4:F39,"NP")))
A40: =IF(B40<>"",COUNTA('7-8 ml_kluci'!B4:B100)+COUNTA('7-8 ml_holky'!B4:B100)+COUNTA('9-11 ml_kluci'!B4:B100)+COUNTIF(B$4:B40,"<>"),"") | F40: =IF(AND(OR(D40="NP",D40=""),OR(E40="NP",E40="")),IF(AND(D40="",E40=""),"",IF(OR(D40="NP",E40="NP"),"NP","")),IF(OR(D40="NP",D40=""),E40,IF(OR(E40="NP",E40=""),D40,MIN(D40,E40)))) | G40: =IF(OR(D40="",E40=""),"",IF(ISNUMBER(F40),RANK(F40,$F$4:$F$100,1),COUNT($F$4:$F$100)+COUNTIFS($B$4:B40,"<>",$F$4:F40,"NP")))
A41: =IF(B41<>"",COUNTA('7-8 ml_kluci'!B4:B100)+COUNTA('7-8 ml_holky'!B4:B100)+COUNTA('9-11 ml_kluci'!B4:B100)+COUNTIF(B$4:B41,"<>"),"") | F41: =IF(AND(OR(D41="NP",D41=""),OR(E41="NP",E41="")),IF(AND(D41="",E41=""),"",IF(OR(D41="NP",E41="NP"),"NP","")),IF(OR(D41="NP",D41=""),E41,IF(OR(E41="NP",E41=""),D41,MIN(D41,E41)))) | G41: =IF(OR(D41="",E41=""),"",IF(ISNUMBER(F41),RANK(F41,$F$4:$F$100,1),COUNT($F$4:$F$100)+COUNTIFS($B$4:B41,"<>",$F$4:F41,"NP")))
A42: =IF(B42<>"",COUNTA('7-8 ml_kluci'!B4:B100)+COUNTA('7-8 ml_holky'!B4:B100)+COUNTA('9-11 ml_kluci'!B4:B100)+COUNTIF(B$4:B42,"<>"),"") | F42: =IF(AND(OR(D42="NP",D42=""),OR(E42="NP",E42="")),IF(AND(D42="",E42=""),"",IF(OR(D42="NP",E42="NP"),"NP","")),IF(OR(D42="NP",D42=""),E42,IF(OR(E42="NP",E42=""),D42,MIN(D42,E42)))) | G42: =IF(OR(D42="",E42=""),"",IF(ISNUMBER(F42),RANK(F42,$F$4:$F$100,1),COUNT($F$4:$F$100)+COUNTIFS($B$4:B42,"<>",$F$4:F42,"NP")))
A43: =IF(B43<>"",COUNTA('7-8 ml_kluci'!B4:B100)+COUNTA('7-8 ml_holky'!B4:B100)+COUNTA('9-11 ml_kluci'!B4:B100)+COUNTIF(B$4:B43,"<>"),"") | F43: =IF(AND(OR(D43="NP",D43=""),OR(E43="NP",E43="")),IF(AND(D43="",E43=""),"",IF(OR(D43="NP",E43="NP"),"NP","")),IF(OR(D43="NP",D43=""),E43,IF(OR(E43="NP",E43=""),D43,MIN(D43,E43)))) | G43: =IF(OR(D43="",E43=""),"",IF(ISNUMBER(F43),RANK(F43,$F$4:$F$100,1),COUNT($F$4:$F$100)+COUNTIFS($B$4:B43,"<>",$F$4:F43,"NP")))
A44: =IF(B44<>"",COUNTA('7-8 ml_kluci'!B4:B100)+COUNTA('7-8 ml_holky'!B4:B100)+COUNTA('9-11 ml_kluci'!B4:B100)+COUNTIF(B$4:B44,"<>"),"") | F44: =IF(AND(OR(D44="NP",D44=""),OR(E44="NP",E44="")),IF(AND(D44="",E44=""),"",IF(OR(D44="NP",E44="NP"),"NP","")),IF(OR(D44="NP",D44=""),E44,IF(OR(E44="NP",E44=""),D44,MIN(D44,E44)))) | G44: =IF(OR(D44="",E44=""),"",IF(ISNUMBER(F44),RANK(F44,$F$4:$F$100,1),COUNT($F$4:$F$100)+COUNTIFS($B$4:B44,"<>",$F$4:F44,"NP")))
A45: =IF(B45<>"",COUNTA('7-8 ml_kluci'!B4:B100)+COUNTA('7-8 ml_holky'!B4:B100)+COUNTA('9-11 ml_kluci'!B4:B100)+COUNTIF(B$4:B45,"<>"),"") | F45: =IF(AND(OR(D45="NP",D45=""),OR(E45="NP",E45="")),IF(AND(D45="",E45=""),"",IF(OR(D45="NP",E45="NP"),"NP","")),IF(OR(D45="NP",D45=""),E45,IF(OR(E45="NP",E45=""),D45,MIN(D45,E45)))) | G45: =IF(OR(D45="",E45=""),"",IF(ISNUMBER(F45),RANK(F45,$F$4:$F$100,1),COUNT($F$4:$F$100)+COUNTIFS($B$4:B45,"<>",$F$4:F45,"NP")))
A46: =IF(B46<>"",COUNTA('7-8 ml_kluci'!B4:B100)+COUNTA('7-8 ml_holky'!B4:B100)+COUNTA('9-11 ml_kluci'!B4:B100)+COUNTIF(B$4:B46,"<>"),"") | F46: =IF(AND(OR(D46="NP",D46=""),OR(E46="NP",E46="")),IF(AND(D46="",E46=""),"",IF(OR(D46="NP",E46="NP"),"NP","")),IF(OR(D46="NP",D46=""),E46,IF(OR(E46="NP",E46=""),D46,MIN(D46,E46)))) | G46: =IF(OR(D46="",E46=""),"",IF(ISNUMBER(F46),RANK(F46,$F$4:$F$100,1),COUNT($F$4:$F$100)+COUNTIFS($B$4:B46,"<>",$F$4:F46,"NP")))
A47: =IF(B47<>"",COUNTA('7-8 ml_kluci'!B4:B100)+COUNTA('7-8 ml_holky'!B4:B100)+COUNTA('9-11 ml_kluci'!B4:B100)+COUNTIF(B$4:B47,"<>"),"") | F47: =IF(AND(OR(D47="NP",D47=""),OR(E47="NP",E47="")),IF(AND(D47="",E47=""),"",IF(OR(D47="NP",E47="NP"),"NP","")),IF(OR(D47="NP",D47=""),E47,IF(OR(E47="NP",E47=""),D47,MIN(D47,E47)))) | G47: =IF(OR(D47="",E47=""),"",IF(ISNUMBER(F47),RANK(F47,$F$4:$F$100,1),COUNT($F$4:$F$100)+COUNTIFS($B$4:B47,"<>",$F$4:F47,"NP")))
A48: =IF(B48<>"",COUNTA('7-8 ml_kluci'!B4:B100)+COUNTA('7-8 ml_holky'!B4:B100)+COUNTA('9-11 ml_kluci'!B4:B100)+COUNTIF(B$4:B48,"<>"),"") | F48: =IF(AND(OR(D48="NP",D48=""),OR(E48="NP",E48="")),IF(AND(D48="",E48=""),"",IF(OR(D48="NP",E48="NP"),"NP","")),IF(OR(D48="NP",D48=""),E48,IF(OR(E48="NP",E48=""),D48,MIN(D48,E48)))) | G48: =IF(OR(D48="",E48=""),"",IF(ISNUMBER(F48),RANK(F48,$F$4:$F$100,1),COUNT($F$4:$F$100)+COUNTIFS($B$4:B48,"<>",$F$4:F48,"NP")))
A49: =IF(B49<>"",COUNTA('7-8 ml_kluci'!B4:B100)+COUNTA('7-8 ml_holky'!B4:B100)+COUNTA('9-11 ml_kluci'!B4:B100)+COUNTIF(B$4:B49,"<>"),"") | F49: =IF(AND(OR(D49="NP",D49=""),OR(E49="NP",E49="")),IF(AND(D49="",E49=""),"",IF(OR(D49="NP",E49="NP"),"NP","")),IF(OR(D49="NP",D49=""),E49,IF(OR(E49="NP",E49=""),D49,MIN(D49,E49)))) | G49: =IF(OR(D49="",E49=""),"",IF(ISNUMBER(F49),RANK(F49,$F$4:$F$100,1),COUNT($F$4:$F$100)+COUNTIFS($B$4:B49,"<>",$F$4:F49,"NP")))
A50: =IF(B50<>"",COUNTA('7-8 ml_kluci'!B4:B100)+COUNTA('7-8 ml_holky'!B4:B100)+COUNTA('9-11 ml_kluci'!B4:B100)+COUNTIF(B$4:B50,"<>"),"") | F50: =IF(AND(OR(D50="NP",D50=""),OR(E50="NP",E50="")),IF(AND(D50="",E50=""),"",IF(OR(D50="NP",E50="NP"),"NP","")),IF(OR(D50="NP",D50=""),E50,IF(OR(E50="NP",E50=""),D50,MIN(D50,E50)))) | G50: =IF(OR(D50="",E50=""),"",IF(ISNUMBER(F50),RANK(F50,$F$4:$F$100,1),COUNT($F$4:$F$100)+COUNTIFS($B$4:B50,"<>",$F$4:F50,"NP")))
A51: =IF(B51<>"",COUNTA('7-8 ml_kluci'!B4:B100)+COUNTA('7-8 ml_holky'!B4:B100)+COUNTA('9-11 ml_kluci'!B4:B100)+COUNTIF(B$4:B51,"<>"),"") | F51: =IF(AND(OR(D51="NP",D51=""),OR(E51="NP",E51="")),IF(AND(D51="",E51=""),"",IF(OR(D51="NP",E51="NP"),"NP","")),IF(OR(D51="NP",D51=""),E51,IF(OR(E51="NP",E51=""),D51,MIN(D51,E51)))) | G51: =IF(OR(D51="",E51=""),"",IF(ISNUMBER(F51),RANK(F51,$F$4:$F$100,1),COUNT($F$4:$F$100)+COUNTIFS($B$4:B51,"<>",$F$4:F51,"NP")))
A52: =IF(B52<>"",COUNTA('7-8 ml_kluci'!B4:B100)+COUNTA('7-8 ml_holky'!B4:B100)+COUNTA('9-11 ml_kluci'!B4:B100)+COUNTIF(B$4:B52,"<>"),"") | F52: =IF(AND(OR(D52="NP",D52=""),OR(E52="NP",E52="")),IF(AND(D52="",E52=""),"",IF(OR(D52="NP",E52="NP"),"NP","")),IF(OR(D52="NP",D52=""),E52,IF(OR(E52="NP",E52=""),D52,MIN(D52,E52)))) | G52: =IF(OR(D52="",E52=""),"",IF(ISNUMBER(F52),RANK(F52,$F$4:$F$100,1),COUNT($F$4:$F$100)+COUNTIFS($B$4:B52,"<>",$F$4:F52,"NP")))
A53: =IF(B53<>"",COUNTA('7-8 ml_kluci'!B4:B100)+COUNTA('7-8 ml_holky'!B4:B100)+COUNTA('9-11 ml_kluci'!B4:B100)+COUNTIF(B$4:B53,"<>"),"") | F53: =IF(AND(OR(D53="NP",D53=""),OR(E53="NP",E53="")),IF(AND(D53="",E53=""),"",IF(OR(D53="NP",E53="NP"),"NP","")),IF(OR(D53="NP",D53=""),E53,IF(OR(E53="NP",E53=""),D53,MIN(D53,E53)))) | G53: =IF(OR(D53="",E53=""),"",IF(ISNUMBER(F53),RANK(F53,$F$4:$F$100,1),COUNT($F$4:$F$100)+COUNTIFS($B$4:B53,"<>",$F$4:F53,"NP")))
A54: =IF(B54<>"",COUNTA('7-8 ml_kluci'!B4:B100)+COUNTA('7-8 ml_holky'!B4:B100)+COUNTA('9-11 ml_kluci'!B4:B100)+COUNTIF(B$4:B54,"<>"),"") | F54: =IF(AND(OR(D54="NP",D54=""),OR(E54="NP",E54="")),IF(AND(D54="",E54=""),"",IF(OR(D54="NP",E54="NP"),"NP","")),IF(OR(D54="NP",D54=""),E54,IF(OR(E54="NP",E54=""),D54,MIN(D54,E54)))) | G54: =IF(OR(D54="",E54=""),"",IF(ISNUMBER(F54),RANK(F54,$F$4:$F$100,1),COUNT($F$4:$F$100)+COUNTIFS($B$4:B54,"<>",$F$4:F54,"NP")))
A55: =IF(B55<>"",COUNTA('7-8 ml_kluci'!B4:B100)+COUNTA('7-8 ml_holky'!B4:B100)+COUNTA('9-11 ml_kluci'!B4:B100)+COUNTIF(B$4:B55,"<>"),"") | F55: =IF(AND(OR(D55="NP",D55=""),OR(E55="NP",E55="")),IF(AND(D55="",E55=""),"",IF(OR(D55="NP",E55="NP"),"NP","")),IF(OR(D55="NP",D55=""),E55,IF(OR(E55="NP",E55=""),D55,MIN(D55,E55)))) | G55: =IF(OR(D55="",E55=""),"",IF(ISNUMBER(F55),RANK(F55,$F$4:$F$100,1),COUNT($F$4:$F$100)+COUNTIFS($B$4:B55,"<>",$F$4:F55,"NP")))
A56: =IF(B56<>"",COUNTA('7-8 ml_kluci'!B4:B100)+COUNTA('7-8 ml_holky'!B4:B100)+COUNTA('9-11 ml_kluci'!B4:B100)+COUNTIF(B$4:B56,"<>"),"") | F56: =IF(AND(OR(D56="NP",D56=""),OR(E56="NP",E56="")),IF(AND(D56="",E56=""),"",IF(OR(D56="NP",E56="NP"),"NP","")),IF(OR(D56="NP",D56=""),E56,IF(OR(E56="NP",E56=""),D56,MIN(D56,E56)))) | G56: =IF(OR(D56="",E56=""),"",IF(ISNUMBER(F56),RANK(F56,$F$4:$F$100,1),COUNT($F$4:$F$100)+COUNTIFS($B$4:B56,"<>",$F$4:F56,"NP")))
A57: =IF(B57<>"",COUNTA('7-8 ml_kluci'!B4:B100)+COUNTA('7-8 ml_holky'!B4:B100)+COUNTA('9-11 ml_kluci'!B4:B100)+COUNTIF(B$4:B57,"<>"),"") | F57: =IF(AND(OR(D57="NP",D57=""),OR(E57="NP",E57="")),IF(AND(D57="",E57=""),"",IF(OR(D57="NP",E57="NP"),"NP","")),IF(OR(D57="NP",D57=""),E57,IF(OR(E57="NP",E57=""),D57,MIN(D57,E57)))) | G57: =IF(OR(D57="",E57=""),"",IF(ISNUMBER(F57),RANK(F57,$F$4:$F$100,1),COUNT($F$4:$F$100)+COUNTIFS($B$4:B57,"<>",$F$4:F57,"NP")))
A58: =IF(B58<>"",COUNTA('7-8 ml_kluci'!B4:B100)+COUNTA('7-8 ml_holky'!B4:B100)+COUNTA('9-11 ml_kluci'!B4:B100)+COUNTIF(B$4:B58,"<>"),"") | F58: =IF(AND(OR(D58="NP",D58=""),OR(E58="NP",E58="")),IF(AND(D58="",E58=""),"",IF(OR(D58="NP",E58="NP"),"NP","")),IF(OR(D58="NP",D58=""),E58,IF(OR(E58="NP",E58=""),D58,MIN(D58,E58)))) | G58: =IF(OR(D58="",E58=""),"",IF(ISNUMBER(F58),RANK(F58,$F$4:$F$100,1),COUNT($F$4:$F$100)+COUNTIFS($B$4:B58,"<>",$F$4:F58,"NP")))
A59: =IF(B59<>"",COUNTA('7-8 ml_kluci'!B4:B100)+COUNTA('7-8 ml_holky'!B4:B100)+COUNTA('9-11 ml_kluci'!B4:B100)+COUNTIF(B$4:B59,"<>"),"") | F59: =IF(AND(OR(D59="NP",D59=""),OR(E59="NP",E59="")),IF(AND(D59="",E59=""),"",IF(OR(D59="NP",E59="NP"),"NP","")),IF(OR(D59="NP",D59=""),E59,IF(OR(E59="NP",E59=""),D59,MIN(D59,E59)))) | G59: =IF(OR(D59="",E59=""),"",IF(ISNUMBER(F59),RANK(F59,$F$4:$F$100,1),COUNT($F$4:$F$100)+COUNTIFS($B$4:B59,"<>",$F$4:F59,"NP")))
A60: =IF(B60<>"",COUNTA('7-8 ml_kluci'!B4:B100)+COUNTA('7-8 ml_holky'!B4:B100)+COUNTA('9-11 ml_kluci'!B4:B100)+COUNTIF(B$4:B60,"<>"),"") | F60: =IF(AND(OR(D60="NP",D60=""),OR(E60="NP",E60="")),IF(AND(D60="",E60=""),"",IF(OR(D60="NP",E60="NP"),"NP","")),IF(OR(D60="NP",D60=""),E60,IF(OR(E60="NP",E60=""),D60,MIN(D60,E60)))) | G60: =IF(OR(D60="",E60=""),"",IF(ISNUMBER(F60),RANK(F60,$F$4:$F$100,1),COUNT($F$4:$F$100)+COUNTIFS($B$4:B60,"<>",$F$4:F60,"NP")))
A61: =IF(B61<>"",COUNTA('7-8 ml_kluci'!B4:B100)+COUNTA('7-8 ml_holky'!B4:B100)+COUNTA('9-11 ml_kluci'!B4:B100)+COUNTIF(B$4:B61,"<>"),"") | F61: =IF(AND(OR(D61="NP",D61=""),OR(E61="NP",E61="")),IF(AND(D61="",E61=""),"",IF(OR(D61="NP",E61="NP"),"NP","")),IF(OR(D61="NP",D61=""),E61,IF(OR(E61="NP",E61=""),D61,MIN(D61,E61)))) | G61: =IF(OR(D61="",E61=""),"",IF(ISNUMBER(F61),RANK(F61,$F$4:$F$100,1),COUNT($F$4:$F$100)+COUNTIFS($B$4:B61,"<>",$F$4:F61,"NP")))
A62: =IF(B62<>"",COUNTA('7-8 ml_kluci'!B4:B100)+COUNTA('7-8 ml_holky'!B4:B100)+COUNTA('9-11 ml_kluci'!B4:B100)+COUNTIF(B$4:B62,"<>"),"") | F62: =IF(AND(OR(D62="NP",D62=""),OR(E62="NP",E62="")),IF(AND(D62="",E62=""),"",IF(OR(D62="NP",E62="NP"),"NP","")),IF(OR(D62="NP",D62=""),E62,IF(OR(E62="NP",E62=""),D62,MIN(D62,E62)))) | G62: =IF(OR(D62="",E62=""),"",IF(ISNUMBER(F62),RANK(F62,$F$4:$F$100,1),COUNT($F$4:$F$100)+COUNTIFS($B$4:B62,"<>",$F$4:F62,"NP")))
A63: =IF(B63<>"",COUNTA('7-8 ml_kluci'!B4:B100)+COUNTA('7-8 ml_holky'!B4:B100)+COUNTA('9-11 ml_kluci'!B4:B100)+COUNTIF(B$4:B63,"<>"),"") | F63: =IF(AND(OR(D63="NP",D63=""),OR(E63="NP",E63="")),IF(AND(D63="",E63=""),"",IF(OR(D63="NP",E63="NP"),"NP","")),IF(OR(D63="NP",D63=""),E63,IF(OR(E63="NP",E63=""),D63,MIN(D63,E63)))) | G63: =IF(OR(D63="",E63=""),"",IF(ISNUMBER(F63),RANK(F63,$F$4:$F$100,1),COUNT($F$4:$F$100)+COUNTIFS($B$4:B63,"<>",$F$4:F63,"NP")))
A64: =IF(B64<>"",COUNTA('7-8 ml_kluci'!B4:B100)+COUNTA('7-8 ml_holky'!B4:B100)+COUNTA('9-11 ml_kluci'!B4:B100)+COUNTIF(B$4:B64,"<>"),"") | F64: =IF(AND(OR(D64="NP",D64=""),OR(E64="NP",E64="")),IF(AND(D64="",E64=""),"",IF(OR(D64="NP",E64="NP"),"NP","")),IF(OR(D64="NP",D64=""),E64,IF(OR(E64="NP",E64=""),D64,MIN(D64,E64)))) | G64: =IF(OR(D64="",E64=""),"",IF(ISNUMBER(F64),RANK(F64,$F$4:$F$100,1),COUNT($F$4:$F$100)+COUNTIFS($B$4:B64,"<>",$F$4:F64,"NP")))
A65: =IF(B65<>"",COUNTA('7-8 ml_kluci'!B4:B100)+COUNTA('7-8 ml_holky'!B4:B100)+COUNTA('9-11 ml_kluci'!B4:B100)+COUNTIF(B$4:B65,"<>"),"") | F65: =IF(AND(OR(D65="NP",D65=""),OR(E65="NP",E65="")),IF(AND(D65="",E65=""),"",IF(OR(D65="NP",E65="NP"),"NP","")),IF(OR(D65="NP",D65=""),E65,IF(OR(E65="NP",E65=""),D65,MIN(D65,E65)))) | G65: =IF(OR(D65="",E65=""),"",IF(ISNUMBER(F65),RANK(F65,$F$4:$F$100,1),COUNT($F$4:$F$100)+COUNTIFS($B$4:B65,"<>",$F$4:F65,"NP")))
A66: =IF(B66<>"",COUNTA('7-8 ml_kluci'!B4:B100)+COUNTA('7-8 ml_holky'!B4:B100)+COUNTA('9-11 ml_kluci'!B4:B100)+COUNTIF(B$4:B66,"<>"),"") | F66: =IF(AND(OR(D66="NP",D66=""),OR(E66="NP",E66="")),IF(AND(D66="",E66=""),"",IF(OR(D66="NP",E66="NP"),"NP","")),IF(OR(D66="NP",D66=""),E66,IF(OR(E66="NP",E66=""),D66,MIN(D66,E66)))) | G66: =IF(OR(D66="",E66=""),"",IF(ISNUMBER(F66),RANK(F66,$F$4:$F$100,1),COUNT($F$4:$F$100)+COUNTIFS($B$4:B66,"<>",$F$4:F66,"NP")))
A67: =IF(B67<>"",COUNTA('7-8 ml_kluci'!B4:B100)+COUNTA('7-8 ml_holky'!B4:B100)+COUNTA('9-11 ml_kluci'!B4:B100)+COUNTIF(B$4:B67,"<>"),"") | F67: =IF(AND(OR(D67="NP",D67=""),OR(E67="NP",E67="")),IF(AND(D67="",E67=""),"",IF(OR(D67="NP",E67="NP"),"NP","")),IF(OR(D67="NP",D67=""),E67,IF(OR(E67="NP",E67=""),D67,MIN(D67,E67)))) | G67: =IF(OR(D67="",E67=""),"",IF(ISNUMBER(F67),RANK(F67,$F$4:$F$100,1),COUNT($F$4:$F$100)+COUNTIFS($B$4:B67,"<>",$F$4:F67,"NP")))
A68: =IF(B68<>"",COUNTA('7-8 ml_kluci'!B4:B100)+COUNTA('7-8 ml_holky'!B4:B100)+COUNTA('9-11 ml_kluci'!B4:B100)+COUNTIF(B$4:B68,"<>"),"") | F68: =IF(AND(OR(D68="NP",D68=""),OR(E68="NP",E68="")),IF(AND(D68="",E68=""),"",IF(OR(D68="NP",E68="NP"),"NP","")),IF(OR(D68="NP",D68=""),E68,IF(OR(E68="NP",E68=""),D68,MIN(D68,E68)))) | G68: =IF(OR(D68="",E68=""),"",IF(ISNUMBER(F68),RANK(F68,$F$4:$F$100,1),COUNT($F$4:$F$100)+COUNTIFS($B$4:B68,"<>",$F$4:F68,"NP")))
A69: =IF(B69<>"",COUNTA('7-8 ml_kluci'!B4:B100)+COUNTA('7-8 ml_holky'!B4:B100)+COUNTA('9-11 ml_kluci'!B4:B100)+COUNTIF(B$4:B69,"<>"),"") | F69: =IF(AND(OR(D69="NP",D69=""),OR(E69="NP",E69="")),IF(AND(D69="",E69=""),"",IF(OR(D69="NP",E69="NP"),"NP","")),IF(OR(D69="NP",D69=""),E69,IF(OR(E69="NP",E69=""),D69,MIN(D69,E69)))) | G69: =IF(OR(D69="",E69=""),"",IF(ISNUMBER(F69),RANK(F69,$F$4:$F$100,1),COUNT($F$4:$F$100)+COUNTIFS($B$4:B69,"<>",$F$4:F69,"NP")))
A70: =IF(B70<>"",COUNTA('7-8 ml_kluci'!B4:B100)+COUNTA('7-8 ml_holky'!B4:B100)+COUNTA('9-11 ml_kluci'!B4:B100)+COUNTIF(B$4:B70,"<>"),"") | F70: =IF(AND(OR(D70="NP",D70=""),OR(E70="NP",E70="")),IF(AND(D70="",E70=""),"",IF(OR(D70="NP",E70="NP"),"NP","")),IF(OR(D70="NP",D70=""),E70,IF(OR(E70="NP",E70=""),D70,MIN(D70,E70)))) | G70: =IF(OR(D70="",E70=""),"",IF(ISNUMBER(F70),RANK(F70,$F$4:$F$100,1),COUNT($F$4:$F$100)+COUNTIFS($B$4:B70,"<>",$F$4:F70,"NP")))
A71: =IF(B71<>"",COUNTA('7-8 ml_kluci'!B4:B100)+COUNTA('7-8 ml_holky'!B4:B100)+COUNTA('9-11 ml_kluci'!B4:B100)+COUNTIF(B$4:B71,"<>"),"") | F71: =IF(AND(OR(D71="NP",D71=""),OR(E71="NP",E71="")),IF(AND(D71="",E71=""),"",IF(OR(D71="NP",E71="NP"),"NP","")),IF(OR(D71="NP",D71=""),E71,IF(OR(E71="NP",E71=""),D71,MIN(D71,E71)))) | G71: =IF(OR(D71="",E71=""),"",IF(ISNUMBER(F71),RANK(F71,$F$4:$F$100,1),COUNT($F$4:$F$100)+COUNTIFS($B$4:B71,"<>",$F$4:F71,"NP")))
A72: =IF(B72<>"",COUNTA('7-8 ml_kluci'!B4:B100)+COUNTA('7-8 ml_holky'!B4:B100)+COUNTA('9-11 ml_kluci'!B4:B100)+COUNTIF(B$4:B72,"<>"),"") | F72: =IF(AND(OR(D72="NP",D72=""),OR(E72="NP",E72="")),IF(AND(D72="",E72=""),"",IF(OR(D72="NP",E72="NP"),"NP","")),IF(OR(D72="NP",D72=""),E72,IF(OR(E72="NP",E72=""),D72,MIN(D72,E72)))) | G72: =IF(OR(D72="",E72=""),"",IF(ISNUMBER(F72),RANK(F72,$F$4:$F$100,1),COUNT($F$4:$F$100)+COUNTIFS($B$4:B72,"<>",$F$4:F72,"NP")))
A73: =IF(B73<>"",COUNTA('7-8 ml_kluci'!B4:B100)+COUNTA('7-8 ml_holky'!B4:B100)+COUNTA('9-11 ml_kluci'!B4:B100)+COUNTIF(B$4:B73,"<>"),"") | F73: =IF(AND(OR(D73="NP",D73=""),OR(E73="NP",E73="")),IF(AND(D73="",E73=""),"",IF(OR(D73="NP",E73="NP"),"NP","")),IF(OR(D73="NP",D73=""),E73,IF(OR(E73="NP",E73=""),D73,MIN(D73,E73)))) | G73: =IF(OR(D73="",E73=""),"",IF(ISNUMBER(F73),RANK(F73,$F$4:$F$100,1),COUNT($F$4:$F$100)+COUNTIFS($B$4:B73,"<>",$F$4:F73,"NP")))
A74: =IF(B74<>"",COUNTA('7-8 ml_kluci'!B4:B100)+COUNTA('7-8 ml_holky'!B4:B100)+COUNTA('9-11 ml_kluci'!B4:B100)+COUNTIF(B$4:B74,"<>"),"") | F74: =IF(AND(OR(D74="NP",D74=""),OR(E74="NP",E74="")),IF(AND(D74="",E74=""),"",IF(OR(D74="NP",E74="NP"),"NP","")),IF(OR(D74="NP",D74=""),E74,IF(OR(E74="NP",E74=""),D74,MIN(D74,E74)))) | G74: =IF(OR(D74="",E74=""),"",IF(ISNUMBER(F74),RANK(F74,$F$4:$F$100,1),COUNT($F$4:$F$100)+COUNTIFS($B$4:B74,"<>",$F$4:F74,"NP")))
A75: =IF(B75<>"",COUNTA('7-8 ml_kluci'!B4:B100)+COUNTA('7-8 ml_holky'!B4:B100)+COUNTA('9-11 ml_kluci'!B4:B100)+COUNTIF(B$4:B75,"<>"),"") | F75: =IF(AND(OR(D75="NP",D75=""),OR(E75="NP",E75="")),IF(AND(D75="",E75=""),"",IF(OR(D75="NP",E75="NP"),"NP","")),IF(OR(D75="NP",D75=""),E75,IF(OR(E75="NP",E75=""),D75,MIN(D75,E75)))) | G75: =IF(OR(D75="",E75=""),"",IF(ISNUMBER(F75),RANK(F75,$F$4:$F$100,1),COUNT($F$4:$F$100)+COUNTIFS($B$4:B75,"<>",$F$4:F75,"NP")))
A76: =IF(B76<>"",COUNTA('7-8 ml_kluci'!B4:B100)+COUNTA('7-8 ml_holky'!B4:B100)+COUNTA('9-11 ml_kluci'!B4:B100)+COUNTIF(B$4:B76,"<>"),"") | F76: =IF(AND(OR(D76="NP",D76=""),OR(E76="NP",E76="")),IF(AND(D76="",E76=""),"",IF(OR(D76="NP",E76="NP"),"NP","")),IF(OR(D76="NP",D76=""),E76,IF(OR(E76="NP",E76=""),D76,MIN(D76,E76)))) | G76: =IF(OR(D76="",E76=""),"",IF(ISNUMBER(F76),RANK(F76,$F$4:$F$100,1),COUNT($F$4:$F$100)+COUNTIFS($B$4:B76,"<>",$F$4:F76,"NP")))
A77: =IF(B77<>"",COUNTA('7-8 ml_kluci'!B4:B100)+COUNTA('7-8 ml_holky'!B4:B100)+COUNTA('9-11 ml_kluci'!B4:B100)+COUNTIF(B$4:B77,"<>"),"") | F77: =IF(AND(OR(D77="NP",D77=""),OR(E77="NP",E77="")),IF(AND(D77="",E77=""),"",IF(OR(D77="NP",E77="NP"),"NP","")),IF(OR(D77="NP",D77=""),E77,IF(OR(E77="NP",E77=""),D77,MIN(D77,E77)))) | G77: =IF(OR(D77="",E77=""),"",IF(ISNUMBER(F77),RANK(F77,$F$4:$F$100,1),COUNT($F$4:$F$100)+COUNTIFS($B$4:B77,"<>",$F$4:F77,"NP")))
A78: =IF(B78<>"",COUNTA('7-8 ml_kluci'!B4:B100)+COUNTA('7-8 ml_holky'!B4:B100)+COUNTA('9-11 ml_kluci'!B4:B100)+COUNTIF(B$4:B78,"<>"),"") | F78: =IF(AND(OR(D78="NP",D78=""),OR(E78="NP",E78="")),IF(AND(D78="",E78=""),"",IF(OR(D78="NP",E78="NP"),"NP","")),IF(OR(D78="NP",D78=""),E78,IF(OR(E78="NP",E78=""),D78,MIN(D78,E78)))) | G78: =IF(OR(D78="",E78=""),"",IF(ISNUMBER(F78),RANK(F78,$F$4:$F$100,1),COUNT($F$4:$F$100)+COUNTIFS($B$4:B78,"<>",$F$4:F78,"NP")))
A79: =IF(B79<>"",COUNTA('7-8 ml_kluci'!B4:B100)+COUNTA('7-8 ml_holky'!B4:B100)+COUNTA('9-11 ml_kluci'!B4:B100)+COUNTIF(B$4:B79,"<>"),"") | F79: =IF(AND(OR(D79="NP",D79=""),OR(E79="NP",E79="")),IF(AND(D79="",E79=""),"",IF(OR(D79="NP",E79="NP"),"NP","")),IF(OR(D79="NP",D79=""),E79,IF(OR(E79="NP",E79=""),D79,MIN(D79,E79)))) | G79: =IF(OR(D79="",E79=""),"",IF(ISNUMBER(F79),RANK(F79,$F$4:$F$100,1),COUNT($F$4:$F$100)+COUNTIFS($B$4:B79,"<>",$F$4:F79,"NP")))
A80: =IF(B80<>"",COUNTA('7-8 ml_kluci'!B4:B100)+COUNTA('7-8 ml_holky'!B4:B100)+COUNTA('9-11 ml_kluci'!B4:B100)+COUNTIF(B$4:B80,"<>"),"") | F80: =IF(AND(OR(D80="NP",D80=""),OR(E80="NP",E80="")),IF(AND(D80="",E80=""),"",IF(OR(D80="NP",E80="NP"),"NP","")),IF(OR(D80="NP",D80=""),E80,IF(OR(E80="NP",E80=""),D80,MIN(D80,E80)))) | G80: =IF(OR(D80="",E80=""),"",IF(ISNUMBER(F80),RANK(F80,$F$4:$F$100,1),COUNT($F$4:$F$100)+COUNTIFS($B$4:B80,"<>",$F$4:F80,"NP")))
A81: =IF(B81<>"",COUNTA('7-8 ml_kluci'!B4:B100)+COUNTA('7-8 ml_holky'!B4:B100)+COUNTA('9-11 ml_kluci'!B4:B100)+COUNTIF(B$4:B81,"<>"),"") | F81: =IF(AND(OR(D81="NP",D81=""),OR(E81="NP",E81="")),IF(AND(D81="",E81=""),"",IF(OR(D81="NP",E81="NP"),"NP","")),IF(OR(D81="NP",D81=""),E81,IF(OR(E81="NP",E81=""),D81,MIN(D81,E81)))) | G81: =IF(OR(D81="",E81=""),"",IF(ISNUMBER(F81),RANK(F81,$F$4:$F$100,1),COUNT($F$4:$F$100)+COUNTIFS($B$4:B81,"<>",$F$4:F81,"NP")))
A82: =IF(B82<>"",COUNTA('7-8 ml_kluci'!B4:B100)+COUNTA('7-8 ml_holky'!B4:B100)+COUNTA('9-11 ml_kluci'!B4:B100)+COUNTIF(B$4:B82,"<>"),"") | F82: =IF(AND(OR(D82="NP",D82=""),OR(E82="NP",E82="")),IF(AND(D82="",E82=""),"",IF(OR(D82="NP",E82="NP"),"NP","")),IF(OR(D82="NP",D82=""),E82,IF(OR(E82="NP",E82=""),D82,MIN(D82,E82)))) | G82: =IF(OR(D82="",E82=""),"",IF(ISNUMBER(F82),RANK(F82,$F$4:$F$100,1),COUNT($F$4:$F$100)+COUNTIFS($B$4:B82,"<>",$F$4:F82,"NP")))
A83: =IF(B83<>"",COUNTA('7-8 ml_kluci'!B4:B100)+COUNTA('7-8 ml_holky'!B4:B100)+COUNTA('9-11 ml_kluci'!B4:B100)+COUNTIF(B$4:B83,"<>"),"") | F83: =IF(AND(OR(D83="NP",D83=""),OR(E83="NP",E83="")),IF(AND(D83="",E83=""),"",IF(OR(D83="NP",E83="NP"),"NP","")),IF(OR(D83="NP",D83=""),E83,IF(OR(E83="NP",E83=""),D83,MIN(D83,E83)))) | G83: =IF(OR(D83="",E83=""),"",IF(ISNUMBER(F83),RANK(F83,$F$4:$F$100,1),COUNT($F$4:$F$100)+COUNTIFS($B$4:B83,"<>",$F$4:F83,"NP")))
A84: =IF(B84<>"",COUNTA('7-8 ml_kluci'!B4:B100)+COUNTA('7-8 ml_holky'!B4:B100)+COUNTA('9-11 ml_kluci'!B4:B100)+COUNTIF(B$4:B84,"<>"),"") | F84: =IF(AND(OR(D84="NP",D84=""),OR(E84="NP",E84="")),IF(AND(D84="",E84=""),"",IF(OR(D84="NP",E84="NP"),"NP","")),IF(OR(D84="NP",D84=""),E84,IF(OR(E84="NP",E84=""),D84,MIN(D84,E84)))) | G84: =IF(OR(D84="",E84=""),"",IF(ISNUMBER(F84),RANK(F84,$F$4:$F$100,1),COUNT($F$4:$F$100)+COUNTIFS($B$4:B84,"<>",$F$4:F84,"NP")))
A85: =IF(B85<>"",COUNTA('7-8 ml_kluci'!B4:B100)+COUNTA('7-8 ml_holky'!B4:B100)+COUNTA('9-11 ml_kluci'!B4:B100)+COUNTIF(B$4:B85,"<>"),"") | F85: =IF(AND(OR(D85="NP",D85=""),OR(E85="NP",E85="")),IF(AND(D85="",E85=""),"",IF(OR(D85="NP",E85="NP"),"NP","")),IF(OR(D85="NP",D85=""),E85,IF(OR(E85="NP",E85=""),D85,MIN(D85,E85)))) | G85: =IF(OR(D85="",E85=""),"",IF(ISNUMBER(F85),RANK(F85,$F$4:$F$100,1),COUNT($F$4:$F$100)+COUNTIFS($B$4:B85,"<>",$F$4:F85,"NP")))
A86: =IF(B86<>"",COUNTA('7-8 ml_kluci'!B4:B100)+COUNTA('7-8 ml_holky'!B4:B100)+COUNTA('9-11 ml_kluci'!B4:B100)+COUNTIF(B$4:B86,"<>"),"") | F86: =IF(AND(OR(D86="NP",D86=""),OR(E86="NP",E86="")),IF(AND(D86="",E86=""),"",IF(OR(D86="NP",E86="NP"),"NP","")),IF(OR(D86="NP",D86=""),E86,IF(OR(E86="NP",E86=""),D86,MIN(D86,E86)))) | G86: =IF(OR(D86="",E86=""),"",IF(ISNUMBER(F86),RANK(F86,$F$4:$F$100,1),COUNT($F$4:$F$100)+COUNTIFS($B$4:B86,"<>",$F$4:F86,"NP")))
A87: =IF(B87<>"",COUNTA('7-8 ml_kluci'!B4:B100)+COUNTA('7-8 ml_holky'!B4:B100)+COUNTA('9-11 ml_kluci'!B4:B100)+COUNTIF(B$4:B87,"<>"),"") | F87: =IF(AND(OR(D87="NP",D87=""),OR(E87="NP",E87="")),IF(AND(D87="",E87=""),"",IF(OR(D87="NP",E87="NP"),"NP","")),IF(OR(D87="NP",D87=""),E87,IF(OR(E87="NP",E87=""),D87,MIN(D87,E87)))) | G87: =IF(OR(D87="",E87=""),"",IF(ISNUMBER(F87),RANK(F87,$F$4:$F$100,1),COUNT($F$4:$F$100)+COUNTIFS($B$4:B87,"<>",$F$4:F87,"NP")))
A88: =IF(B88<>"",COUNTA('7-8 ml_kluci'!B4:B100)+COUNTA('7-8 ml_holky'!B4:B100)+COUNTA('9-11 ml_kluci'!B4:B100)+COUNTIF(B$4:B88,"<>"),"") | F88: =IF(AND(OR(D88="NP",D88=""),OR(E88="NP",E88="")),IF(AND(D88="",E88=""),"",IF(OR(D88="NP",E88="NP"),"NP","")),IF(OR(D88="NP",D88=""),E88,IF(OR(E88="NP",E88=""),D88,MIN(D88,E88)))) | G88: =IF(OR(D88="",E88=""),"",IF(ISNUMBER(F88),RANK(F88,$F$4:$F$100,1),COUNT($F$4:$F$100)+COUNTIFS($B$4:B88,"<>",$F$4:F88,"NP")))
A89: =IF(B89<>"",COUNTA('7-8 ml_kluci'!B4:B100)+COUNTA('7-8 ml_holky'!B4:B100)+COUNTA('9-11 ml_kluci'!B4:B100)+COUNTIF(B$4:B89,"<>"),"") | F89: =IF(AND(OR(D89="NP",D89=""),OR(E89="NP",E89="")),IF(AND(D89="",E89=""),"",IF(OR(D89="NP",E89="NP"),"NP","")),IF(OR(D89="NP",D89=""),E89,IF(OR(E89="NP",E89=""),D89,MIN(D89,E89)))) | G89: =IF(OR(D89="",E89=""),"",IF(ISNUMBER(F89),RANK(F89,$F$4:$F$100,1),COUNT($F$4:$F$100)+COUNTIFS($B$4:B89,"<>",$F$4:F89,"NP")))
A90: =IF(B90<>"",COUNTA('7-8 ml_kluci'!B4:B100)+COUNTA('7-8 ml_holky'!B4:B100)+COUNTA('9-11 ml_kluci'!B4:B100)+COUNTIF(B$4:B90,"<>"),"") | F90: =IF(AND(OR(D90="NP",D90=""),OR(E90="NP",E90="")),IF(AND(D90="",E90=""),"",IF(OR(D90="NP",E90="NP"),"NP","")),IF(OR(D90="NP",D90=""),E90,IF(OR(E90="NP",E90=""),D90,MIN(D90,E90)))) | G90: =IF(OR(D90="",E90=""),"",IF(ISNUMBER(F90),RANK(F90,$F$4:$F$100,1),COUNT($F$4:$F$100)+COUNTIFS($B$4:B90,"<>",$F$4:F90,"NP")))
A91: =IF(B91<>"",COUNTA('7-8 ml_kluci'!B4:B100)+COUNTA('7-8 ml_holky'!B4:B100)+COUNTA('9-11 ml_kluci'!B4:B100)+COUNTIF(B$4:B91,"<>"),"") | F91: =IF(AND(OR(D91="NP",D91=""),OR(E91="NP",E91="")),IF(AND(D91="",E91=""),"",IF(OR(D91="NP",E91="NP"),"NP","")),IF(OR(D91="NP",D91=""),E91,IF(OR(E91="NP",E91=""),D91,MIN(D91,E91)))) | G91: =IF(OR(D91="",E91=""),"",IF(ISNUMBER(F91),RANK(F91,$F$4:$F$100,1),COUNT($F$4:$F$100)+COUNTIFS($B$4:B91,"<>",$F$4:F91,"NP")))
A92: =IF(B92<>"",COUNTA('7-8 ml_kluci'!B4:B100)+COUNTA('7-8 ml_holky'!B4:B100)+COUNTA('9-11 ml_kluci'!B4:B100)+COUNTIF(B$4:B92,"<>"),"") | F92: =IF(AND(OR(D92="NP",D92=""),OR(E92="NP",E92="")),IF(AND(D92="",E92=""),"",IF(OR(D92="NP",E92="NP"),"NP","")),IF(OR(D92="NP",D92=""),E92,IF(OR(E92="NP",E92=""),D92,MIN(D92,E92)))) | G92: =IF(OR(D92="",E92=""),"",IF(ISNUMBER(F92),RANK(F92,$F$4:$F$100,1),COUNT($F$4:$F$100)+COUNTIFS($B$4:B92,"<>",$F$4:F92,"NP")))
A93: =IF(B93<>"",COUNTA('7-8 ml_kluci'!B4:B100)+COUNTA('7-8 ml_holky'!B4:B100)+COUNTA('9-11 ml_kluci'!B4:B100)+COUNTIF(B$4:B93,"<>"),"") | F93: =IF(AND(OR(D93="NP",D93=""),OR(E93="NP",E93="")),IF(AND(D93="",E93=""),"",IF(OR(D93="NP",E93="NP"),"NP","")),IF(OR(D93="NP",D93=""),E93,IF(OR(E93="NP",E93=""),D93,MIN(D93,E93)))) | G93: =IF(OR(D93="",E93=""),"",IF(ISNUMBER(F93),RANK(F93,$F$4:$F$100,1),COUNT($F$4:$F$100)+COUNTIFS($B$4:B93,"<>",$F$4:F93,"NP")))
A94: =IF(B94<>"",COUNTA('7-8 ml_kluci'!B4:B100)+COUNTA('7-8 ml_holky'!B4:B100)+COUNTA('9-11 ml_kluci'!B4:B100)+COUNTIF(B$4:B94,"<>"),"") | F94: =IF(AND(OR(D94="NP",D94=""),OR(E94="NP",E94="")),IF(AND(D94="",E94=""),"",IF(OR(D94="NP",E94="NP"),"NP","")),IF(OR(D94="NP",D94=""),E94,IF(OR(E94="NP",E94=""),D94,MIN(D94,E94)))) | G94: =IF(OR(D94="",E94=""),"",IF(ISNUMBER(F94),RANK(F94,$F$4:$F$100,1),COUNT($F$4:$F$100)+COUNTIFS($B$4:B94,"<>",$F$4:F94,"NP")))
A95: =IF(B95<>"",COUNTA('7-8 ml_kluci'!B4:B100)+COUNTA('7-8 ml_holky'!B4:B100)+COUNTA('9-11 ml_kluci'!B4:B100)+COUNTIF(B$4:B95,"<>"),"") | F95: =IF(AND(OR(D95="NP",D95=""),OR(E95="NP",E95="")),IF(AND(D95="",E95=""),"",IF(OR(D95="NP",E95="NP"),"NP","")),IF(OR(D95="NP",D95=""),E95,IF(OR(E95="NP",E95=""),D95,MIN(D95,E95)))) | G95: =IF(OR(D95="",E95=""),"",IF(ISNUMBER(F95),RANK(F95,$F$4:$F$100,1),COUNT($F$4:$F$100)+COUNTIFS($B$4:B95,"<>",$F$4:F95,"NP")))
A96: =IF(B96<>"",COUNTA('7-8 ml_kluci'!B4:B100)+COUNTA('7-8 ml_holky'!B4:B100)+COUNTA('9-11 ml_kluci'!B4:B100)+COUNTIF(B$4:B96,"<>"),"") | F96: =IF(AND(OR(D96="NP",D96=""),OR(E96="NP",E96="")),IF(AND(D96="",E96=""),"",IF(OR(D96="NP",E96="NP"),"NP","")),IF(OR(D96="NP",D96=""),E96,IF(OR(E96="NP",E96=""),D96,MIN(D96,E96)))) | G96: =IF(OR(D96="",E96=""),"",IF(ISNUMBER(F96),RANK(F96,$F$4:$F$100,1),COUNT($F$4:$F$100)+COUNTIFS($B$4:B96,"<>",$F$4:F96,"NP")))
A97: =IF(B97<>"",COUNTA('7-8 ml_kluci'!B4:B100)+COUNTA('7-8 ml_holky'!B4:B100)+COUNTA('9-11 ml_kluci'!B4:B100)+COUNTIF(B$4:B97,"<>"),"") | F97: =IF(AND(OR(D97="NP",D97=""),OR(E97="NP",E97="")),IF(AND(D97="",E97=""),"",IF(OR(D97="NP",E97="NP"),"NP","")),IF(OR(D97="NP",D97=""),E97,IF(OR(E97="NP",E97=""),D97,MIN(D97,E97)))) | G97: =IF(OR(D97="",E97=""),"",IF(ISNUMBER(F97),RANK(F97,$F$4:$F$100,1),COUNT($F$4:$F$100)+COUNTIFS($B$4:B97,"<>",$F$4:F97,"NP")))
A98: =IF(B98<>"",COUNTA('7-8 ml_kluci'!B4:B100)+COUNTA('7-8 ml_holky'!B4:B100)+COUNTA('9-11 ml_kluci'!B4:B100)+COUNTIF(B$4:B98,"<>"),"") | F98: =IF(AND(OR(D98="NP",D98=""),OR(E98="NP",E98="")),IF(AND(D98="",E98=""),"",IF(OR(D98="NP",E98="NP"),"NP","")),IF(OR(D98="NP",D98=""),E98,IF(OR(E98="NP",E98=""),D98,MIN(D98,E98)))) | G98: =IF(OR(D98="",E98=""),"",IF(ISNUMBER(F98),RANK(F98,$F$4:$F$100,1),COUNT($F$4:$F$100)+COUNTIFS($B$4:B98,"<>",$F$4:F98,"NP")))
A99: =IF(B99<>"",COUNTA('7-8 ml_kluci'!B4:B100)+COUNTA('7-8 ml_holky'!B4:B100)+COUNTA('9-11 ml_kluci'!B4:B100)+COUNTIF(B$4:B99,"<>"),"") | F99: =IF(AND(OR(D99="NP",D99=""),OR(E99="NP",E99="")),IF(AND(D99="",E99=""),"",IF(OR(D99="NP",E99="NP"),"NP","")),IF(OR(D99="NP",D99=""),E99,IF(OR(E99="NP",E99=""),D99,MIN(D99,E99)))) | G99: =IF(OR(D99="",E99=""),"",IF(ISNUMBER(F99),RANK(F99,$F$4:$F$100,1),COUNT($F$4:$F$100)+COUNTIFS($B$4:B99,"<>",$F$4:F99,"NP")))
A100: =IF(B100<>"",COUNTA('7-8 ml_kluci'!B4:B100)+COUNTA('7-8 ml_holky'!B4:B100)+COUNTA('9-11 ml_kluci'!B4:B100)+COUNTIF(B$4:B100,"<>"),"") | F100: =IF(AND(OR(D100="NP",D100=""),OR(E100="NP",E100="")),IF(AND(D100="",E100=""),"",IF(OR(D100="NP",E100="NP"),"NP","")),IF(OR(D100="NP",D100=""),E100,IF(OR(E100="NP",E100=""),D100,MIN(D100,E100)))) | G100: =IF(OR(D100="",E100=""),"",IF(ISNUMBER(F100),RANK(F100,$F$4:$F$100,1),COUNT($F$4:$F$100)+COUNTIFS($B$4:B100,"<>",$F$4:F100,"NP")))

Sheet 12-13 st_kluci
A1: Běh na 60 m s překážkami - Rohatec 23. 5. 2026
A2: Kategorie 12-13starší žáci - kluci | D2: 12-13 LET
A3: St. č. | B3: Příjmení a jméno | C3: SDH | D3: 1. pokus | E3: 2. pokus | F3: Výsl. čas | G3: Pořadí
A4: 76 | B4: Michal Poruba | C4: Miroslav | D4: 18.62 | E4: 16.28 | F4: =IF(AND(OR(D4="NP",D4=""),OR(E4="NP",E4="")),IF(AND(D4="",E4=""),"",IF(OR(D4="NP",E4="NP"),"NP","")),IF(OR(D4="NP",D4=""),E4,IF(OR(E4="NP",E4=""),D4,MIN(D4,E4)))) -> 16.28 | G4: =IF(OR(D4="",E4=""),"",IF(ISNUMBER(F4),RANK(F4,$F$4:$F$100,1),COUNT($F$4:$F$100)+COUNTIFS($B$4:B4,"<>",$F$4:F4,"NP"))) -> 4
A5: 77 | B5: Pokorný Matěj | C5: Petrov | D5: 17.98 | E5: 18.86 | F5: =IF(AND(OR(D5="NP",D5=""),OR(E5="NP",E5="")),IF(AND(D5="",E5=""),"",IF(OR(D5="NP",E5="NP"),"NP","")),IF(OR(D5="NP",D5=""),E5,IF(OR(E5="NP",E5=""),D5,MIN(D5,E5)))) -> 17.98 | G5: =IF(OR(D5="",E5=""),"",IF(ISNUMBER(F5),RANK(F5,$F$4:$F$100,1),COUNT($F$4:$F$100)+COUNTIFS($B$4:B5,"<>",$F$4:F5,"NP"))) -> 7
A6: 78 | B6: Klíma Matyáš | C6: Ratíškovice | D6: 17.96 | E6: 20.72 | F6: =IF(AND(OR(D6="NP",D6=""),OR(E6="NP",E6="")),IF(AND(D6="",E6=""),"",IF(OR(D6="NP",E6="NP"),"NP","")),IF(OR(D6="NP",D6=""),E6,IF(OR(E6="NP",E6=""),D6,MIN(D6,E6)))) -> 17.96 | G6: =IF(OR(D6="",E6=""),"",IF(ISNUMBER(F6),RANK(F6,$F$4:$F$100,1),COUNT($F$4:$F$100)+COUNTIFS($B$4:B6,"<>",$F$4:F6,"NP"))) -> 6
A7: 79 | B7: Holka Filip | C7: Vracov | D7: NP | E7: 16 | F7: =IF(AND(OR(D7="NP",D7=""),OR(E7="NP",E7="")),IF(AND(D7="",E7=""),"",IF(OR(D7="NP",E7="NP"),"NP","")),IF(OR(D7="NP",D7=""),E7,IF(OR(E7="NP",E7=""),D7,MIN(D7,E7)))) -> 16 | G7: =IF(OR(D7="",E7=""),"",IF(ISNUMBER(F7),RANK(F7,$F$4:$F$100,1),COUNT($F$4:$F$100)+COUNTIFS($B$4:B7,"<>",$F$4:F7,"NP"))) -> 3
A8: 80 | B8: Urbánek Tomáš | C8: Miroslav | D8: 16.23 | E8: 14.35 | F8: =IF(AND(OR(D8="NP",D8=""),OR(E8="NP",E8="")),IF(AND(D8="",E8=""),"",IF(OR(D8="NP",E8="NP"),"NP","")),IF(OR(D8="NP",D8=""),E8,IF(OR(E8="NP",E8=""),D8,MIN(D8,E8)))) -> 14.35 | G8: =IF(OR(D8="",E8=""),"",IF(ISNUMBER(F8),RANK(F8,$F$4:$F$100,1),COUNT($F$4:$F$100)+COUNTIFS($B$4:B8,"<>",$F$4:F8,"NP"))) -> 2
A9: 81 | B9: Demela Štěpán | C9: Mistřín | D9: 17.04 | E9: 17.01 | F9: =IF(AND(OR(D9="NP",D9=""),OR(E9="NP",E9="")),IF(AND(D9="",E9=""),"",IF(OR(D9="NP",E9="NP"),"NP","")),IF(OR(D9="NP",D9=""),E9,IF(OR(E9="NP",E9=""),D9,MIN(D9,E9)))) -> 17.01 | G9: =IF(OR(D9="",E9=""),"",IF(ISNUMBER(F9),RANK(F9,$F$4:$F$100,1),COUNT($F$4:$F$100)+COUNTIFS($B$4:B9,"<>",$F$4:F9,"NP"))) -> 5
A10: 82 | B10: Pazdera Jan | C10: Petrov | D10: 21.15 | E10: 21.81 | F10: =IF(AND(OR(D10="NP",D10=""),OR(E10="NP",E10="")),IF(AND(D10="",E10=""),"",IF(OR(D10="NP",E10="NP"),"NP","")),IF(OR(D10="NP",D10=""),E10,IF(OR(E10="NP",E10=""),D10,MIN(D10,E10)))) -> 21.15 | G10: =IF(OR(D10="",E10=""),"",IF(ISNUMBER(F10),RANK(F10,$F$4:$F$100,1),COUNT($F$4:$F$100)+COUNTIFS($B$4:B10,"<>",$F$4:F10,"NP"))) -> 11
A11: 83 | B11: Novák Mikuláš | C11: Vlkoš | D11: NP | E11: 19.55 | F11: =IF(AND(OR(D11="NP",D11=""),OR(E11="NP",E11="")),IF(AND(D11="",E11=""),"",IF(OR(D11="NP",E11="NP"),"NP","")),IF(OR(D11="NP",D11=""),E11,IF(OR(E11="NP",E11=""),D11,MIN(D11,E11)))) -> 19.55 | G11: =IF(OR(D11="",E11=""),"",IF(ISNUMBER(F11),RANK(F11,$F$4:$F$100,1),COUNT($F$4:$F$100)+COUNTIFS($B$4:B11,"<>",$F$4:F11,"NP"))) -> 9
A12: 84 | B12: Komenda Michal | C12: Miroslav | D12: 19.49 | E12: 19.88 | F12: =IF(AND(OR(D12="NP",D12=""),OR(E12="NP",E12="")),IF(AND(D12="",E12=""),"",IF(OR(D12="NP",E12="NP"),"NP","")),IF(OR(D12="NP",D12=""),E12,IF(OR(E12="NP",E12=""),D12,MIN(D12,E12)))) -> 19.49 | G12: =IF(OR(D12="",E12=""),"",IF(ISNUMBER(F12),RANK(F12,$F$4:$F$100,1),COUNT($F$4:$F$100)+COUNTIFS($B$4:B12,"<>",$F$4:F12,"NP"))) -> 8
A13: 85 | B13: Ďuračka Matěj | C13: Velká nad Veličkou | D13: 14.46 | E13: 14.04 | F13: =IF(AND(OR(D13="NP",D13=""),OR(E13="NP",E13="")),IF(AND(D13="",E13=""),"",IF(OR(D13="NP",E13="NP"),"NP","")),IF(OR(D13="NP",D13=""),E13,IF(OR(E13="NP",E13=""),D13,MIN(D13,E13)))) -> 14.04 | G13: =IF(OR(D13="",E13=""),"",IF(ISNUMBER(F13),RANK(F13,$F$4:$F$100,1),COUNT($F$4:$F$100)+COUNTIFS($B$4:B13,"<>",$F$4:F13,"NP"))) -> 1
A14: 86 | B14: Trávníček Václav | C14: Vnorovy | D14: 21 | E14: NP | F14: =IF(AND(OR(D14="NP",D14=""),OR(E14="NP",E14="")),IF(AND(D14="",E14=""),"",IF(OR(D14="NP",E14="NP"),"NP","")),IF(OR(D14="NP",D14=""),E14,IF(OR(E14="NP",E14=""),D14,MIN(D14,E14)))) -> 21 | G14: =IF(OR(D14="",E14=""),"",IF(ISNUMBER(F14),RANK(F14,$F$4:$F$100,1),COUNT($F$4:$F$100)+COUNTIFS($B$4:B14,"<>",$F$4:F14,"NP"))) -> 10
A15: 87 | B15: Brídl Aleš | C15: Želetice | D15: 42.59 | E15: 28.06 | F15: =IF(AND(OR(D15="NP",D15=""),OR(E15="NP",E15="")),IF(AND(D15="",E15=""),"",IF(OR(D15="NP",E15="NP"),"NP","")),IF(OR(D15="NP",D15=""),E15,IF(OR(E15="NP",E15=""),D15,MIN(D15,E15)))) -> 28.06 | G15: =IF(OR(D15="",E15=""),"",IF(ISNUMBER(F15),RANK(F15,$F$4:$F$100,1),COUNT($F$4:$F$100)+COUNTIFS($B$4:B15,"<>",$F$4:F15,"NP"))) -> 12
A16: 88 | F16: =IF(AND(OR(D16="NP",D16=""),OR(E16="NP",E16="")),IF(AND(D16="",E16=""),"",IF(OR(D16="NP",E16="NP"),"NP","")),IF(OR(D16="NP",D16=""),E16,IF(OR(E16="NP",E16=""),D16,MIN(D16,E16)))) | G16: =IF(OR(D16="",E16=""),"",IF(ISNUMBER(F16),RANK(F16,$F$4:$F$100,1),COUNT($F$4:$F$100)+COUNTIFS($B$4:B16,"<>",$F$4:F16,"NP")))
A17: 89 | F17: =IF(AND(OR(D17="NP",D17=""),OR(E17="NP",E17="")),IF(AND(D17="",E17=""),"",IF(OR(D17="NP",E17="NP"),"NP","")),IF(OR(D17="NP",D17=""),E17,IF(OR(E17="NP",E17=""),D17,MIN(D17,E17)))) | G17: =IF(OR(D17="",E17=""),"",IF(ISNUMBER(F17),RANK(F17,$F$4:$F$100,1),COUNT($F$4:$F$100)+COUNTIFS($B$4:B17,"<>",$F$4:F17,"NP")))
A18: 90 | F18: =IF(AND(OR(D18="NP",D18=""),OR(E18="NP",E18="")),IF(AND(D18="",E18=""),"",IF(OR(D18="NP",E18="NP"),"NP","")),IF(OR(D18="NP",D18=""),E18,IF(OR(E18="NP",E18=""),D18,MIN(D18,E18)))) | G18: =IF(OR(D18="",E18=""),"",IF(ISNUMBER(F18),RANK(F18,$F$4:$F$100,1),COUNT($F$4:$F$100)+COUNTIFS($B$4:B18,"<>",$F$4:F18,"NP")))
A19: 91 | F19: =IF(AND(OR(D19="NP",D19=""),OR(E19="NP",E19="")),IF(AND(D19="",E19=""),"",IF(OR(D19="NP",E19="NP"),"NP","")),IF(OR(D19="NP",D19=""),E19,IF(OR(E19="NP",E19=""),D19,MIN(D19,E19)))) | G19: =IF(OR(D19="",E19=""),"",IF(ISNUMBER(F19),RANK(F19,$F$4:$F$100,1),COUNT($F$4:$F$100)+COUNTIFS($B$4:B19,"<>",$F$4:F19,"NP")))
A20: 92 | F20: =IF(AND(OR(D20="NP",D20=""),OR(E20="NP",E20="")),IF(AND(D20="",E20=""),"",IF(OR(D20="NP",E20="NP"),"NP","")),IF(OR(D20="NP",D20=""),E20,IF(OR(E20="NP",E20=""),D20,MIN(D20,E20)))) | G20: =IF(OR(D20="",E20=""),"",IF(ISNUMBER(F20),RANK(F20,$F$4:$F$100,1),COUNT($F$4:$F$100)+COUNTIFS($B$4:B20,"<>",$F$4:F20,"NP")))
A21: 93 | F21: =IF(AND(OR(D21="NP",D21=""),OR(E21="NP",E21="")),IF(AND(D21="",E21=""),"",IF(OR(D21="NP",E21="NP"),"NP","")),IF(OR(D21="NP",D21=""),E21,IF(OR(E21="NP",E21=""),D21,MIN(D21,E21)))) | G21: =IF(OR(D21="",E21=""),"",IF(ISNUMBER(F21),RANK(F21,$F$4:$F$100,1),COUNT($F$4:$F$100)+COUNTIFS($B$4:B21,"<>",$F$4:F21,"NP")))
A22: 94 | F22: =IF(AND(OR(D22="NP",D22=""),OR(E22="NP",E22="")),IF(AND(D22="",E22=""),"",IF(OR(D22="NP",E22="NP"),"NP","")),IF(OR(D22="NP",D22=""),E22,IF(OR(E22="NP",E22=""),D22,MIN(D22,E22)))) | G22: =IF(OR(D22="",E22=""),"",IF(ISNUMBER(F22),RANK(F22,$F$4:$F$100,1),COUNT($F$4:$F$100)+COUNTIFS($B$4:B22,"<>",$F$4:F22,"NP")))
A23: 95 | F23: =IF(AND(OR(D23="NP",D23=""),OR(E23="NP",E23="")),IF(AND(D23="",E23=""),"",IF(OR(D23="NP",E23="NP"),"NP","")),IF(OR(D23="NP",D23=""),E23,IF(OR(E23="NP",E23=""),D23,MIN(D23,E23)))) | G23: =IF(OR(D23="",E23=""),"",IF(ISNUMBER(F23),RANK(F23,$F$4:$F$100,1),COUNT($F$4:$F$100)+COUNTIFS($B$4:B23,"<>",$F$4:F23,"NP")))
A24: 96 | F24: =IF(AND(OR(D24="NP",D24=""),OR(E24="NP",E24="")),IF(AND(D24="",E24=""),"",IF(OR(D24="NP",E24="NP"),"NP","")),IF(OR(D24="NP",D24=""),E24,IF(OR(E24="NP",E24=""),D24,MIN(D24,E24)))) | G24: =IF(OR(D24="",E24=""),"",IF(ISNUMBER(F24),RANK(F24,$F$4:$F$100,1),COUNT($F$4:$F$100)+COUNTIFS($B$4:B24,"<>",$F$4:F24,"NP")))
A25: =IF(B25<>"",COUNTA('7-8 ml_kluci'!B4:B100)+COUNTA('7-8 ml_holky'!B4:B100)+COUNTA('9-11 ml_kluci'!B4:B100)+COUNTA('9-11 ml_holky'!B4:B100)+COUNTIF(B$4:B25,"<>"),"") | F25: =IF(AND(OR(D25="NP",D25=""),OR(E25="NP",E25="")),IF(AND(D25="",E25=""),"",IF(OR(D25="NP",E25="NP"),"NP","")),IF(OR(D25="NP",D25=""),E25,IF(OR(E25="NP",E25=""),D25,MIN(D25,E25)))) | G25: =IF(OR(D25="",E25=""),"",IF(ISNUMBER(F25),RANK(F25,$F$4:$F$100,1),COUNT($F$4:$F$100)+COUNTIFS($B$4:B25,"<>",$F$4:F25,"NP")))
A26: =IF(B26<>"",COUNTA('7-8 ml_kluci'!B4:B100)+COUNTA('7-8 ml_holky'!B4:B100)+COUNTA('9-11 ml_kluci'!B4:B100)+COUNTA('9-11 ml_holky'!B4:B100)+COUNTIF(B$4:B26,"<>"),"") | F26: =IF(AND(OR(D26="NP",D26=""),OR(E26="NP",E26="")),IF(AND(D26="",E26=""),"",IF(OR(D26="NP",E26="NP"),"NP","")),IF(OR(D26="NP",D26=""),E26,IF(OR(E26="NP",E26=""),D26,MIN(D26,E26)))) | G26: =IF(OR(D26="",E26=""),"",IF(ISNUMBER(F26),RANK(F26,$F$4:$F$100,1),COUNT($F$4:$F$100)+COUNTIFS($B$4:B26,"<>",$F$4:F26,"NP")))
A27: =IF(B27<>"",COUNTA('7-8 ml_kluci'!B4:B100)+COUNTA('7-8 ml_holky'!B4:B100)+COUNTA('9-11 ml_kluci'!B4:B100)+COUNTA('9-11 ml_holky'!B4:B100)+COUNTIF(B$4:B27,"<>"),"") | F27: =IF(AND(OR(D27="NP",D27=""),OR(E27="NP",E27="")),IF(AND(D27="",E27=""),"",IF(OR(D27="NP",E27="NP"),"NP","")),IF(OR(D27="NP",D27=""),E27,IF(OR(E27="NP",E27=""),D27,MIN(D27,E27)))) | G27: =IF(OR(D27="",E27=""),"",IF(ISNUMBER(F27),RANK(F27,$F$4:$F$100,1),COUNT($F$4:$F$100)+COUNTIFS($B$4:B27,"<>",$F$4:F27,"NP")))
A28: =IF(B28<>"",COUNTA('7-8 ml_kluci'!B4:B100)+COUNTA('7-8 ml_holky'!B4:B100)+COUNTA('9-11 ml_kluci'!B4:B100)+COUNTA('9-11 ml_holky'!B4:B100)+COUNTIF(B$4:B28,"<>"),"") | F28: =IF(AND(OR(D28="NP",D28=""),OR(E28="NP",E28="")),IF(AND(D28="",E28=""),"",IF(OR(D28="NP",E28="NP"),"NP","")),IF(OR(D28="NP",D28=""),E28,IF(OR(E28="NP",E28=""),D28,MIN(D28,E28)))) | G28: =IF(OR(D28="",E28=""),"",IF(ISNUMBER(F28),RANK(F28,$F$4:$F$100,1),COUNT($F$4:$F$100)+COUNTIFS($B$4:B28,"<>",$F$4:F28,"NP")))
A29: =IF(B29<>"",COUNTA('7-8 ml_kluci'!B4:B100)+COUNTA('7-8 ml_holky'!B4:B100)+COUNTA('9-11 ml_kluci'!B4:B100)+COUNTA('9-11 ml_holky'!B4:B100)+COUNTIF(B$4:B29,"<>"),"") | F29: =IF(AND(OR(D29="NP",D29=""),OR(E29="NP",E29="")),IF(AND(D29="",E29=""),"",IF(OR(D29="NP",E29="NP"),"NP","")),IF(OR(D29="NP",D29=""),E29,IF(OR(E29="NP",E29=""),D29,MIN(D29,E29)))) | G29: =IF(OR(D29="",E29=""),"",IF(ISNUMBER(F29),RANK(F29,$F$4:$F$100,1),COUNT($F$4:$F$100)+COUNTIFS($B$4:B29,"<>",$F$4:F29,"NP")))
A30: =IF(B30<>"",COUNTA('7-8 ml_kluci'!B4:B100)+COUNTA('7-8 ml_holky'!B4:B100)+COUNTA('9-11 ml_kluci'!B4:B100)+COUNTA('9-11 ml_holky'!B4:B100)+COUNTIF(B$4:B30,"<>"),"") | F30: =IF(AND(OR(D30="NP",D30=""),OR(E30="NP",E30="")),IF(AND(D30="",E30=""),"",IF(OR(D30="NP",E30="NP"),"NP","")),IF(OR(D30="NP",D30=""),E30,IF(OR(E30="NP",E30=""),D30,MIN(D30,E30)))) | G30: =IF(OR(D30="",E30=""),"",IF(ISNUMBER(F30),RANK(F30,$F$4:$F$100,1),COUNT($F$4:$F$100)+COUNTIFS($B$4:B30,"<>",$F$4:F30,"NP")))
A31: =IF(B31<>"",COUNTA('7-8 ml_kluci'!B4:B100)+COUNTA('7-8 ml_holky'!B4:B100)+COUNTA('9-11 ml_kluci'!B4:B100)+COUNTA('9-11 ml_holky'!B4:B100)+COUNTIF(B$4:B31,"<>"),"") | F31: =IF(AND(OR(D31="NP",D31=""),OR(E31="NP",E31="")),IF(AND(D31="",E31=""),"",IF(OR(D31="NP",E31="NP"),"NP","")),IF(OR(D31="NP",D31=""),E31,IF(OR(E31="NP",E31=""),D31,MIN(D31,E31)))) | G31: =IF(OR(D31="",E31=""),"",IF(ISNUMBER(F31),RANK(F31,$F$4:$F$100,1),COUNT($F$4:$F$100)+COUNTIFS($B$4:B31,"<>",$F$4:F31,"NP")))
A32: =IF(B32<>"",COUNTA('7-8 ml_kluci'!B4:B100)+COUNTA('7-8 ml_holky'!B4:B100)+COUNTA('9-11 ml_kluci'!B4:B100)+COUNTA('9-11 ml_holky'!B4:B100)+COUNTIF(B$4:B32,"<>"),"") | F32: =IF(AND(OR(D32="NP",D32=""),OR(E32="NP",E32="")),IF(AND(D32="",E32=""),"",IF(OR(D32="NP",E32="NP"),"NP","")),IF(OR(D32="NP",D32=""),E32,IF(OR(E32="NP",E32=""),D32,MIN(D32,E32)))) | G32: =IF(OR(D32="",E32=""),"",IF(ISNUMBER(F32),RANK(F32,$F$4:$F$100,1),COUNT($F$4:$F$100)+COUNTIFS($B$4:B32,"<>",$F$4:F32,"NP")))
A33: =IF(B33<>"",COUNTA('7-8 ml_kluci'!B4:B100)+COUNTA('7-8 ml_holky'!B4:B100)+COUNTA('9-11 ml_kluci'!B4:B100)+COUNTA('9-11 ml_holky'!B4:B100)+COUNTIF(B$4:B33,"<>"),"") | F33: =IF(AND(OR(D33="NP",D33=""),OR(E33="NP",E33="")),IF(AND(D33="",E33=""),"",IF(OR(D33="NP",E33="NP"),"NP","")),IF(OR(D33="NP",D33=""),E33,IF(OR(E33="NP",E33=""),D33,MIN(D33,E33)))) | G33: =IF(OR(D33="",E33=""),"",IF(ISNUMBER(F33),RANK(F33,$F$4:$F$100,1),COUNT($F$4:$F$100)+COUNTIFS($B$4:B33,"<>",$F$4:F33,"NP")))
A34: =IF(B34<>"",COUNTA('7-8 ml_kluci'!B4:B100)+COUNTA('7-8 ml_holky'!B4:B100)+COUNTA('9-11 ml_kluci'!B4:B100)+COUNTA('9-11 ml_holky'!B4:B100)+COUNTIF(B$4:B34,"<>"),"") | F34: =IF(AND(OR(D34="NP",D34=""),OR(E34="NP",E34="")),IF(AND(D34="",E34=""),"",IF(OR(D34="NP",E34="NP"),"NP","")),IF(OR(D34="NP",D34=""),E34,IF(OR(E34="NP",E34=""),D34,MIN(D34,E34)))) | G34: =IF(OR(D34="",E34=""),"",IF(ISNUMBER(F34),RANK(F34,$F$4:$F$100,1),COUNT($F$4:$F$100)+COUNTIFS($B$4:B34,"<>",$F$4:F34,"NP")))
A35: =IF(B35<>"",COUNTA('7-8 ml_kluci'!B4:B100)+COUNTA('7-8 ml_holky'!B4:B100)+COUNTA('9-11 ml_kluci'!B4:B100)+COUNTA('9-11 ml_holky'!B4:B100)+COUNTIF(B$4:B35,"<>"),"") | F35: =IF(AND(OR(D35="NP",D35=""),OR(E35="NP",E35="")),IF(AND(D35="",E35=""),"",IF(OR(D35="NP",E35="NP"),"NP","")),IF(OR(D35="NP",D35=""),E35,IF(OR(E35="NP",E35=""),D35,MIN(D35,E35)))) | G35: =IF(OR(D35="",E35=""),"",IF(ISNUMBER(F35),RANK(F35,$F$4:$F$100,1),COUNT($F$4:$F$100)+COUNTIFS($B$4:B35,"<>",$F$4:F35,"NP")))
A36: =IF(B36<>"",COUNTA('7-8 ml_kluci'!B4:B100)+COUNTA('7-8 ml_holky'!B4:B100)+COUNTA('9-11 ml_kluci'!B4:B100)+COUNTA('9-11 ml_holky'!B4:B100)+COUNTIF(B$4:B36,"<>"),"") | F36: =IF(AND(OR(D36="NP",D36=""),OR(E36="NP",E36="")),IF(AND(D36="",E36=""),"",IF(OR(D36="NP",E36="NP"),"NP","")),IF(OR(D36="NP",D36=""),E36,IF(OR(E36="NP",E36=""),D36,MIN(D36,E36)))) | G36: =IF(OR(D36="",E36=""),"",IF(ISNUMBER(F36),RANK(F36,$F$4:$F$100,1),COUNT($F$4:$F$100)+COUNTIFS($B$4:B36,"<>",$F$4:F36,"NP")))
A37: =IF(B37<>"",COUNTA('7-8 ml_kluci'!B4:B100)+COUNTA('7-8 ml_holky'!B4:B100)+COUNTA('9-11 ml_kluci'!B4:B100)+COUNTA('9-11 ml_holky'!B4:B100)+COUNTIF(B$4:B37,"<>"),"") | F37: =IF(AND(OR(D37="NP",D37=""),OR(E37="NP",E37="")),IF(AND(D37="",E37=""),"",IF(OR(D37="NP",E37="NP"),"NP","")),IF(OR(D37="NP",D37=""),E37,IF(OR(E37="NP",E37=""),D37,MIN(D37,E37)))) | G37: =IF(OR(D37="",E37=""),"",IF(ISNUMBER(F37),RANK(F37,$F$4:$F$100,1),COUNT($F$4:$F$100)+COUNTIFS($B$4:B37,"<>",$F$4:F37,"NP")))
A38: =IF(B38<>"",COUNTA('7-8 ml_kluci'!B4:B100)+COUNTA('7-8 ml_holky'!B4:B100)+COUNTA('9-11 ml_kluci'!B4:B100)+COUNTA('9-11 ml_holky'!B4:B100)+COUNTIF(B$4:B38,"<>"),"") | F38: =IF(AND(OR(D38="NP",D38=""),OR(E38="NP",E38="")),IF(AND(D38="",E38=""),"",IF(OR(D38="NP",E38="NP"),"NP","")),IF(OR(D38="NP",D38=""),E38,IF(OR(E38="NP",E38=""),D38,MIN(D38,E38)))) | G38: =IF(OR(D38="",E38=""),"",IF(ISNUMBER(F38),RANK(F38,$F$4:$F$100,1),COUNT($F$4:$F$100)+COUNTIFS($B$4:B38,"<>",$F$4:F38,"NP")))
A39: =IF(B39<>"",COUNTA('7-8 ml_kluci'!B4:B100)+COUNTA('7-8 ml_holky'!B4:B100)+COUNTA('9-11 ml_kluci'!B4:B100)+COUNTA('9-11 ml_holky'!B4:B100)+COUNTIF(B$4:B39,"<>"),"") | F39: =IF(AND(OR(D39="NP",D39=""),OR(E39="NP",E39="")),IF(AND(D39="",E39=""),"",IF(OR(D39="NP",E39="NP"),"NP","")),IF(OR(D39="NP",D39=""),E39,IF(OR(E39="NP",E39=""),D39,MIN(D39,E39)))) | G39: =IF(OR(D39="",E39=""),"",IF(ISNUMBER(F39),RANK(F39,$F$4:$F$100,1),COUNT($F$4:$F$100)+COUNTIFS($B$4:B39,"<>",$F$4:F39,"NP")))
A40: =IF(B40<>"",COUNTA('7-8 ml_kluci'!B4:B100)+COUNTA('7-8 ml_holky'!B4:B100)+COUNTA('9-11 ml_kluci'!B4:B100)+COUNTA('9-11 ml_holky'!B4:B100)+COUNTIF(B$4:B40,"<>"),"") | F40: =IF(AND(OR(D40="NP",D40=""),OR(E40="NP",E40="")),IF(AND(D40="",E40=""),"",IF(OR(D40="NP",E40="NP"),"NP","")),IF(OR(D40="NP",D40=""),E40,IF(OR(E40="NP",E40=""),D40,MIN(D40,E40)))) | G40: =IF(OR(D40="",E40=""),"",IF(ISNUMBER(F40),RANK(F40,$F$4:$F$100,1),COUNT($F$4:$F$100)+COUNTIFS($B$4:B40,"<>",$F$4:F40,"NP")))
A41: =IF(B41<>"",COUNTA('7-8 ml_kluci'!B4:B100)+COUNTA('7-8 ml_holky'!B4:B100)+COUNTA('9-11 ml_kluci'!B4:B100)+COUNTA('9-11 ml_holky'!B4:B100)+COUNTIF(B$4:B41,"<>"),"") | F41: =IF(AND(OR(D41="NP",D41=""),OR(E41="NP",E41="")),IF(AND(D41="",E41=""),"",IF(OR(D41="NP",E41="NP"),"NP","")),IF(OR(D41="NP",D41=""),E41,IF(OR(E41="NP",E41=""),D41,MIN(D41,E41)))) | G41: =IF(OR(D41="",E41=""),"",IF(ISNUMBER(F41),RANK(F41,$F$4:$F$100,1),COUNT($F$4:$F$100)+COUNTIFS($B$4:B41,"<>",$F$4:F41,"NP")))
A42: =IF(B42<>"",COUNTA('7-8 ml_kluci'!B4:B100)+COUNTA('7-8 ml_holky'!B4:B100)+COUNTA('9-11 ml_kluci'!B4:B100)+COUNTA('9-11 ml_holky'!B4:B100)+COUNTIF(B$4:B42,"<>"),"") | F42: =IF(AND(OR(D42="NP",D42=""),OR(E42="NP",E42="")),IF(AND(D42="",E42=""),"",IF(OR(D42="NP",E42="NP"),"NP","")),IF(OR(D42="NP",D42=""),E42,IF(OR(E42="NP",E42=""),D42,MIN(D42,E42)))) | G42: =IF(OR(D42="",E42=""),"",IF(ISNUMBER(F42),RANK(F42,$F$4:$F$100,1),COUNT($F$4:$F$100)+COUNTIFS($B$4:B42,"<>",$F$4:F42,"NP")))
A43: =IF(B43<>"",COUNTA('7-8 ml_kluci'!B4:B100)+COUNTA('7-8 ml_holky'!B4:B100)+COUNTA('9-11 ml_kluci'!B4:B100)+COUNTA('9-11 ml_holky'!B4:B100)+COUNTIF(B$4:B43,"<>"),"") | F43: =IF(AND(OR(D43="NP",D43=""),OR(E43="NP",E43="")),IF(AND(D43="",E43=""),"",IF(OR(D43="NP",E43="NP"),"NP","")),IF(OR(D43="NP",D43=""),E43,IF(OR(E43="NP",E43=""),D43,MIN(D43,E43)))) | G43: =IF(OR(D43="",E43=""),"",IF(ISNUMBER(F43),RANK(F43,$F$4:$F$100,1),COUNT($F$4:$F$100)+COUNTIFS($B$4:B43,"<>",$F$4:F43,"NP")))
A44: =IF(B44<>"",COUNTA('7-8 ml_kluci'!B4:B100)+COUNTA('7-8 ml_holky'!B4:B100)+COUNTA('9-11 ml_kluci'!B4:B100)+COUNTA('9-11 ml_holky'!B4:B100)+COUNTIF(B$4:B44,"<>"),"") | F44: =IF(AND(OR(D44="NP",D44=""),OR(E44="NP",E44="")),IF(AND(D44="",E44=""),"",IF(OR(D44="NP",E44="NP"),"NP","")),IF(OR(D44="NP",D44=""),E44,IF(OR(E44="NP",E44=""),D44,MIN(D44,E44)))) | G44: =IF(OR(D44="",E44=""),"",IF(ISNUMBER(F44),RANK(F44,$F$4:$F$100,1),COUNT($F$4:$F$100)+COUNTIFS($B$4:B44,"<>",$F$4:F44,"NP")))
A45: =IF(B45<>"",COUNTA('7-8 ml_kluci'!B4:B100)+COUNTA('7-8 ml_holky'!B4:B100)+COUNTA('9-11 ml_kluci'!B4:B100)+COUNTA('9-11 ml_holky'!B4:B100)+COUNTIF(B$4:B45,"<>"),"") | F45: =IF(AND(OR(D45="NP",D45=""),OR(E45="NP",E45="")),IF(AND(D45="",E45=""),"",IF(OR(D45="NP",E45="NP"),"NP","")),IF(OR(D45="NP",D45=""),E45,IF(OR(E45="NP",E45=""),D45,MIN(D45,E45)))) | G45: =IF(OR(D45="",E45=""),"",IF(ISNUMBER(F45),RANK(F45,$F$4:$F$100,1),COUNT($F$4:$F$100)+COUNTIFS($B$4:B45,"<>",$F$4:F45,"NP")))
A46: =IF(B46<>"",COUNTA('7-8 ml_kluci'!B4:B100)+COUNTA('7-8 ml_holky'!B4:B100)+COUNTA('9-11 ml_kluci'!B4:B100)+COUNTA('9-11 ml_holky'!B4:B100)+COUNTIF(B$4:B46,"<>"),"") | F46: =IF(AND(OR(D46="NP",D46=""),OR(E46="NP",E46="")),IF(AND(D46="",E46=""),"",IF(OR(D46="NP",E46="NP"),"NP","")),IF(OR(D46="NP",D46=""),E46,IF(OR(E46="NP",E46=""),D46,MIN(D46,E46)))) | G46: =IF(OR(D46="",E46=""),"",IF(ISNUMBER(F46),RANK(F46,$F$4:$F$100,1),COUNT($F$4:$F$100)+COUNTIFS($B$4:B46,"<>",$F$4:F46,"NP")))
A47: =IF(B47<>"",COUNTA('7-8 ml_kluci'!B4:B100)+COUNTA('7-8 ml_holky'!B4:B100)+COUNTA('9-11 ml_kluci'!B4:B100)+COUNTA('9-11 ml_holky'!B4:B100)+COUNTIF(B$4:B47,"<>"),"") | F47: =IF(AND(OR(D47="NP",D47=""),OR(E47="NP",E47="")),IF(AND(D47="",E47=""),"",IF(OR(D47="NP",E47="NP"),"NP","")),IF(OR(D47="NP",D47=""),E47,IF(OR(E47="NP",E47=""),D47,MIN(D47,E47)))) | G47: =IF(OR(D47="",E47=""),"",IF(ISNUMBER(F47),RANK(F47,$F$4:$F$100,1),COUNT($F$4:$F$100)+COUNTIFS($B$4:B47,"<>",$F$4:F47,"NP")))
A48: =IF(B48<>"",COUNTA('7-8 ml_kluci'!B4:B100)+COUNTA('7-8 ml_holky'!B4:B100)+COUNTA('9-11 ml_kluci'!B4:B100)+COUNTA('9-11 ml_holky'!B4:B100)+COUNTIF(B$4:B48,"<>"),"") | F48: =IF(AND(OR(D48="NP",D48=""),OR(E48="NP",E48="")),IF(AND(D48="",E48=""),"",IF(OR(D48="NP",E48="NP"),"NP","")),IF(OR(D48="NP",D48=""),E48,IF(OR(E48="NP",E48=""),D48,MIN(D48,E48)))) | G48: =IF(OR(D48="",E48=""),"",IF(ISNUMBER(F48),RANK(F48,$F$4:$F$100,1),COUNT($F$4:$F$100)+COUNTIFS($B$4:B48,"<>",$F$4:F48,"NP")))
A49: =IF(B49<>"",COUNTA('7-8 ml_kluci'!B4:B100)+COUNTA('7-8 ml_holky'!B4:B100)+COUNTA('9-11 ml_kluci'!B4:B100)+COUNTA('9-11 ml_holky'!B4:B100)+COUNTIF(B$4:B49,"<>"),"") | F49: =IF(AND(OR(D49="NP",D49=""),OR(E49="NP",E49="")),IF(AND(D49="",E49=""),"",IF(OR(D49="NP",E49="NP"),"NP","")),IF(OR(D49="NP",D49=""),E49,IF(OR(E49="NP",E49=""),D49,MIN(D49,E49)))) | G49: =IF(OR(D49="",E49=""),"",IF(ISNUMBER(F49),RANK(F49,$F$4:$F$100,1),COUNT($F$4:$F$100)+COUNTIFS($B$4:B49,"<>",$F$4:F49,"NP")))
A50: =IF(B50<>"",COUNTA('7-8 ml_kluci'!B4:B100)+COUNTA('7-8 ml_holky'!B4:B100)+COUNTA('9-11 ml_kluci'!B4:B100)+COUNTA('9-11 ml_holky'!B4:B100)+COUNTIF(B$4:B50,"<>"),"") | F50: =IF(AND(OR(D50="NP",D50=""),OR(E50="NP",E50="")),IF(AND(D50="",E50=""),"",IF(OR(D50="NP",E50="NP"),"NP","")),IF(OR(D50="NP",D50=""),E50,IF(OR(E50="NP",E50=""),D50,MIN(D50,E50)))) | G50: =IF(OR(D50="",E50=""),"",IF(ISNUMBER(F50),RANK(F50,$F$4:$F$100,1),COUNT($F$4:$F$100)+COUNTIFS($B$4:B50,"<>",$F$4:F50,"NP")))
A51: =IF(B51<>"",COUNTA('7-8 ml_kluci'!B4:B100)+COUNTA('7-8 ml_holky'!B4:B100)+COUNTA('9-11 ml_kluci'!B4:B100)+COUNTA('9-11 ml_holky'!B4:B100)+COUNTIF(B$4:B51,"<>"),"") | F51: =IF(AND(OR(D51="NP",D51=""),OR(E51="NP",E51="")),IF(AND(D51="",E51=""),"",IF(OR(D51="NP",E51="NP"),"NP","")),IF(OR(D51="NP",D51=""),E51,IF(OR(E51="NP",E51=""),D51,MIN(D51,E51)))) | G51: =IF(OR(D51="",E51=""),"",IF(ISNUMBER(F51),RANK(F51,$F$4:$F$100,1),COUNT($F$4:$F$100)+COUNTIFS($B$4:B51,"<>",$F$4:F51,"NP")))
A52: =IF(B52<>"",COUNTA('7-8 ml_kluci'!B4:B100)+COUNTA('7-8 ml_holky'!B4:B100)+COUNTA('9-11 ml_kluci'!B4:B100)+COUNTA('9-11 ml_holky'!B4:B100)+COUNTIF(B$4:B52,"<>"),"") | F52: =IF(AND(OR(D52="NP",D52=""),OR(E52="NP",E52="")),IF(AND(D52="",E52=""),"",IF(OR(D52="NP",E52="NP"),"NP","")),IF(OR(D52="NP",D52=""),E52,IF(OR(E52="NP",E52=""),D52,MIN(D52,E52)))) | G52: =IF(OR(D52="",E52=""),"",IF(ISNUMBER(F52),RANK(F52,$F$4:$F$100,1),COUNT($F$4:$F$100)+COUNTIFS($B$4:B52,"<>",$F$4:F52,"NP")))
A53: =IF(B53<>"",COUNTA('7-8 ml_kluci'!B4:B100)+COUNTA('7-8 ml_holky'!B4:B100)+COUNTA('9-11 ml_kluci'!B4:B100)+COUNTA('9-11 ml_holky'!B4:B100)+COUNTIF(B$4:B53,"<>"),"") | F53: =IF(AND(OR(D53="NP",D53=""),OR(E53="NP",E53="")),IF(AND(D53="",E53=""),"",IF(OR(D53="NP",E53="NP"),"NP","")),IF(OR(D53="NP",D53=""),E53,IF(OR(E53="NP",E53=""),D53,MIN(D53,E53)))) | G53: =IF(OR(D53="",E53=""),"",IF(ISNUMBER(F53),RANK(F53,$F$4:$F$100,1),COUNT($F$4:$F$100)+COUNTIFS($B$4:B53,"<>",$F$4:F53,"NP")))
A54: =IF(B54<>"",COUNTA('7-8 ml_kluci'!B4:B100)+COUNTA('7-8 ml_holky'!B4:B100)+COUNTA('9-11 ml_kluci'!B4:B100)+COUNTA('9-11 ml_holky'!B4:B100)+COUNTIF(B$4:B54,"<>"),"") | F54: =IF(AND(OR(D54="NP",D54=""),OR(E54="NP",E54="")),IF(AND(D54="",E54=""),"",IF(OR(D54="NP",E54="NP"),"NP","")),IF(OR(D54="NP",D54=""),E54,IF(OR(E54="NP",E54=""),D54,MIN(D54,E54)))) | G54: =IF(OR(D54="",E54=""),"",IF(ISNUMBER(F54),RANK(F54,$F$4:$F$100,1),COUNT($F$4:$F$100)+COUNTIFS($B$4:B54,"<>",$F$4:F54,"NP")))
A55: =IF(B55<>"",COUNTA('7-8 ml_kluci'!B4:B100)+COUNTA('7-8 ml_holky'!B4:B100)+COUNTA('9-11 ml_kluci'!B4:B100)+COUNTA('9-11 ml_holky'!B4:B100)+COUNTIF(B$4:B55,"<>"),"") | F55: =IF(AND(OR(D55="NP",D55=""),OR(E55="NP",E55="")),IF(AND(D55="",E55=""),"",IF(OR(D55="NP",E55="NP"),"NP","")),IF(OR(D55="NP",D55=""),E55,IF(OR(E55="NP",E55=""),D55,MIN(D55,E55)))) | G55: =IF(OR(D55="",E55=""),"",IF(ISNUMBER(F55),RANK(F55,$F$4:$F$100,1),COUNT($F$4:$F$100)+COUNTIFS($B$4:B55,"<>",$F$4:F55,"NP")))
A56: =IF(B56<>"",COUNTA('7-8 ml_kluci'!B4:B100)+COUNTA('7-8 ml_holky'!B4:B100)+COUNTA('9-11 ml_kluci'!B4:B100)+COUNTA('9-11 ml_holky'!B4:B100)+COUNTIF(B$4:B56,"<>"),"") | F56: =IF(AND(OR(D56="NP",D56=""),OR(E56="NP",E56="")),IF(AND(D56="",E56=""),"",IF(OR(D56="NP",E56="NP"),"NP","")),IF(OR(D56="NP",D56=""),E56,IF(OR(E56="NP",E56=""),D56,MIN(D56,E56)))) | G56: =IF(OR(D56="",E56=""),"",IF(ISNUMBER(F56),RANK(F56,$F$4:$F$100,1),COUNT($F$4:$F$100)+COUNTIFS($B$4:B56,"<>",$F$4:F56,"NP")))
A57: =IF(B57<>"",COUNTA('7-8 ml_kluci'!B4:B100)+COUNTA('7-8 ml_holky'!B4:B100)+COUNTA('9-11 ml_kluci'!B4:B100)+COUNTA('9-11 ml_holky'!B4:B100)+COUNTIF(B$4:B57,"<>"),"") | F57: =IF(AND(OR(D57="NP",D57=""),OR(E57="NP",E57="")),IF(AND(D57="",E57=""),"",IF(OR(D57="NP",E57="NP"),"NP","")),IF(OR(D57="NP",D57=""),E57,IF(OR(E57="NP",E57=""),D57,MIN(D57,E57)))) | G57: =IF(OR(D57="",E57=""),"",IF(ISNUMBER(F57),RANK(F57,$F$4:$F$100,1),COUNT($F$4:$F$100)+COUNTIFS($B$4:B57,"<>",$F$4:F57,"NP")))
A58: =IF(B58<>"",COUNTA('7-8 ml_kluci'!B4:B100)+COUNTA('7-8 ml_holky'!B4:B100)+COUNTA('9-11 ml_kluci'!B4:B100)+COUNTA('9-11 ml_holky'!B4:B100)+COUNTIF(B$4:B58,"<>"),"") | F58: =IF(AND(OR(D58="NP",D58=""),OR(E58="NP",E58="")),IF(AND(D58="",E58=""),"",IF(OR(D58="NP",E58="NP"),"NP","")),IF(OR(D58="NP",D58=""),E58,IF(OR(E58="NP",E58=""),D58,MIN(D58,E58)))) | G58: =IF(OR(D58="",E58=""),"",IF(ISNUMBER(F58),RANK(F58,$F$4:$F$100,1),COUNT($F$4:$F$100)+COUNTIFS($B$4:B58,"<>",$F$4:F58,"NP")))
A59: =IF(B59<>"",COUNTA('7-8 ml_kluci'!B4:B100)+COUNTA('7-8 ml_holky'!B4:B100)+COUNTA('9-11 ml_kluci'!B4:B100)+COUNTA('9-11 ml_holky'!B4:B100)+COUNTIF(B$4:B59,"<>"),"") | F59: =IF(AND(OR(D59="NP",D59=""),OR(E59="NP",E59="")),IF(AND(D59="",E59=""),"",IF(OR(D59="NP",E59="NP"),"NP","")),IF(OR(D59="NP",D59=""),E59,IF(OR(E59="NP",E59=""),D59,MIN(D59,E59)))) | G59: =IF(OR(D59="",E59=""),"",IF(ISNUMBER(F59),RANK(F59,$F$4:$F$100,1),COUNT($F$4:$F$100)+COUNTIFS($B$4:B59,"<>",$F$4:F59,"NP")))
A60: =IF(B60<>"",COUNTA('7-8 ml_kluci'!B4:B100)+COUNTA('7-8 ml_holky'!B4:B100)+COUNTA('9-11 ml_kluci'!B4:B100)+COUNTA('9-11 ml_holky'!B4:B100)+COUNTIF(B$4:B60,"<>"),"") | F60: =IF(AND(OR(D60="NP",D60=""),OR(E60="NP",E60="")),IF(AND(D60="",E60=""),"",IF(OR(D60="NP",E60="NP"),"NP","")),IF(OR(D60="NP",D60=""),E60,IF(OR(E60="NP",E60=""),D60,MIN(D60,E60)))) | G60: =IF(OR(D60="",E60=""),"",IF(ISNUMBER(F60),RANK(F60,$F$4:$F$100,1),COUNT($F$4:$F$100)+COUNTIFS($B$4:B60,"<>",$F$4:F60,"NP")))
A61: =IF(B61<>"",COUNTA('7-8 ml_kluci'!B4:B100)+COUNTA('7-8 ml_holky'!B4:B100)+COUNTA('9-11 ml_kluci'!B4:B100)+COUNTA('9-11 ml_holky'!B4:B100)+COUNTIF(B$4:B61,"<>"),"") | F61: =IF(AND(OR(D61="NP",D61=""),OR(E61="NP",E61="")),IF(AND(D61="",E61=""),"",IF(OR(D61="NP",E61="NP"),"NP","")),IF(OR(D61="NP",D61=""),E61,IF(OR(E61="NP",E61=""),D61,MIN(D61,E61)))) | G61: =IF(OR(D61="",E61=""),"",IF(ISNUMBER(F61),RANK(F61,$F$4:$F$100,1),COUNT($F$4:$F$100)+COUNTIFS($B$4:B61,"<>",$F$4:F61,"NP")))
A62: =IF(B62<>"",COUNTA('7-8 ml_kluci'!B4:B100)+COUNTA('7-8 ml_holky'!B4:B100)+COUNTA('9-11 ml_kluci'!B4:B100)+COUNTA('9-11 ml_holky'!B4:B100)+COUNTIF(B$4:B62,"<>"),"") | F62: =IF(AND(OR(D62="NP",D62=""),OR(E62="NP",E62="")),IF(AND(D62="",E62=""),"",IF(OR(D62="NP",E62="NP"),"NP","")),IF(OR(D62="NP",D62=""),E62,IF(OR(E62="NP",E62=""),D62,MIN(D62,E62)))) | G62: =IF(OR(D62="",E62=""),"",IF(ISNUMBER(F62),RANK(F62,$F$4:$F$100,1),COUNT($F$4:$F$100)+COUNTIFS($B$4:B62,"<>",$F$4:F62,"NP")))
A63: =IF(B63<>"",COUNTA('7-8 ml_kluci'!B4:B100)+COUNTA('7-8 ml_holky'!B4:B100)+COUNTA('9-11 ml_kluci'!B4:B100)+COUNTA('9-11 ml_holky'!B4:B100)+COUNTIF(B$4:B63,"<>"),"") | F63: =IF(AND(OR(D63="NP",D63=""),OR(E63="NP",E63="")),IF(AND(D63="",E63=""),"",IF(OR(D63="NP",E63="NP"),"NP","")),IF(OR(D63="NP",D63=""),E63,IF(OR(E63="NP",E63=""),D63,MIN(D63,E63)))) | G63: =IF(OR(D63="",E63=""),"",IF(ISNUMBER(F63),RANK(F63,$F$4:$F$100,1),COUNT($F$4:$F$100)+COUNTIFS($B$4:B63,"<>",$F$4:F63,"NP")))
A64: =IF(B64<>"",COUNTA('7-8 ml_kluci'!B4:B100)+COUNTA('7-8 ml_holky'!B4:B100)+COUNTA('9-11 ml_kluci'!B4:B100)+COUNTA('9-11 ml_holky'!B4:B100)+COUNTIF(B$4:B64,"<>"),"") | F64: =IF(AND(OR(D64="NP",D64=""),OR(E64="NP",E64="")),IF(AND(D64="",E64=""),"",IF(OR(D64="NP",E64="NP"),"NP","")),IF(OR(D64="NP",D64=""),E64,IF(OR(E64="NP",E64=""),D64,MIN(D64,E64)))) | G64: =IF(OR(D64="",E64=""),"",IF(ISNUMBER(F64),RANK(F64,$F$4:$F$100,1),COUNT($F$4:$F$100)+COUNTIFS($B$4:B64,"<>",$F$4:F64,"NP")))
A65: =IF(B65<>"",COUNTA('7-8 ml_kluci'!B4:B100)+COUNTA('7-8 ml_holky'!B4:B100)+COUNTA('9-11 ml_kluci'!B4:B100)+COUNTA('9-11 ml_holky'!B4:B100)+COUNTIF(B$4:B65,"<>"),"") | F65: =IF(AND(OR(D65="NP",D65=""),OR(E65="NP",E65="")),IF(AND(D65="",E65=""),"",IF(OR(D65="NP",E65="NP"),"NP","")),IF(OR(D65="NP",D65=""),E65,IF(OR(E65="NP",E65=""),D65,MIN(D65,E65)))) | G65: =IF(OR(D65="",E65=""),"",IF(ISNUMBER(F65),RANK(F65,$F$4:$F$100,1),COUNT($F$4:$F$100)+COUNTIFS($B$4:B65,"<>",$F$4:F65,"NP")))
A66: =IF(B66<>"",COUNTA('7-8 ml_kluci'!B4:B100)+COUNTA('7-8 ml_holky'!B4:B100)+COUNTA('9-11 ml_kluci'!B4:B100)+COUNTA('9-11 ml_holky'!B4:B100)+COUNTIF(B$4:B66,"<>"),"") | F66: =IF(AND(OR(D66="NP",D66=""),OR(E66="NP",E66="")),IF(AND(D66="",E66=""),"",IF(OR(D66="NP",E66="NP"),"NP","")),IF(OR(D66="NP",D66=""),E66,IF(OR(E66="NP",E66=""),D66,MIN(D66,E66)))) | G66: =IF(OR(D66="",E66=""),"",IF(ISNUMBER(F66),RANK(F66,$F$4:$F$100,1),COUNT($F$4:$F$100)+COUNTIFS($B$4:B66,"<>",$F$4:F66,"NP")))
A67: =IF(B67<>"",COUNTA('7-8 ml_kluci'!B4:B100)+COUNTA('7-8 ml_holky'!B4:B100)+COUNTA('9-11 ml_kluci'!B4:B100)+COUNTA('9-11 ml_holky'!B4:B100)+COUNTIF(B$4:B67,"<>"),"") | F67: =IF(AND(OR(D67="NP",D67=""),OR(E67="NP",E67="")),IF(AND(D67="",E67=""),"",IF(OR(D67="NP",E67="NP"),"NP","")),IF(OR(D67="NP",D67=""),E67,IF(OR(E67="NP",E67=""),D67,MIN(D67,E67)))) | G67: =IF(OR(D67="",E67=""),"",IF(ISNUMBER(F67),RANK(F67,$F$4:$F$100,1),COUNT($F$4:$F$100)+COUNTIFS($B$4:B67,"<>",$F$4:F67,"NP")))
A68: =IF(B68<>"",COUNTA('7-8 ml_kluci'!B4:B100)+COUNTA('7-8 ml_holky'!B4:B100)+COUNTA('9-11 ml_kluci'!B4:B100)+COUNTA('9-11 ml_holky'!B4:B100)+COUNTIF(B$4:B68,"<>"),"") | F68: =IF(AND(OR(D68="NP",D68=""),OR(E68="NP",E68="")),IF(AND(D68="",E68=""),"",IF(OR(D68="NP",E68="NP"),"NP","")),IF(OR(D68="NP",D68=""),E68,IF(OR(E68="NP",E68=""),D68,MIN(D68,E68)))) | G68: =IF(OR(D68="",E68=""),"",IF(ISNUMBER(F68),RANK(F68,$F$4:$F$100,1),COUNT($F$4:$F$100)+COUNTIFS($B$4:B68,"<>",$F$4:F68,"NP")))
A69: =IF(B69<>"",COUNTA('7-8 ml_kluci'!B4:B100)+COUNTA('7-8 ml_holky'!B4:B100)+COUNTA('9-11 ml_kluci'!B4:B100)+COUNTA('9-11 ml_holky'!B4:B100)+COUNTIF(B$4:B69,"<>"),"") | F69: =IF(AND(OR(D69="NP",D69=""),OR(E69="NP",E69="")),IF(AND(D69="",E69=""),"",IF(OR(D69="NP",E69="NP"),"NP","")),IF(OR(D69="NP",D69=""),E69,IF(OR(E69="NP",E69=""),D69,MIN(D69,E69)))) | G69: =IF(OR(D69="",E69=""),"",IF(ISNUMBER(F69),RANK(F69,$F$4:$F$100,1),COUNT($F$4:$F$100)+COUNTIFS($B$4:B69,"<>",$F$4:F69,"NP")))
A70: =IF(B70<>"",COUNTA('7-8 ml_kluci'!B4:B100)+COUNTA('7-8 ml_holky'!B4:B100)+COUNTA('9-11 ml_kluci'!B4:B100)+COUNTA('9-11 ml_holky'!B4:B100)+COUNTIF(B$4:B70,"<>"),"") | F70: =IF(AND(OR(D70="NP",D70=""),OR(E70="NP",E70="")),IF(AND(D70="",E70=""),"",IF(OR(D70="NP",E70="NP"),"NP","")),IF(OR(D70="NP",D70=""),E70,IF(OR(E70="NP",E70=""),D70,MIN(D70,E70)))) | G70: =IF(OR(D70="",E70=""),"",IF(ISNUMBER(F70),RANK(F70,$F$4:$F$100,1),COUNT($F$4:$F$100)+COUNTIFS($B$4:B70,"<>",$F$4:F70,"NP")))
A71: =IF(B71<>"",COUNTA('7-8 ml_kluci'!B4:B100)+COUNTA('7-8 ml_holky'!B4:B100)+COUNTA('9-11 ml_kluci'!B4:B100)+COUNTA('9-11 ml_holky'!B4:B100)+COUNTIF(B$4:B71,"<>"),"") | F71: =IF(AND(OR(D71="NP",D71=""),OR(E71="NP",E71="")),IF(AND(D71="",E71=""),"",IF(OR(D71="NP",E71="NP"),"NP","")),IF(OR(D71="NP",D71=""),E71,IF(OR(E71="NP",E71=""),D71,MIN(D71,E71)))) | G71: =IF(OR(D71="",E71=""),"",IF(ISNUMBER(F71),RANK(F71,$F$4:$F$100,1),COUNT($F$4:$F$100)+COUNTIFS($B$4:B71,"<>",$F$4:F71,"NP")))
A72: =IF(B72<>"",COUNTA('7-8 ml_kluci'!B4:B100)+COUNTA('7-8 ml_holky'!B4:B100)+COUNTA('9-11 ml_kluci'!B4:B100)+COUNTA('9-11 ml_holky'!B4:B100)+COUNTIF(B$4:B72,"<>"),"") | F72: =IF(AND(OR(D72="NP",D72=""),OR(E72="NP",E72="")),IF(AND(D72="",E72=""),"",IF(OR(D72="NP",E72="NP"),"NP","")),IF(OR(D72="NP",D72=""),E72,IF(OR(E72="NP",E72=""),D72,MIN(D72,E72)))) | G72: =IF(OR(D72="",E72=""),"",IF(ISNUMBER(F72),RANK(F72,$F$4:$F$100,1),COUNT($F$4:$F$100)+COUNTIFS($B$4:B72,"<>",$F$4:F72,"NP")))
A73: =IF(B73<>"",COUNTA('7-8 ml_kluci'!B4:B100)+COUNTA('7-8 ml_holky'!B4:B100)+COUNTA('9-11 ml_kluci'!B4:B100)+COUNTA('9-11 ml_holky'!B4:B100)+COUNTIF(B$4:B73,"<>"),"") | F73: =IF(AND(OR(D73="NP",D73=""),OR(E73="NP",E73="")),IF(AND(D73="",E73=""),"",IF(OR(D73="NP",E73="NP"),"NP","")),IF(OR(D73="NP",D73=""),E73,IF(OR(E73="NP",E73=""),D73,MIN(D73,E73)))) | G73: =IF(OR(D73="",E73=""),"",IF(ISNUMBER(F73),RANK(F73,$F$4:$F$100,1),COUNT($F$4:$F$100)+COUNTIFS($B$4:B73,"<>",$F$4:F73,"NP")))
A74: =IF(B74<>"",COUNTA('7-8 ml_kluci'!B4:B100)+COUNTA('7-8 ml_holky'!B4:B100)+COUNTA('9-11 ml_kluci'!B4:B100)+COUNTA('9-11 ml_holky'!B4:B100)+COUNTIF(B$4:B74,"<>"),"") | F74: =IF(AND(OR(D74="NP",D74=""),OR(E74="NP",E74="")),IF(AND(D74="",E74=""),"",IF(OR(D74="NP",E74="NP"),"NP","")),IF(OR(D74="NP",D74=""),E74,IF(OR(E74="NP",E74=""),D74,MIN(D74,E74)))) | G74: =IF(OR(D74="",E74=""),"",IF(ISNUMBER(F74),RANK(F74,$F$4:$F$100,1),COUNT($F$4:$F$100)+COUNTIFS($B$4:B74,"<>",$F$4:F74,"NP")))
A75: =IF(B75<>"",COUNTA('7-8 ml_kluci'!B4:B100)+COUNTA('7-8 ml_holky'!B4:B100)+COUNTA('9-11 ml_kluci'!B4:B100)+COUNTA('9-11 ml_holky'!B4:B100)+COUNTIF(B$4:B75,"<>"),"") | F75: =IF(AND(OR(D75="NP",D75=""),OR(E75="NP",E75="")),IF(AND(D75="",E75=""),"",IF(OR(D75="NP",E75="NP"),"NP","")),IF(OR(D75="NP",D75=""),E75,IF(OR(E75="NP",E75=""),D75,MIN(D75,E75)))) | G75: =IF(OR(D75="",E75=""),"",IF(ISNUMBER(F75),RANK(F75,$F$4:$F$100,1),COUNT($F$4:$F$100)+COUNTIFS($B$4:B75,"<>",$F$4:F75,"NP")))
A76: =IF(B76<>"",COUNTA('7-8 ml_kluci'!B4:B100)+COUNTA('7-8 ml_holky'!B4:B100)+COUNTA('9-11 ml_kluci'!B4:B100)+COUNTA('9-11 ml_holky'!B4:B100)+COUNTIF(B$4:B76,"<>"),"") | F76: =IF(AND(OR(D76="NP",D76=""),OR(E76="NP",E76="")),IF(AND(D76="",E76=""),"",IF(OR(D76="NP",E76="NP"),"NP","")),IF(OR(D76="NP",D76=""),E76,IF(OR(E76="NP",E76=""),D76,MIN(D76,E76)))) | G76: =IF(OR(D76="",E76=""),"",IF(ISNUMBER(F76),RANK(F76,$F$4:$F$100,1),COUNT($F$4:$F$100)+COUNTIFS($B$4:B76,"<>",$F$4:F76,"NP")))
A77: =IF(B77<>"",COUNTA('7-8 ml_kluci'!B4:B100)+COUNTA('7-8 ml_holky'!B4:B100)+COUNTA('9-11 ml_kluci'!B4:B100)+COUNTA('9-11 ml_holky'!B4:B100)+COUNTIF(B$4:B77,"<>"),"") | F77: =IF(AND(OR(D77="NP",D77=""),OR(E77="NP",E77="")),IF(AND(D77="",E77=""),"",IF(OR(D77="NP",E77="NP"),"NP","")),IF(OR(D77="NP",D77=""),E77,IF(OR(E77="NP",E77=""),D77,MIN(D77,E77)))) | G77: =IF(OR(D77="",E77=""),"",IF(ISNUMBER(F77),RANK(F77,$F$4:$F$100,1),COUNT($F$4:$F$100)+COUNTIFS($B$4:B77,"<>",$F$4:F77,"NP")))
A78: =IF(B78<>"",COUNTA('7-8 ml_kluci'!B4:B100)+COUNTA('7-8 ml_holky'!B4:B100)+COUNTA('9-11 ml_kluci'!B4:B100)+COUNTA('9-11 ml_holky'!B4:B100)+COUNTIF(B$4:B78,"<>"),"") | F78: =IF(AND(OR(D78="NP",D78=""),OR(E78="NP",E78="")),IF(AND(D78="",E78=""),"",IF(OR(D78="NP",E78="NP"),"NP","")),IF(OR(D78="NP",D78=""),E78,IF(OR(E78="NP",E78=""),D78,MIN(D78,E78)))) | G78: =IF(OR(D78="",E78=""),"",IF(ISNUMBER(F78),RANK(F78,$F$4:$F$100,1),COUNT($F$4:$F$100)+COUNTIFS($B$4:B78,"<>",$F$4:F78,"NP")))
A79: =IF(B79<>"",COUNTA('7-8 ml_kluci'!B4:B100)+COUNTA('7-8 ml_holky'!B4:B100)+COUNTA('9-11 ml_kluci'!B4:B100)+COUNTA('9-11 ml_holky'!B4:B100)+COUNTIF(B$4:B79,"<>"),"") | F79: =IF(AND(OR(D79="NP",D79=""),OR(E79="NP",E79="")),IF(AND(D79="",E79=""),"",IF(OR(D79="NP",E79="NP"),"NP","")),IF(OR(D79="NP",D79=""),E79,IF(OR(E79="NP",E79=""),D79,MIN(D79,E79)))) | G79: =IF(OR(D79="",E79=""),"",IF(ISNUMBER(F79),RANK(F79,$F$4:$F$100,1),COUNT($F$4:$F$100)+COUNTIFS($B$4:B79,"<>",$F$4:F79,"NP")))
A80: =IF(B80<>"",COUNTA('7-8 ml_kluci'!B4:B100)+COUNTA('7-8 ml_holky'!B4:B100)+COUNTA('9-11 ml_kluci'!B4:B100)+COUNTA('9-11 ml_holky'!B4:B100)+COUNTIF(B$4:B80,"<>"),"") | F80: =IF(AND(OR(D80="NP",D80=""),OR(E80="NP",E80="")),IF(AND(D80="",E80=""),"",IF(OR(D80="NP",E80="NP"),"NP","")),IF(OR(D80="NP",D80=""),E80,IF(OR(E80="NP",E80=""),D80,MIN(D80,E80)))) | G80: =IF(OR(D80="",E80=""),"",IF(ISNUMBER(F80),RANK(F80,$F$4:$F$100,1),COUNT($F$4:$F$100)+COUNTIFS($B$4:B80,"<>",$F$4:F80,"NP")))
A81: =IF(B81<>"",COUNTA('7-8 ml_kluci'!B4:B100)+COUNTA('7-8 ml_holky'!B4:B100)+COUNTA('9-11 ml_kluci'!B4:B100)+COUNTA('9-11 ml_holky'!B4:B100)+COUNTIF(B$4:B81,"<>"),"") | F81: =IF(AND(OR(D81="NP",D81=""),OR(E81="NP",E81="")),IF(AND(D81="",E81=""),"",IF(OR(D81="NP",E81="NP"),"NP","")),IF(OR(D81="NP",D81=""),E81,IF(OR(E81="NP",E81=""),D81,MIN(D81,E81)))) | G81: =IF(OR(D81="",E81=""),"",IF(ISNUMBER(F81),RANK(F81,$F$4:$F$100,1),COUNT($F$4:$F$100)+COUNTIFS($B$4:B81,"<>",$F$4:F81,"NP")))
A82: =IF(B82<>"",COUNTA('7-8 ml_kluci'!B4:B100)+COUNTA('7-8 ml_holky'!B4:B100)+COUNTA('9-11 ml_kluci'!B4:B100)+COUNTA('9-11 ml_holky'!B4:B100)+COUNTIF(B$4:B82,"<>"),"") | F82: =IF(AND(OR(D82="NP",D82=""),OR(E82="NP",E82="")),IF(AND(D82="",E82=""),"",IF(OR(D82="NP",E82="NP"),"NP","")),IF(OR(D82="NP",D82=""),E82,IF(OR(E82="NP",E82=""),D82,MIN(D82,E82)))) | G82: =IF(OR(D82="",E82=""),"",IF(ISNUMBER(F82),RANK(F82,$F$4:$F$100,1),COUNT($F$4:$F$100)+COUNTIFS($B$4:B82,"<>",$F$4:F82,"NP")))
A83: =IF(B83<>"",COUNTA('7-8 ml_kluci'!B4:B100)+COUNTA('7-8 ml_holky'!B4:B100)+COUNTA('9-11 ml_kluci'!B4:B100)+COUNTA('9-11 ml_holky'!B4:B100)+COUNTIF(B$4:B83,"<>"),"") | F83: =IF(AND(OR(D83="NP",D83=""),OR(E83="NP",E83="")),IF(AND(D83="",E83=""),"",IF(OR(D83="NP",E83="NP"),"NP","")),IF(OR(D83="NP",D83=""),E83,IF(OR(E83="NP",E83=""),D83,MIN(D83,E83)))) | G83: =IF(OR(D83="",E83=""),"",IF(ISNUMBER(F83),RANK(F83,$F$4:$F$100,1),COUNT($F$4:$F$100)+COUNTIFS($B$4:B83,"<>",$F$4:F83,"NP")))
A84: =IF(B84<>"",COUNTA('7-8 ml_kluci'!B4:B100)+COUNTA('7-8 ml_holky'!B4:B100)+COUNTA('9-11 ml_kluci'!B4:B100)+COUNTA('9-11 ml_holky'!B4:B100)+COUNTIF(B$4:B84,"<>"),"") | F84: =IF(AND(OR(D84="NP",D84=""),OR(E84="NP",E84="")),IF(AND(D84="",E84=""),"",IF(OR(D84="NP",E84="NP"),"NP","")),IF(OR(D84="NP",D84=""),E84,IF(OR(E84="NP",E84=""),D84,MIN(D84,E84)))) | G84: =IF(OR(D84="",E84=""),"",IF(ISNUMBER(F84),RANK(F84,$F$4:$F$100,1),COUNT($F$4:$F$100)+COUNTIFS($B$4:B84,"<>",$F$4:F84,"NP")))
A85: =IF(B85<>"",COUNTA('7-8 ml_kluci'!B4:B100)+COUNTA('7-8 ml_holky'!B4:B100)+COUNTA('9-11 ml_kluci'!B4:B100)+COUNTA('9-11 ml_holky'!B4:B100)+COUNTIF(B$4:B85,"<>"),"") | F85: =IF(AND(OR(D85="NP",D85=""),OR(E85="NP",E85="")),IF(AND(D85="",E85=""),"",IF(OR(D85="NP",E85="NP"),"NP","")),IF(OR(D85="NP",D85=""),E85,IF(OR(E85="NP",E85=""),D85,MIN(D85,E85)))) | G85: =IF(OR(D85="",E85=""),"",IF(ISNUMBER(F85),RANK(F85,$F$4:$F$100,1),COUNT($F$4:$F$100)+COUNTIFS($B$4:B85,"<>",$F$4:F85,"NP")))
A86: =IF(B86<>"",COUNTA('7-8 ml_kluci'!B4:B100)+COUNTA('7-8 ml_holky'!B4:B100)+COUNTA('9-11 ml_kluci'!B4:B100)+COUNTA('9-11 ml_holky'!B4:B100)+COUNTIF(B$4:B86,"<>"),"") | F86: =IF(AND(OR(D86="NP",D86=""),OR(E86="NP",E86="")),IF(AND(D86="",E86=""),"",IF(OR(D86="NP",E86="NP"),"NP","")),IF(OR(D86="NP",D86=""),E86,IF(OR(E86="NP",E86=""),D86,MIN(D86,E86)))) | G86: =IF(OR(D86="",E86=""),"",IF(ISNUMBER(F86),RANK(F86,$F$4:$F$100,1),COUNT($F$4:$F$100)+COUNTIFS($B$4:B86,"<>",$F$4:F86,"NP")))
A87: =IF(B87<>"",COUNTA('7-8 ml_kluci'!B4:B100)+COUNTA('7-8 ml_holky'!B4:B100)+COUNTA('9-11 ml_kluci'!B4:B100)+COUNTA('9-11 ml_holky'!B4:B100)+COUNTIF(B$4:B87,"<>"),"") | F87: =IF(AND(OR(D87="NP",D87=""),OR(E87="NP",E87="")),IF(AND(D87="",E87=""),"",IF(OR(D87="NP",E87="NP"),"NP","")),IF(OR(D87="NP",D87=""),E87,IF(OR(E87="NP",E87=""),D87,MIN(D87,E87)))) | G87: =IF(OR(D87="",E87=""),"",IF(ISNUMBER(F87),RANK(F87,$F$4:$F$100,1),COUNT($F$4:$F$100)+COUNTIFS($B$4:B87,"<>",$F$4:F87,"NP")))
A88: =IF(B88<>"",COUNTA('7-8 ml_kluci'!B4:B100)+COUNTA('7-8 ml_holky'!B4:B100)+COUNTA('9-11 ml_kluci'!B4:B100)+COUNTA('9-11 ml_holky'!B4:B100)+COUNTIF(B$4:B88,"<>"),"") | F88: =IF(AND(OR(D88="NP",D88=""),OR(E88="NP",E88="")),IF(AND(D88="",E88=""),"",IF(OR(D88="NP",E88="NP"),"NP","")),IF(OR(D88="NP",D88=""),E88,IF(OR(E88="NP",E88=""),D88,MIN(D88,E88)))) | G88: =IF(OR(D88="",E88=""),"",IF(ISNUMBER(F88),RANK(F88,$F$4:$F$100,1),COUNT($F$4:$F$100)+COUNTIFS($B$4:B88,"<>",$F$4:F88,"NP")))
A89: =IF(B89<>"",COUNTA('7-8 ml_kluci'!B4:B100)+COUNTA('7-8 ml_holky'!B4:B100)+COUNTA('9-11 ml_kluci'!B4:B100)+COUNTA('9-11 ml_holky'!B4:B100)+COUNTIF(B$4:B89,"<>"),"") | F89: =IF(AND(OR(D89="NP",D89=""),OR(E89="NP",E89="")),IF(AND(D89="",E89=""),"",IF(OR(D89="NP",E89="NP"),"NP","")),IF(OR(D89="NP",D89=""),E89,IF(OR(E89="NP",E89=""),D89,MIN(D89,E89)))) | G89: =IF(OR(D89="",E89=""),"",IF(ISNUMBER(F89),RANK(F89,$F$4:$F$100,1),COUNT($F$4:$F$100)+COUNTIFS($B$4:B89,"<>",$F$4:F89,"NP")))
A90: =IF(B90<>"",COUNTA('7-8 ml_kluci'!B4:B100)+COUNTA('7-8 ml_holky'!B4:B100)+COUNTA('9-11 ml_kluci'!B4:B100)+COUNTA('9-11 ml_holky'!B4:B100)+COUNTIF(B$4:B90,"<>"),"") | F90: =IF(AND(OR(D90="NP",D90=""),OR(E90="NP",E90="")),IF(AND(D90="",E90=""),"",IF(OR(D90="NP",E90="NP"),"NP","")),IF(OR(D90="NP",D90=""),E90,IF(OR(E90="NP",E90=""),D90,MIN(D90,E90)))) | G90: =IF(OR(D90="",E90=""),"",IF(ISNUMBER(F90),RANK(F90,$F$4:$F$100,1),COUNT($F$4:$F$100)+COUNTIFS($B$4:B90,"<>",$F$4:F90,"NP")))
A91: =IF(B91<>"",COUNTA('7-8 ml_kluci'!B4:B100)+COUNTA('7-8 ml_holky'!B4:B100)+COUNTA('9-11 ml_kluci'!B4:B100)+COUNTA('9-11 ml_holky'!B4:B100)+COUNTIF(B$4:B91,"<>"),"") | F91: =IF(AND(OR(D91="NP",D91=""),OR(E91="NP",E91="")),IF(AND(D91="",E91=""),"",IF(OR(D91="NP",E91="NP"),"NP","")),IF(OR(D91="NP",D91=""),E91,IF(OR(E91="NP",E91=""),D91,MIN(D91,E91)))) | G91: =IF(OR(D91="",E91=""),"",IF(ISNUMBER(F91),RANK(F91,$F$4:$F$100,1),COUNT($F$4:$F$100)+COUNTIFS($B$4:B91,"<>",$F$4:F91,"NP")))
A92: =IF(B92<>"",COUNTA('7-8 ml_kluci'!B4:B100)+COUNTA('7-8 ml_holky'!B4:B100)+COUNTA('9-11 ml_kluci'!B4:B100)+COUNTA('9-11 ml_holky'!B4:B100)+COUNTIF(B$4:B92,"<>"),"") | F92: =IF(AND(OR(D92="NP",D92=""),OR(E92="NP",E92="")),IF(AND(D92="",E92=""),"",IF(OR(D92="NP",E92="NP"),"NP","")),IF(OR(D92="NP",D92=""),E92,IF(OR(E92="NP",E92=""),D92,MIN(D92,E92)))) | G92: =IF(OR(D92="",E92=""),"",IF(ISNUMBER(F92),RANK(F92,$F$4:$F$100,1),COUNT($F$4:$F$100)+COUNTIFS($B$4:B92,"<>",$F$4:F92,"NP")))
A93: =IF(B93<>"",COUNTA('7-8 ml_kluci'!B4:B100)+COUNTA('7-8 ml_holky'!B4:B100)+COUNTA('9-11 ml_kluci'!B4:B100)+COUNTA('9-11 ml_holky'!B4:B100)+COUNTIF(B$4:B93,"<>"),"") | F93: =IF(AND(OR(D93="NP",D93=""),OR(E93="NP",E93="")),IF(AND(D93="",E93=""),"",IF(OR(D93="NP",E93="NP"),"NP","")),IF(OR(D93="NP",D93=""),E93,IF(OR(E93="NP",E93=""),D93,MIN(D93,E93)))) | G93: =IF(OR(D93="",E93=""),"",IF(ISNUMBER(F93),RANK(F93,$F$4:$F$100,1),COUNT($F$4:$F$100)+COUNTIFS($B$4:B93,"<>",$F$4:F93,"NP")))
A94: =IF(B94<>"",COUNTA('7-8 ml_kluci'!B4:B100)+COUNTA('7-8 ml_holky'!B4:B100)+COUNTA('9-11 ml_kluci'!B4:B100)+COUNTA('9-11 ml_holky'!B4:B100)+COUNTIF(B$4:B94,"<>"),"") | F94: =IF(AND(OR(D94="NP",D94=""),OR(E94="NP",E94="")),IF(AND(D94="",E94=""),"",IF(OR(D94="NP",E94="NP"),"NP","")),IF(OR(D94="NP",D94=""),E94,IF(OR(E94="NP",E94=""),D94,MIN(D94,E94)))) | G94: =IF(OR(D94="",E94=""),"",IF(ISNUMBER(F94),RANK(F94,$F$4:$F$100,1),COUNT($F$4:$F$100)+COUNTIFS($B$4:B94,"<>",$F$4:F94,"NP")))
A95: =IF(B95<>"",COUNTA('7-8 ml_kluci'!B4:B100)+COUNTA('7-8 ml_holky'!B4:B100)+COUNTA('9-11 ml_kluci'!B4:B100)+COUNTA('9-11 ml_holky'!B4:B100)+COUNTIF(B$4:B95,"<>"),"") | F95: =IF(AND(OR(D95="NP",D95=""),OR(E95="NP",E95="")),IF(AND(D95="",E95=""),"",IF(OR(D95="NP",E95="NP"),"NP","")),IF(OR(D95="NP",D95=""),E95,IF(OR(E95="NP",E95=""),D95,MIN(D95,E95)))) | G95: =IF(OR(D95="",E95=""),"",IF(ISNUMBER(F95),RANK(F95,$F$4:$F$100,1),COUNT($F$4:$F$100)+COUNTIFS($B$4:B95,"<>",$F$4:F95,"NP")))
A96: =IF(B96<>"",COUNTA('7-8 ml_kluci'!B4:B100)+COUNTA('7-8 ml_holky'!B4:B100)+COUNTA('9-11 ml_kluci'!B4:B100)+COUNTA('9-11 ml_holky'!B4:B100)+COUNTIF(B$4:B96,"<>"),"") | F96: =IF(AND(OR(D96="NP",D96=""),OR(E96="NP",E96="")),IF(AND(D96="",E96=""),"",IF(OR(D96="NP",E96="NP"),"NP","")),IF(OR(D96="NP",D96=""),E96,IF(OR(E96="NP",E96=""),D96,MIN(D96,E96)))) | G96: =IF(OR(D96="",E96=""),"",IF(ISNUMBER(F96),RANK(F96,$F$4:$F$100,1),COUNT($F$4:$F$100)+COUNTIFS($B$4:B96,"<>",$F$4:F96,"NP")))
A97: =IF(B97<>"",COUNTA('7-8 ml_kluci'!B4:B100)+COUNTA('7-8 ml_holky'!B4:B100)+COUNTA('9-11 ml_kluci'!B4:B100)+COUNTA('9-11 ml_holky'!B4:B100)+COUNTIF(B$4:B97,"<>"),"") | F97: =IF(AND(OR(D97="NP",D97=""),OR(E97="NP",E97="")),IF(AND(D97="",E97=""),"",IF(OR(D97="NP",E97="NP"),"NP","")),IF(OR(D97="NP",D97=""),E97,IF(OR(E97="NP",E97=""),D97,MIN(D97,E97)))) | G97: =IF(OR(D97="",E97=""),"",IF(ISNUMBER(F97),RANK(F97,$F$4:$F$100,1),COUNT($F$4:$F$100)+COUNTIFS($B$4:B97,"<>",$F$4:F97,"NP")))
A98: =IF(B98<>"",COUNTA('7-8 ml_kluci'!B4:B100)+COUNTA('7-8 ml_holky'!B4:B100)+COUNTA('9-11 ml_kluci'!B4:B100)+COUNTA('9-11 ml_holky'!B4:B100)+COUNTIF(B$4:B98,"<>"),"") | F98: =IF(AND(OR(D98="NP",D98=""),OR(E98="NP",E98="")),IF(AND(D98="",E98=""),"",IF(OR(D98="NP",E98="NP"),"NP","")),IF(OR(D98="NP",D98=""),E98,IF(OR(E98="NP",E98=""),D98,MIN(D98,E98)))) | G98: =IF(OR(D98="",E98=""),"",IF(ISNUMBER(F98),RANK(F98,$F$4:$F$100,1),COUNT($F$4:$F$100)+COUNTIFS($B$4:B98,"<>",$F$4:F98,"NP")))
A99: =IF(B99<>"",COUNTA('7-8 ml_kluci'!B4:B100)+COUNTA('7-8 ml_holky'!B4:B100)+COUNTA('9-11 ml_kluci'!B4:B100)+COUNTA('9-11 ml_holky'!B4:B100)+COUNTIF(B$4:B99,"<>"),"") | F99: =IF(AND(OR(D99="NP",D99=""),OR(E99="NP",E99="")),IF(AND(D99="",E99=""),"",IF(OR(D99="NP",E99="NP"),"NP","")),IF(OR(D99="NP",D99=""),E99,IF(OR(E99="NP",E99=""),D99,MIN(D99,E99)))) | G99: =IF(OR(D99="",E99=""),"",IF(ISNUMBER(F99),RANK(F99,$F$4:$F$100,1),COUNT($F$4:$F$100)+COUNTIFS($B$4:B99,"<>",$F$4:F99,"NP")))
A100: =IF(B100<>"",COUNTA('7-8 ml_kluci'!B4:B100)+COUNTA('7-8 ml_holky'!B4:B100)+COUNTA('9-11 ml_kluci'!B4:B100)+COUNTA('9-11 ml_holky'!B4:B100)+COUNTIF(B$4:B100,"<>"),"") | F100: =IF(AND(OR(D100="NP",D100=""),OR(E100="NP",E100="")),IF(AND(D100="",E100=""),"",IF(OR(D100="NP",E100="NP"),"NP","")),IF(OR(D100="NP",D100=""),E100,IF(OR(E100="NP",E100=""),D100,MIN(D100,E100)))) | G100: =IF(OR(D100="",E100=""),"",IF(ISNUMBER(F100),RANK(F100,$F$4:$F$100,1),COUNT($F$4:$F$100)+COUNTIFS($B$4:B100,"<>",$F$4:F100,"NP")))

Sheet 12-13 st_holky
A1: Běh na 60 m s překážkami - Rohatec 23. 5. 2026
A2: Kategorie starší žáci - holky | D2: 12-13 LET
A3: St. č. | B3: Příjmení a jméno | C3: SDH | D3: 1. pokus | E3: 2. pokus | F3: Výsl. čas | G3: Pořadí
A4: 97 | B4: Slezáková Viktorie | C4: Miroslav | D4: 12.59 | E4: 15.14 | F4: =IF(AND(OR(D4="NP",D4=""),OR(E4="NP",E4="")),IF(AND(D4="",E4=""),"",IF(OR(D4="NP",E4="NP"),"NP","")),IF(OR(D4="NP",D4=""),E4,IF(OR(E4="NP",E4=""),D4,MIN(D4,E4)))) -> 12.59 | G4: =IF(OR(D4="",E4=""),"",IF(ISNUMBER(F4),RANK(F4,$F$4:$F$100,1),COUNT($F$4:$F$100)+COUNTIFS($B$4:B4,"<>",$F$4:F4,"NP"))) -> 1
A5: 98 | B5: Buřilová Monika | C5: Vracov | D5: 17.83 | E5: 17.93 | F5: =IF(AND(OR(D5="NP",D5=""),OR(E5="NP",E5="")),IF(AND(D5="",E5=""),"",IF(OR(D5="NP",E5="NP"),"NP","")),IF(OR(D5="NP",D5=""),E5,IF(OR(E5="NP",E5=""),D5,MIN(D5,E5)))) -> 17.83 | G5: =IF(OR(D5="",E5=""),"",IF(ISNUMBER(F5),RANK(F5,$F$4:$F$100,1),COUNT($F$4:$F$100)+COUNTIFS($B$4:B5,"<>",$F$4:F5,"NP"))) -> 13
A6: 99 | B6: Kyněrová Kateřina | C6: Svatobořice | D6: 15.88 | E6: 15.38 | F6: =IF(AND(OR(D6="NP",D6=""),OR(E6="NP",E6="")),IF(AND(D6="",E6=""),"",IF(OR(D6="NP",E6="NP"),"NP","")),IF(OR(D6="NP",D6=""),E6,IF(OR(E6="NP",E6=""),D6,MIN(D6,E6)))) -> 15.38 | G6: =IF(OR(D6="",E6=""),"",IF(ISNUMBER(F6),RANK(F6,$F$4:$F$100,1),COUNT($F$4:$F$100)+COUNTIFS($B$4:B6,"<>",$F$4:F6,"NP"))) -> 4
A7: 100 | B7: Němčická Veronika | C7: Blatnice p. Sv. A. | D7: 19.87 | E7: 18.05 | F7: =IF(AND(OR(D7="NP",D7=""),OR(E7="NP",E7="")),IF(AND(D7="",E7=""),"",IF(OR(D7="NP",E7="NP"),"NP","")),IF(OR(D7="NP",D7=""),E7,IF(OR(E7="NP",E7=""),D7,MIN(D7,E7)))) -> 18.05 | G7: =IF(OR(D7="",E7=""),"",IF(ISNUMBER(F7),RANK(F7,$F$4:$F$100,1),COUNT($F$4:$F$100)+COUNTIFS($B$4:B7,"<>",$F$4:F7,"NP"))) -> 14
A8: 101 | B8: Šimková Lucie | C8: Vracov | D8: 17.85 | E8: 17.45 | F8: =IF(AND(OR(D8="NP",D8=""),OR(E8="NP",E8="")),IF(AND(D8="",E8=""),"",IF(OR(D8="NP",E8="NP"),"NP","")),IF(OR(D8="NP",D8=""),E8,IF(OR(E8="NP",E8=""),D8,MIN(D8,E8)))) -> 17.45 | G8: =IF(OR(D8="",E8=""),"",IF(ISNUMBER(F8),RANK(F8,$F$4:$F$100,1),COUNT($F$4:$F$100)+COUNTIFS($B$4:B8,"<>",$F$4:F8,"NP"))) -> 12
A9: 102 | B9: Neničková Nela | C9: Vlkoš | D9: 14.62 | E9: 16.35 | F9: =IF(AND(OR(D9="NP",D9=""),OR(E9="NP",E9="")),IF(AND(D9="",E9=""),"",IF(OR(D9="NP",E9="NP"),"NP","")),IF(OR(D9="NP",D9=""),E9,IF(OR(E9="NP",E9=""),D9,MIN(D9,E9)))) -> 14.62 | G9: =IF(OR(D9="",E9=""),"",IF(ISNUMBER(F9),RANK(F9,$F$4:$F$100,1),COUNT($F$4:$F$100)+COUNTIFS($B$4:B9,"<>",$F$4:F9,"NP"))) -> 3
A10: 103 | B10: Krejčíříková Barbora | C10: Žeravice | D10: 16.54 | E10: 16.09 | F10: =IF(AND(OR(D10="NP",D10=""),OR(E10="NP",E10="")),IF(AND(D10="",E10=""),"",IF(OR(D10="NP",E10="NP"),"NP","")),IF(OR(D10="NP",D10=""),E10,IF(OR(E10="NP",E10=""),D10,MIN(D10,E10)))) -> 16.09 | G10: =IF(OR(D10="",E10=""),"",IF(ISNUMBER(F10),RANK(F10,$F$4:$F$100,1),COUNT($F$4:$F$100)+COUNTIFS($B$4:B10,"<>",$F$4:F10,"NP"))) -> 9
A11: 104 | B11: Semanská Isabel Emilie | C11: Blatnice p. Sv. A. | D11: 17.95 | E11: 15.51 | F11: =IF(AND(OR(D11="NP",D11=""),OR(E11="NP",E11="")),IF(AND(D11="",E11=""),"",IF(OR(D11="NP",E11="NP"),"NP","")),IF(OR(D11="NP",D11=""),E11,IF(OR(E11="NP",E11=""),D11,MIN(D11,E11)))) -> 15.51 | G11: =IF(OR(D11="",E11=""),"",IF(ISNUMBER(F11),RANK(F11,$F$4:$F$100,1),COUNT($F$4:$F$100)+COUNTIFS($B$4:B11,"<>",$F$4:F11,"NP"))) -> 7
A12: 105 | B12: Vinklerová Adéla | C12: Ratíškovice | D12: 15.42 | E12: 15.82 | F12: =IF(AND(OR(D12="NP",D12=""),OR(E12="NP",E12="")),IF(AND(D12="",E12=""),"",IF(OR(D12="NP",E12="NP"),"NP","")),IF(OR(D12="NP",D12=""),E12,IF(OR(E12="NP",E12=""),D12,MIN(D12,E12)))) -> 15.42 | G12: =IF(OR(D12="",E12=""),"",IF(ISNUMBER(F12),RANK(F12,$F$4:$F$100,1),COUNT($F$4:$F$100)+COUNTIFS($B$4:B12,"<>",$F$4:F12,"NP"))) -> 5
A13: 106 | B13: Kyněrová Anežka | C13: Svatobořice | D13: 20.09 | E13: 16.45 | F13: =IF(AND(OR(D13="NP",D13=""),OR(E13="NP",E13="")),IF(AND(D13="",E13=""),"",IF(OR(D13="NP",E13="NP"),"NP","")),IF(OR(D13="NP",D13=""),E13,IF(OR(E13="NP",E13=""),D13,MIN(D13,E13)))) -> 16.45 | G13: =IF(OR(D13="",E13=""),"",IF(ISNUMBER(F13),RANK(F13,$F$4:$F$100,1),COUNT($F$4:$F$100)+COUNTIFS($B$4:B13,"<>",$F$4:F13,"NP"))) -> 10
A14: 107 | B14: Kuzmina Sofia | C14: Blatnice p. Sv. A. | D14: 18.52 | E14: 18.4 | F14: =IF(AND(OR(D14="NP",D14=""),OR(E14="NP",E14="")),IF(AND(D14="",E14=""),"",IF(OR(D14="NP",E14="NP"),"NP","")),IF(OR(D14="NP",D14=""),E14,IF(OR(E14="NP",E14=""),D14,MIN(D14,E14)))) -> 18.4 | G14: =IF(OR(D14="",E14=""),"",IF(ISNUMBER(F14),RANK(F14,$F$4:$F$100,1),COUNT($F$4:$F$100)+COUNTIFS($B$4:B14,"<>",$F$4:F14,"NP"))) -> 15
A15: 108 | B15: Torony Ema | C15: Ratíškovice | D15: 34.27 | E15: 25.87 | F15: =IF(AND(OR(D15="NP",D15=""),OR(E15="NP",E15="")),IF(AND(D15="",E15=""),"",IF(OR(D15="NP",E15="NP"),"NP","")),IF(OR(D15="NP",D15=""),E15,IF(OR(E15="NP",E15=""),D15,MIN(D15,E15)))) -> 25.87 | G15: =IF(OR(D15="",E15=""),"",IF(ISNUMBER(F15),RANK(F15,$F$4:$F$100,1),COUNT($F$4:$F$100)+COUNTIFS($B$4:B15,"<>",$F$4:F15,"NP"))) -> 16
... A19: 112 | B19: Neničková Nikol | C19: Vlkoš | D19: 16.03 | E19: 19.59 | F19: =IF(AND(OR(D19="NP",D19=""),OR(E19="NP",E19="")),IF(AND(D19="",E19=""),"",IF(OR(D19="NP",E19="NP"),"NP","")),IF(OR(D19="NP",D19=""),E19,IF(OR(E19="NP",E19=""),D19,MIN(D19,E19)))) -> 16.03 | G19: =IF(OR(D19="",E19=""),"",IF(ISNUMBER(F19),RANK(F19,$F$4:$F$100,1),COUNT($F$4:$F$100)+COUNTIFS($B$4:B19,"<>",$F$4:F19,"NP"))) -> 8
A20: 113 | B20: Sýkorová Sofie | C20: Želetice | D20: NP | E20: NP | F20: =IF(AND(OR(D20="NP",D20=""),OR(E20="NP",E20="")),IF(AND(D20="",E20=""),"",IF(OR(D20="NP",E20="NP"),"NP","")),IF(OR(D20="NP",D20=""),E20,IF(OR(E20="NP",E20=""),D20,MIN(D20,E20)))) -> NP | G20: =IF(OR(D20="",E20=""),"",IF(ISNUMBER(F20),RANK(F20,$F$4:$F$100,1),COUNT($F$4:$F$100)+COUNTIFS($B$4:B20,"<>",$F$4:F20,"NP"))) -> 17
A21: 114 | F21: =IF(AND(OR(D21="NP",D21=""),OR(E21="NP",E21="")),IF(AND(D21="",E21=""),"",IF(OR(D21="NP",E21="NP"),"NP","")),IF(OR(D21="NP",D21=""),E21,IF(OR(E21="NP",E21=""),D21,MIN(D21,E21)))) | G21: =IF(OR(D21="",E21=""),"",IF(ISNUMBER(F21),RANK(F21,$F$4:$F$100,1),COUNT($F$4:$F$100)+COUNTIFS($B$4:B21,"<>",$F$4:F21,"NP")))
A22: 115 | F22: =IF(AND(OR(D22="NP",D22=""),OR(E22="NP",E22="")),IF(AND(D22="",E22=""),"",IF(OR(D22="NP",E22="NP"),"NP","")),IF(OR(D22="NP",D22=""),E22,IF(OR(E22="NP",E22=""),D22,MIN(D22,E22)))) | G22: =IF(OR(D22="",E22=""),"",IF(ISNUMBER(F22),RANK(F22,$F$4:$F$100,1),COUNT($F$4:$F$100)+COUNTIFS($B$4:B22,"<>",$F$4:F22,"NP")))
A23: 116 | F23: =IF(AND(OR(D23="NP",D23=""),OR(E23="NP",E23="")),IF(AND(D23="",E23=""),"",IF(OR(D23="NP",E23="NP"),"NP","")),IF(OR(D23="NP",D23=""),E23,IF(OR(E23="NP",E23=""),D23,MIN(D23,E23)))) | G23: =IF(OR(D23="",E23=""),"",IF(ISNUMBER(F23),RANK(F23,$F$4:$F$100,1),COUNT($F$4:$F$100)+COUNTIFS($B$4:B23,"<>",$F$4:F23,"NP")))
A24: 117 | F24: =IF(AND(OR(D24="NP",D24=""),OR(E24="NP",E24="")),IF(AND(D24="",E24=""),"",IF(OR(D24="NP",E24="NP"),"NP","")),IF(OR(D24="NP",D24=""),E24,IF(OR(E24="NP",E24=""),D24,MIN(D24,E24)))) | G24: =IF(OR(D24="",E24=""),"",IF(ISNUMBER(F24),RANK(F24,$F$4:$F$100,1),COUNT($F$4:$F$100)+COUNTIFS($B$4:B24,"<>",$F$4:F24,"NP")))
A25: 118 | F25: =IF(AND(OR(D25="NP",D25=""),OR(E25="NP",E25="")),IF(AND(D25="",E25=""),"",IF(OR(D25="NP",E25="NP"),"NP","")),IF(OR(D25="NP",D25=""),E25,IF(OR(E25="NP",E25=""),D25,MIN(D25,E25)))) | G25: =IF(OR(D25="",E25=""),"",IF(ISNUMBER(F25),RANK(F25,$F$4:$F$100,1),COUNT($F$4:$F$100)+COUNTIFS($B$4:B25,"<>",$F$4:F25,"NP")))
A26: 119 | F26: =IF(AND(OR(D26="NP",D26=""),OR(E26="NP",E26="")),IF(AND(D26="",E26=""),"",IF(OR(D26="NP",E26="NP"),"NP","")),IF(OR(D26="NP",D26=""),E26,IF(OR(E26="NP",E26=""),D26,MIN(D26,E26)))) | G26: =IF(OR(D26="",E26=""),"",IF(ISNUMBER(F26),RANK(F26,$F$4:$F$100,1),COUNT($F$4:$F$100)+COUNTIFS($B$4:B26,"<>",$F$4:F26,"NP")))
A27: 120 | F27: =IF(AND(OR(D27="NP",D27=""),OR(E27="NP",E27="")),IF(AND(D27="",E27=""),"",IF(OR(D27="NP",E27="NP"),"NP","")),IF(OR(D27="NP",D27=""),E27,IF(OR(E27="NP",E27=""),D27,MIN(D27,E27)))) | G27: =IF(OR(D27="",E27=""),"",IF(ISNUMBER(F27),RANK(F27,$F$4:$F$100,1),COUNT($F$4:$F$100)+COUNTIFS($B$4:B27,"<>",$F$4:F27,"NP")))
A28: 121 | F28: =IF(AND(OR(D28="NP",D28=""),OR(E28="NP",E28="")),IF(AND(D28="",E28=""),"",IF(OR(D28="NP",E28="NP"),"NP","")),IF(OR(D28="NP",D28=""),E28,IF(OR(E28="NP",E28=""),D28,MIN(D28,E28)))) | G28: =IF(OR(D28="",E28=""),"",IF(ISNUMBER(F28),RANK(F28,$F$4:$F$100,1),COUNT($F$4:$F$100)+COUNTIFS($B$4:B28,"<>",$F$4:F28,"NP")))
A29: 122 | F29: =IF(AND(OR(D29="NP",D29=""),OR(E29="NP",E29="")),IF(AND(D29="",E29=""),"",IF(OR(D29="NP",E29="NP"),"NP","")),IF(OR(D29="NP",D29=""),E29,IF(OR(E29="NP",E29=""),D29,MIN(D29,E29)))) | G29: =IF(OR(D29="",E29=""),"",IF(ISNUMBER(F29),RANK(F29,$F$4:$F$100,1),COUNT($F$4:$F$100)+COUNTIFS($B$4:B29,"<>",$F$4:F29,"NP")))
A30: =IF(B30<>"",COUNTA('7-8 ml_kluci'!B4:B100)+COUNTA('7-8 ml_holky'!B4:B100)+COUNTA('9-11 ml_kluci'!B4:B100)+COUNTA('9-11 ml_holky'!B4:B100)+COUNTA('12-13 st_kluci'!B4:B100)+COUNTIF(B$4:B30,"<>"),"") | F30: =IF(AND(OR(D30="NP",D30=""),OR(E30="NP",E30="")),IF(AND(D30="",E30=""),"",IF(OR(D30="NP",E30="NP"),"NP","")),IF(OR(D30="NP",D30=""),E30,IF(OR(E30="NP",E30=""),D30,MIN(D30,E30)))) | G30: =IF(OR(D30="",E30=""),"",IF(ISNUMBER(F30),RANK(F30,$F$4:$F$100,1),COUNT($F$4:$F$100)+COUNTIFS($B$4:B30,"<>",$F$4:F30,"NP")))
A31: =IF(B31<>"",COUNTA('7-8 ml_kluci'!B4:B100)+COUNTA('7-8 ml_holky'!B4:B100)+COUNTA('9-11 ml_kluci'!B4:B100)+COUNTA('9-11 ml_holky'!B4:B100)+COUNTA('12-13 st_kluci'!B4:B100)+COUNTIF(B$4:B31,"<>"),"") | F31: =IF(AND(OR(D31="NP",D31=""),OR(E31="NP",E31="")),IF(AND(D31="",E31=""),"",IF(OR(D31="NP",E31="NP"),"NP","")),IF(OR(D31="NP",D31=""),E31,IF(OR(E31="NP",E31=""),D31,MIN(D31,E31)))) | G31: =IF(OR(D31="",E31=""),"",IF(ISNUMBER(F31),RANK(F31,$F$4:$F$100,1),COUNT($F$4:$F$100)+COUNTIFS($B$4:B31,"<>",$F$4:F31,"NP")))
A32: =IF(B32<>"",COUNTA('7-8 ml_kluci'!B4:B100)+COUNTA('7-8 ml_holky'!B4:B100)+COUNTA('9-11 ml_kluci'!B4:B100)+COUNTA('9-11 ml_holky'!B4:B100)+COUNTA('12-13 st_kluci'!B4:B100)+COUNTIF(B$4:B32,"<>"),"") | F32: =IF(AND(OR(D32="NP",D32=""),OR(E32="NP",E32="")),IF(AND(D32="",E32=""),"",IF(OR(D32="NP",E32="NP"),"NP","")),IF(OR(D32="NP",D32=""),E32,IF(OR(E32="NP",E32=""),D32,MIN(D32,E32)))) | G32: =IF(OR(D32="",E32=""),"",IF(ISNUMBER(F32),RANK(F32,$F$4:$F$100,1),COUNT($F$4:$F$100)+COUNTIFS($B$4:B32,"<>",$F$4:F32,"NP")))
A33: =IF(B33<>"",COUNTA('7-8 ml_kluci'!B4:B100)+COUNTA('7-8 ml_holky'!B4:B100)+COUNTA('9-11 ml_kluci'!B4:B100)+COUNTA('9-11 ml_holky'!B4:B100)+COUNTA('12-13 st_kluci'!B4:B100)+COUNTIF(B$4:B33,"<>"),"") | F33: =IF(AND(OR(D33="NP",D33=""),OR(E33="NP",E33="")),IF(AND(D33="",E33=""),"",IF(OR(D33="NP",E33="NP"),"NP","")),IF(OR(D33="NP",D33=""),E33,IF(OR(E33="NP",E33=""),D33,MIN(D33,E33)))) | G33: =IF(OR(D33="",E33=""),"",IF(ISNUMBER(F33),RANK(F33,$F$4:$F$100,1),COUNT($F$4:$F$100)+COUNTIFS($B$4:B33,"<>",$F$4:F33,"NP")))
A34: =IF(B34<>"",COUNTA('7-8 ml_kluci'!B4:B100)+COUNTA('7-8 ml_holky'!B4:B100)+COUNTA('9-11 ml_kluci'!B4:B100)+COUNTA('9-11 ml_holky'!B4:B100)+COUNTA('12-13 st_kluci'!B4:B100)+COUNTIF(B$4:B34,"<>"),"") | F34: =IF(AND(OR(D34="NP",D34=""),OR(E34="NP",E34="")),IF(AND(D34="",E34=""),"",IF(OR(D34="NP",E34="NP"),"NP","")),IF(OR(D34="NP",D34=""),E34,IF(OR(E34="NP",E34=""),D34,MIN(D34,E34)))) | G34: =IF(OR(D34="",E34=""),"",IF(ISNUMBER(F34),RANK(F34,$F$4:$F$100,1),COUNT($F$4:$F$100)+COUNTIFS($B$4:B34,"<>",$F$4:F34,"NP")))
A35: =IF(B35<>"",COUNTA('7-8 ml_kluci'!B4:B100)+COUNTA('7-8 ml_holky'!B4:B100)+COUNTA('9-11 ml_kluci'!B4:B100)+COUNTA('9-11 ml_holky'!B4:B100)+COUNTA('12-13 st_kluci'!B4:B100)+COUNTIF(B$4:B35,"<>"),"") | F35: =IF(AND(OR(D35="NP",D35=""),OR(E35="NP",E35="")),IF(AND(D35="",E35=""),"",IF(OR(D35="NP",E35="NP"),"NP","")),IF(OR(D35="NP",D35=""),E35,IF(OR(E35="NP",E35=""),D35,MIN(D35,E35)))) | G35: =IF(OR(D35="",E35=""),"",IF(ISNUMBER(F35),RANK(F35,$F$4:$F$100,1),COUNT($F$4:$F$100)+COUNTIFS($B$4:B35,"<>",$F$4:F35,"NP")))
A36: =IF(B36<>"",COUNTA('7-8 ml_kluci'!B4:B100)+COUNTA('7-8 ml_holky'!B4:B100)+COUNTA('9-11 ml_kluci'!B4:B100)+COUNTA('9-11 ml_holky'!B4:B100)+COUNTA('12-13 st_kluci'!B4:B100)+COUNTIF(B$4:B36,"<>"),"") | F36: =IF(AND(OR(D36="NP",D36=""),OR(E36="NP",E36="")),IF(AND(D36="",E36=""),"",IF(OR(D36="NP",E36="NP"),"NP","")),IF(OR(D36="NP",D36=""),E36,IF(OR(E36="NP",E36=""),D36,MIN(D36,E36)))) | G36: =IF(OR(D36="",E36=""),"",IF(ISNUMBER(F36),RANK(F36,$F$4:$F$100,1),COUNT($F$4:$F$100)+COUNTIFS($B$4:B36,"<>",$F$4:F36,"NP")))
A37: =IF(B37<>"",COUNTA('7-8 ml_kluci'!B4:B100)+COUNTA('7-8 ml_holky'!B4:B100)+COUNTA('9-11 ml_kluci'!B4:B100)+COUNTA('9-11 ml_holky'!B4:B100)+COUNTA('12-13 st_kluci'!B4:B100)+COUNTIF(B$4:B37,"<>"),"") | F37: =IF(AND(OR(D37="NP",D37=""),OR(E37="NP",E37="")),IF(AND(D37="",E37=""),"",IF(OR(D37="NP",E37="NP"),"NP","")),IF(OR(D37="NP",D37=""),E37,IF(OR(E37="NP",E37=""),D37,MIN(D37,E37)))) | G37: =IF(OR(D37="",E37=""),"",IF(ISNUMBER(F37),RANK(F37,$F$4:$F$100,1),COUNT($F$4:$F$100)+COUNTIFS($B$4:B37,"<>",$F$4:F37,"NP")))
A38: =IF(B38<>"",COUNTA('7-8 ml_kluci'!B4:B100)+COUNTA('7-8 ml_holky'!B4:B100)+COUNTA('9-11 ml_kluci'!B4:B100)+COUNTA('9-11 ml_holky'!B4:B100)+COUNTA('12-13 st_kluci'!B4:B100)+COUNTIF(B$4:B38,"<>"),"") | F38: =IF(AND(OR(D38="NP",D38=""),OR(E38="NP",E38="")),IF(AND(D38="",E38=""),"",IF(OR(D38="NP",E38="NP"),"NP","")),IF(OR(D38="NP",D38=""),E38,IF(OR(E38="NP",E38=""),D38,MIN(D38,E38)))) | G38: =IF(OR(D38="",E38=""),"",IF(ISNUMBER(F38),RANK(F38,$F$4:$F$100,1),COUNT($F$4:$F$100)+COUNTIFS($B$4:B38,"<>",$F$4:F38,"NP")))
A39: =IF(B39<>"",COUNTA('7-8 ml_kluci'!B4:B100)+COUNTA('7-8 ml_holky'!B4:B100)+COUNTA('9-11 ml_kluci'!B4:B100)+COUNTA('9-11 ml_holky'!B4:B100)+COUNTA('12-13 st_kluci'!B4:B100)+COUNTIF(B$4:B39,"<>"),"") | F39: =IF(AND(OR(D39="NP",D39=""),OR(E39="NP",E39="")),IF(AND(D39="",E39=""),"",IF(OR(D39="NP",E39="NP"),"NP","")),IF(OR(D39="NP",D39=""),E39,IF(OR(E39="NP",E39=""),D39,MIN(D39,E39)))) | G39: =IF(OR(D39="",E39=""),"",IF(ISNUMBER(F39),RANK(F39,$F$4:$F$100,1),COUNT($F$4:$F$100)+COUNTIFS($B$4:B39,"<>",$F$4:F39,"NP")))
A40: =IF(B40<>"",COUNTA('7-8 ml_kluci'!B4:B100)+COUNTA('7-8 ml_holky'!B4:B100)+COUNTA('9-11 ml_kluci'!B4:B100)+COUNTA('9-11 ml_holky'!B4:B100)+COUNTA('12-13 st_kluci'!B4:B100)+COUNTIF(B$4:B40,"<>"),"") | F40: =IF(AND(OR(D40="NP",D40=""),OR(E40="NP",E40="")),IF(AND(D40="",E40=""),"",IF(OR(D40="NP",E40="NP"),"NP","")),IF(OR(D40="NP",D40=""),E40,IF(OR(E40="NP",E40=""),D40,MIN(D40,E40)))) | G40: =IF(OR(D40="",E40=""),"",IF(ISNUMBER(F40),RANK(F40,$F$4:$F$100,1),COUNT($F$4:$F$100)+COUNTIFS($B$4:B40,"<>",$F$4:F40,"NP")))
A41: =IF(B41<>"",COUNTA('7-8 ml_kluci'!B4:B100)+COUNTA('7-8 ml_holky'!B4:B100)+COUNTA('9-11 ml_kluci'!B4:B100)+COUNTA('9-11 ml_holky'!B4:B100)+COUNTA('12-13 st_kluci'!B4:B100)+COUNTIF(B$4:B41,"<>"),"") | F41: =IF(AND(OR(D41="NP",D41=""),OR(E41="NP",E41="")),IF(AND(D41="",E41=""),"",IF(OR(D41="NP",E41="NP"),"NP","")),IF(OR(D41="NP",D41=""),E41,IF(OR(E41="NP",E41=""),D41,MIN(D41,E41)))) | G41: =IF(OR(D41="",E41=""),"",IF(ISNUMBER(F41),RANK(F41,$F$4:$F$100,1),COUNT($F$4:$F$100)+COUNTIFS($B$4:B41,"<>",$F$4:F41,"NP")))
A42: =IF(B42<>"",COUNTA('7-8 ml_kluci'!B4:B100)+COUNTA('7-8 ml_holky'!B4:B100)+COUNTA('9-11 ml_kluci'!B4:B100)+COUNTA('9-11 ml_holky'!B4:B100)+COUNTA('12-13 st_kluci'!B4:B100)+COUNTIF(B$4:B42,"<>"),"") | F42: =IF(AND(OR(D42="NP",D42=""),OR(E42="NP",E42="")),IF(AND(D42="",E42=""),"",IF(OR(D42="NP",E42="NP"),"NP","")),IF(OR(D42="NP",D42=""),E42,IF(OR(E42="NP",E42=""),D42,MIN(D42,E42)))) | G42: =IF(OR(D42="",E42=""),"",IF(ISNUMBER(F42),RANK(F42,$F$4:$F$100,1),COUNT($F$4:$F$100)+COUNTIFS($B$4:B42,"<>",$F$4:F42,"NP")))
A43: =IF(B43<>"",COUNTA('7-8 ml_kluci'!B4:B100)+COUNTA('7-8 ml_holky'!B4:B100)+COUNTA('9-11 ml_kluci'!B4:B100)+COUNTA('9-11 ml_holky'!B4:B100)+COUNTA('12-13 st_kluci'!B4:B100)+COUNTIF(B$4:B43,"<>"),"") | F43: =IF(AND(OR(D43="NP",D43=""),OR(E43="NP",E43="")),IF(AND(D43="",E43=""),"",IF(OR(D43="NP",E43="NP"),"NP","")),IF(OR(D43="NP",D43=""),E43,IF(OR(E43="NP",E43=""),D43,MIN(D43,E43)))) | G43: =IF(OR(D43="",E43=""),"",IF(ISNUMBER(F43),RANK(F43,$F$4:$F$100,1),COUNT($F$4:$F$100)+COUNTIFS($B$4:B43,"<>",$F$4:F43,"NP")))
A44: =IF(B44<>"",COUNTA('7-8 ml_kluci'!B4:B100)+COUNTA('7-8 ml_holky'!B4:B100)+COUNTA('9-11 ml_kluci'!B4:B100)+COUNTA('9-11 ml_holky'!B4:B100)+COUNTA('12-13 st_kluci'!B4:B100)+COUNTIF(B$4:B44,"<>"),"") | F44: =IF(AND(OR(D44="NP",D44=""),OR(E44="NP",E44="")),IF(AND(D44="",E44=""),"",IF(OR(D44="NP",E44="NP"),"NP","")),IF(OR(D44="NP",D44=""),E44,IF(OR(E44="NP",E44=""),D44,MIN(D44,E44)))) | G44: =IF(OR(D44="",E44=""),"",IF(ISNUMBER(F44),RANK(F44,$F$4:$F$100,1),COUNT($F$4:$F$100)+COUNTIFS($B$4:B44,"<>",$F$4:F44,"NP")))
A45: =IF(B45<>"",COUNTA('7-8 ml_kluci'!B4:B100)+COUNTA('7-8 ml_holky'!B4:B100)+COUNTA('9-11 ml_kluci'!B4:B100)+COUNTA('9-11 ml_holky'!B4:B100)+COUNTA('12-13 st_kluci'!B4:B100)+COUNTIF(B$4:B45,"<>"),"") | F45: =IF(AND(OR(D45="NP",D45=""),OR(E45="NP",E45="")),IF(AND(D45="",E45=""),"",IF(OR(D45="NP",E45="NP"),"NP","")),IF(OR(D45="NP",D45=""),E45,IF(OR(E45="NP",E45=""),D45,MIN(D45,E45)))) | G45: =IF(OR(D45="",E45=""),"",IF(ISNUMBER(F45),RANK(F45,$F$4:$F$100,1),COUNT($F$4:$F$100)+COUNTIFS($B$4:B45,"<>",$F$4:F45,"NP")))
A46: =IF(B46<>"",COUNTA('7-8 ml_kluci'!B4:B100)+COUNTA('7-8 ml_holky'!B4:B100)+COUNTA('9-11 ml_kluci'!B4:B100)+COUNTA('9-11 ml_holky'!B4:B100)+COUNTA('12-13 st_kluci'!B4:B100)+COUNTIF(B$4:B46,"<>"),"") | F46: =IF(AND(OR(D46="NP",D46=""),OR(E46="NP",E46="")),IF(AND(D46="",E46=""),"",IF(OR(D46="NP",E46="NP"),"NP","")),IF(OR(D46="NP",D46=""),E46,IF(OR(E46="NP",E46=""),D46,MIN(D46,E46)))) | G46: =IF(OR(D46="",E46=""),"",IF(ISNUMBER(F46),RANK(F46,$F$4:$F$100,1),COUNT($F$4:$F$100)+COUNTIFS($B$4:B46,"<>",$F$4:F46,"NP")))
A47: =IF(B47<>"",COUNTA('7-8 ml_kluci'!B4:B100)+COUNTA('7-8 ml_holky'!B4:B100)+COUNTA('9-11 ml_kluci'!B4:B100)+COUNTA('9-11 ml_holky'!B4:B100)+COUNTA('12-13 st_kluci'!B4:B100)+COUNTIF(B$4:B47,"<>"),"") | F47: =IF(AND(OR(D47="NP",D47=""),OR(E47="NP",E47="")),IF(AND(D47="",E47=""),"",IF(OR(D47="NP",E47="NP"),"NP","")),IF(OR(D47="NP",D47=""),E47,IF(OR(E47="NP",E47=""),D47,MIN(D47,E47)))) | G47: =IF(OR(D47="",E47=""),"",IF(ISNUMBER(F47),RANK(F47,$F$4:$F$100,1),COUNT($F$4:$F$100)+COUNTIFS($B$4:B47,"<>",$F$4:F47,"NP")))
A48: =IF(B48<>"",COUNTA('7-8 ml_kluci'!B4:B100)+COUNTA('7-8 ml_holky'!B4:B100)+COUNTA('9-11 ml_kluci'!B4:B100)+COUNTA('9-11 ml_holky'!B4:B100)+COUNTA('12-13 st_kluci'!B4:B100)+COUNTIF(B$4:B48,"<>"),"") | F48: =IF(AND(OR(D48="NP",D48=""),OR(E48="NP",E48="")),IF(AND(D48="",E48=""),"",IF(OR(D48="NP",E48="NP"),"NP","")),IF(OR(D48="NP",D48=""),E48,IF(OR(E48="NP",E48=""),D48,MIN(D48,E48)))) | G48: =IF(OR(D48="",E48=""),"",IF(ISNUMBER(F48),RANK(F48,$F$4:$F$100,1),COUNT($F$4:$F$100)+COUNTIFS($B$4:B48,"<>",$F$4:F48,"NP")))
A49: =IF(B49<>"",COUNTA('7-8 ml_kluci'!B4:B100)+COUNTA('7-8 ml_holky'!B4:B100)+COUNTA('9-11 ml_kluci'!B4:B100)+COUNTA('9-11 ml_holky'!B4:B100)+COUNTA('12-13 st_kluci'!B4:B100)+COUNTIF(B$4:B49,"<>"),"") | F49: =IF(AND(OR(D49="NP",D49=""),OR(E49="NP",E49="")),IF(AND(D49="",E49=""),"",IF(OR(D49="NP",E49="NP"),"NP","")),IF(OR(D49="NP",D49=""),E49,IF(OR(E49="NP",E49=""),D49,MIN(D49,E49)))) | G49: =IF(OR(D49="",E49=""),"",IF(ISNUMBER(F49),RANK(F49,$F$4:$F$100,1),COUNT($F$4:$F$100)+COUNTIFS($B$4:B49,"<>",$F$4:F49,"NP")))
A50: =IF(B50<>"",COUNTA('7-8 ml_kluci'!B4:B100)+COUNTA('7-8 ml_holky'!B4:B100)+COUNTA('9-11 ml_kluci'!B4:B100)+COUNTA('9-11 ml_holky'!B4:B100)+COUNTA('12-13 st_kluci'!B4:B100)+COUNTIF(B$4:B50,"<>"),"") | F50: =IF(AND(OR(D50="NP",D50=""),OR(E50="NP",E50="")),IF(AND(D50="",E50=""),"",IF(OR(D50="NP",E50="NP"),"NP","")),IF(OR(D50="NP",D50=""),E50,IF(OR(E50="NP",E50=""),D50,MIN(D50,E50)))) | G50: =IF(OR(D50="",E50=""),"",IF(ISNUMBER(F50),RANK(F50,$F$4:$F$100,1),COUNT($F$4:$F$100)+COUNTIFS($B$4:B50,"<>",$F$4:F50,"NP")))
A51: =IF(B51<>"",COUNTA('7-8 ml_kluci'!B4:B100)+COUNTA('7-8 ml_holky'!B4:B100)+COUNTA('9-11 ml_kluci'!B4:B100)+COUNTA('9-11 ml_holky'!B4:B100)+COUNTA('12-13 st_kluci'!B4:B100)+COUNTIF(B$4:B51,"<>"),"") | F51: =IF(AND(OR(D51="NP",D51=""),OR(E51="NP",E51="")),IF(AND(D51="",E51=""),"",IF(OR(D51="NP",E51="NP"),"NP","")),IF(OR(D51="NP",D51=""),E51,IF(OR(E51="NP",E51=""),D51,MIN(D51,E51)))) | G51: =IF(OR(D51="",E51=""),"",IF(ISNUMBER(F51),RANK(F51,$F$4:$F$100,1),COUNT($F$4:$F$100)+COUNTIFS($B$4:B51,"<>",$F$4:F51,"NP")))
A52: =IF(B52<>"",COUNTA('7-8 ml_kluci'!B4:B100)+COUNTA('7-8 ml_holky'!B4:B100)+COUNTA('9-11 ml_kluci'!B4:B100)+COUNTA('9-11 ml_holky'!B4:B100)+COUNTA('12-13 st_kluci'!B4:B100)+COUNTIF(B$4:B52,"<>"),"") | F52: =IF(AND(OR(D52="NP",D52=""),OR(E52="NP",E52="")),IF(AND(D52="",E52=""),"",IF(OR(D52="NP",E52="NP"),"NP","")),IF(OR(D52="NP",D52=""),E52,IF(OR(E52="NP",E52=""),D52,MIN(D52,E52)))) | G52: =IF(OR(D52="",E52=""),"",IF(ISNUMBER(F52),RANK(F52,$F$4:$F$100,1),COUNT($F$4:$F$100)+COUNTIFS($B$4:B52,"<>",$F$4:F52,"NP")))
A53: =IF(B53<>"",COUNTA('7-8 ml_kluci'!B4:B100)+COUNTA('7-8 ml_holky'!B4:B100)+COUNTA('9-11 ml_kluci'!B4:B100)+COUNTA('9-11 ml_holky'!B4:B100)+COUNTA('12-13 st_kluci'!B4:B100)+COUNTIF(B$4:B53,"<>"),"") | F53: =IF(AND(OR(D53="NP",D53=""),OR(E53="NP",E53="")),IF(AND(D53="",E53=""),"",IF(OR(D53="NP",E53="NP"),"NP","")),IF(OR(D53="NP",D53=""),E53,IF(OR(E53="NP",E53=""),D53,MIN(D53,E53)))) | G53: =IF(OR(D53="",E53=""),"",IF(ISNUMBER(F53),RANK(F53,$F$4:$F$100,1),COUNT($F$4:$F$100)+COUNTIFS($B$4:B53,"<>",$F$4:F53,"NP")))
A54: =IF(B54<>"",COUNTA('7-8 ml_kluci'!B4:B100)+COUNTA('7-8 ml_holky'!B4:B100)+COUNTA('9-11 ml_kluci'!B4:B100)+COUNTA('9-11 ml_holky'!B4:B100)+COUNTA('12-13 st_kluci'!B4:B100)+COUNTIF(B$4:B54,"<>"),"") | F54: =IF(AND(OR(D54="NP",D54=""),OR(E54="NP",E54="")),IF(AND(D54="",E54=""),"",IF(OR(D54="NP",E54="NP"),"NP","")),IF(OR(D54="NP",D54=""),E54,IF(OR(E54="NP",E54=""),D54,MIN(D54,E54)))) | G54: =IF(OR(D54="",E54=""),"",IF(ISNUMBER(F54),RANK(F54,$F$4:$F$100,1),COUNT($F$4:$F$100)+COUNTIFS($B$4:B54,"<>",$F$4:F54,"NP")))
A55: =IF(B55<>"",COUNTA('7-8 ml_kluci'!B4:B100)+COUNTA('7-8 ml_holky'!B4:B100)+COUNTA('9-11 ml_kluci'!B4:B100)+COUNTA('9-11 ml_holky'!B4:B100)+COUNTA('12-13 st_kluci'!B4:B100)+COUNTIF(B$4:B55,"<>"),"") | F55: =IF(AND(OR(D55="NP",D55=""),OR(E55="NP",E55="")),IF(AND(D55="",E55=""),"",IF(OR(D55="NP",E55="NP"),"NP","")),IF(OR(D55="NP",D55=""),E55,IF(OR(E55="NP",E55=""),D55,MIN(D55,E55)))) | G55: =IF(OR(D55="",E55=""),"",IF(ISNUMBER(F55),RANK(F55,$F$4:$F$100,1),COUNT($F$4:$F$100)+COUNTIFS($B$4:B55,"<>",$F$4:F55,"NP")))
A56: =IF(B56<>"",COUNTA('7-8 ml_kluci'!B4:B100)+COUNTA('7-8 ml_holky'!B4:B100)+COUNTA('9-11 ml_kluci'!B4:B100)+COUNTA('9-11 ml_holky'!B4:B100)+COUNTA('12-13 st_kluci'!B4:B100)+COUNTIF(B$4:B56,"<>"),"") | F56: =IF(AND(OR(D56="NP",D56=""),OR(E56="NP",E56="")),IF(AND(D56="",E56=""),"",IF(OR(D56="NP",E56="NP"),"NP","")),IF(OR(D56="NP",D56=""),E56,IF(OR(E56="NP",E56=""),D56,MIN(D56,E56)))) | G56: =IF(OR(D56="",E56=""),"",IF(ISNUMBER(F56),RANK(F56,$F$4:$F$100,1),COUNT($F$4:$F$100)+COUNTIFS($B$4:B56,"<>",$F$4:F56,"NP")))
A57: =IF(B57<>"",COUNTA('7-8 ml_kluci'!B4:B100)+COUNTA('7-8 ml_holky'!B4:B100)+COUNTA('9-11 ml_kluci'!B4:B100)+COUNTA('9-11 ml_holky'!B4:B100)+COUNTA('12-13 st_kluci'!B4:B100)+COUNTIF(B$4:B57,"<>"),"") | F57: =IF(AND(OR(D57="NP",D57=""),OR(E57="NP",E57="")),IF(AND(D57="",E57=""),"",IF(OR(D57="NP",E57="NP"),"NP","")),IF(OR(D57="NP",D57=""),E57,IF(OR(E57="NP",E57=""),D57,MIN(D57,E57)))) | G57: =IF(OR(D57="",E57=""),"",IF(ISNUMBER(F57),RANK(F57,$F$4:$F$100,1),COUNT($F$4:$F$100)+COUNTIFS($B$4:B57,"<>",$F$4:F57,"NP")))
A58: =IF(B58<>"",COUNTA('7-8 ml_kluci'!B4:B100)+COUNTA('7-8 ml_holky'!B4:B100)+COUNTA('9-11 ml_kluci'!B4:B100)+COUNTA('9-11 ml_holky'!B4:B100)+COUNTA('12-13 st_kluci'!B4:B100)+COUNTIF(B$4:B58,"<>"),"") | F58: =IF(AND(OR(D58="NP",D58=""),OR(E58="NP",E58="")),IF(AND(D58="",E58=""),"",IF(OR(D58="NP",E58="NP"),"NP","")),IF(OR(D58="NP",D58=""),E58,IF(OR(E58="NP",E58=""),D58,MIN(D58,E58)))) | G58: =IF(OR(D58="",E58=""),"",IF(ISNUMBER(F58),RANK(F58,$F$4:$F$100,1),COUNT($F$4:$F$100)+COUNTIFS($B$4:B58,"<>",$F$4:F58,"NP")))
A59: =IF(B59<>"",COUNTA('7-8 ml_kluci'!B4:B100)+COUNTA('7-8 ml_holky'!B4:B100)+COUNTA('9-11 ml_kluci'!B4:B100)+COUNTA('9-11 ml_holky'!B4:B100)+COUNTA('12-13 st_kluci'!B4:B100)+COUNTIF(B$4:B59,"<>"),"") | F59: =IF(AND(OR(D59="NP",D59=""),OR(E59="NP",E59="")),IF(AND(D59="",E59=""),"",IF(OR(D59="NP",E59="NP"),"NP","")),IF(OR(D59="NP",D59=""),E59,IF(OR(E59="NP",E59=""),D59,MIN(D59,E59)))) | G59: =IF(OR(D59="",E59=""),"",IF(ISNUMBER(F59),RANK(F59,$F$4:$F$100,1),COUNT($F$4:$F$100)+COUNTIFS($B$4:B59,"<>",$F$4:F59,"NP")))
A60: =IF(B60<>"",COUNTA('7-8 ml_kluci'!B4:B100)+COUNTA('7-8 ml_holky'!B4:B100)+COUNTA('9-11 ml_kluci'!B4:B100)+COUNTA('9-11 ml_holky'!B4:B100)+COUNTA('12-13 st_kluci'!B4:B100)+COUNTIF(B$4:B60,"<>"),"") | F60: =IF(AND(OR(D60="NP",D60=""),OR(E60="NP",E60="")),IF(AND(D60="",E60=""),"",IF(OR(D60="NP",E60="NP"),"NP","")),IF(OR(D60="NP",D60=""),E60,IF(OR(E60="NP",E60=""),D60,MIN(D60,E60)))) | G60: =IF(OR(D60="",E60=""),"",IF(ISNUMBER(F60),RANK(F60,$F$4:$F$100,1),COUNT($F$4:$F$100)+COUNTIFS($B$4:B60,"<>",$F$4:F60,"NP")))
