Workbook

Sheet 7-8 ml_kluci
A1: Běh na 60 m s překážkami - Rohatec 23. 5. 2026
A2: Kategorie mladší žáci - kluci | D2: 7-8 LET
A3: St. č. | B3: Příjmení a jméno | C3: SDH | D3: 1. pokus | E3: 2. pokus | F3: Výsl. čas | G3: Pořadí
A4: 1 | B4: Zemánik Marian | C4: Svatobořice | D4: NP | E4: NP | F4: =IF(AND(OR(D4="NP",D4=""),OR(E4="NP",E4="")),IF(AND(D4="",E4=""),"",IF(OR(D4="NP",E4="NP"),"NP","")),IF(OR(D4="NP",D4=""),E4,IF(OR(E4="NP",E4=""),D4,MIN(D4,E4)))) -> NP | G4: =IF(OR(D4="",E4=""),"",IF(ISNUMBER(F4),RANK(F4,$F$4:$F$100,1),COUNT($F$4:$F$100)+COUNTIFS($B$4:B4,"<>",$F$4:F4,"NP"))) -> 3
A5: 2 | B5: Lipár Marek | C5: Velká nad Veličkou | D5: NP | E5: 25.57 | F5: =IF(AND(OR(D5="NP",D5=""),OR(E5="NP",E5="")),IF(AND(D5="",E5=""),"",IF(OR(D5="NP",E5="NP"),"NP","")),IF(OR(D5="NP",D5=""),E5,IF(OR(E5="NP",E5=""),D5,MIN(D5,E5)))) -> 25.57 | G5: =IF(OR(D5="",E5=""),"",IF(ISNUMBER(F5),RANK(F5,$F$4:$F$100,1),COUNT($F$4:$F$100)+COUNTIFS($B$4:B5,"<>",$F$4:F5,"NP"))) -> 2
A6: 3 | B6: Petřík Samuel | C6: Kozojídky | D6: 24.44 | E6: NP | F6: =IF(AND(OR(D6="NP",D6=""),OR(E6="NP",E6="")),IF(AND(D6="",E6=""),"",IF(OR(D6="NP",E6="NP"),"NP","")),IF(OR(D6="NP",D6=""),E6,IF(OR(E6="NP",E6=""),D6,MIN(D6,E6)))) -> 24.44 | G6: =IF(OR(D6="",E6=""),"",IF(ISNUMBER(F6),RANK(F6,$F$4:$F$100,1),COUNT($F$4:$F$100)+COUNTIFS($B$4:B6,"<>",$F$4:F6,"NP"))) -> 1
A7: 4 | F7: =IF(AND(OR(D7="NP",D7=""),OR(E7="NP",E7="")),IF(AND(D7="",E7=""),"",IF(OR(D7="NP",E7="NP"),"NP","")),IF(OR(D7="NP",D7=""),E7,IF(OR(E7="NP",E7=""),D7,MIN(D7,E7)))) | G7: =IF(OR(D7="",E7=""),"",IF(ISNUMBER(F7),RANK(F7,$F$4:$F$100,1),COUNT($F$4:$F$100)+COUNTIFS($B$4:B7,"<>",$F$4:F7,"NP")))
A8: 5 | F8: =IF(AND(OR(D8="NP",D8=""),OR(E8="NP",E8="")),IF(AND(D8="",E8=""),"",IF(OR(D8="NP",E8="NP"),"NP","")),IF(OR(D8="NP",D8=""),E8,IF(OR(E8="NP",E8=""),D8,MIN(D8,E8)))) | G8: =IF(OR(D8="",E8=""),"",IF(ISNUMBER(F8),RANK(F8,$F$4:$F$100,1),COUNT($F$4:$F$100)+COUNTIFS($B$4:B8,"<>",$F$4:F8,"NP")))
A9: 6 | F9: =IF(AND(OR(D9="NP",D9=""),OR(E9="NP",E9="")),IF(AND(D9="",E9=""),"",IF(OR(D9="NP",E9="NP"),"NP","")),IF(OR(D9="NP",D9=""),E9,IF(OR(E9="NP",E9=""),D9,MIN(D9,E9)))) | G9: =IF(OR(D9="",E9=""),"",IF(ISNUMBER(F9),RANK(F9,$F$4:$F$100,1),COUNT($F$4:$F$100)+COUNTIFS($B$4:B9,"<>",$F$4:F9,"NP")))
A10: 7 | F10: =IF(AND(OR(D10="NP",D10=""),OR(E10="NP",E10="")),IF(AND(D10="",E10=""),"",IF(OR(D10="NP",E10="NP"),"NP","")),IF(OR(D10="NP",D10=""),E10,IF(OR(E10="NP",E10=""),D10,MIN(D10,E10)))) | G10: =IF(OR(D10="",E10=""),"",IF(ISNUMBER(F10),RANK(F10,$F$4:$F$100,1),COUNT($F$4:$F$100)+COUNTIFS($B$4:B10,"<>",$F$4:F10,"NP")))
A11: 8 | F11: =IF(AND(OR(D11="NP",D11=""),OR(E11="NP",E11="")),IF(AND(D11="",E11=""),"",IF(OR(D11="NP",E11="NP"),"NP","")),IF(OR(D11="NP",D11=""),E11,IF(OR(E11="NP",E11=""),D11,MIN(D11,E11)))) | G11: =IF(OR(D11="",E11=""),"",IF(ISNUMBER(F11),RANK(F11,$F$4:$F$100,1),COUNT($F$4:$F$100)+COUNTIFS($B$4:B11,"<>",$F$4:F11,"NP")))
A12: 9 | F12: =IF(AND(OR(D12="NP",D12=""),OR(E12="NP",E12="")),IF(AND(D12="",E12=""),"",IF(OR(D12="NP",E12="NP"),"NP","")),IF(OR(D12="NP",D12=""),E12,IF(OR(E12="NP",E12=""),D12,MIN(D12,E12)))) | G12: =IF(OR(D12="",E12=""),"",IF(ISNUMBER(F12),RANK(F12,$F$4:$F$100,1),COUNT($F$4:$F$100)+COUNTIFS($B$4:B12,"<>",$F$4:F12,"NP")))
A13: 10 | F13: =IF(AND(OR(D13="NP",D13=""),OR(E13="NP",E13="")),IF(AND(D13="",E13=""),"",IF(OR(D13="NP",E13="NP"),"NP","")),IF(OR(D13="NP",D13=""),E13,IF(OR(E13="NP",E13=""),D13,MIN(D13,E13)))) | G13: =IF(OR(D13="",E13=""),"",IF(ISNUMBER(F13),RANK(F13,$F$4:$F$100,1),COUNT($F$4:$F$100)+COUNTIFS($B$4:B13,"<>",$F$4:F13,"NP")))
F14: =IF(AND(OR(D14="NP",D14=""),OR(E14="NP",E14="")),IF(AND(D14="",E14=""),"",IF(OR(D14="NP",E14="NP"),"NP","")),IF(OR(D14="NP",D14=""),E14,IF(OR(E14="NP",E14=""),D14,MIN(D14,E14)))) | G14: =IF(OR(D14="",E14=""),"",IF(ISNUMBER(F14),RANK(F14,$F$4:$F$100,1),COUNT($F$4:$F$100)+COUNTIFS($B$4:B14,"<>",$F$4:F14,"NP")))
F15: =IF(AND(OR(D15="NP",D15=""),OR(E15="NP",E15="")),IF(AND(D15="",E15=""),"",IF(OR(D15="NP",E15="NP"),"NP","")),IF(OR(D15="NP",D15=""),E15,IF(OR(E15="NP",E15=""),D15,MIN(D15,E15)))) | G15: =IF(OR(D15="",E15=""),"",IF(ISNUMBER(F15),RANK(F15,$F$4:$F$100,1),COUNT($F$4:$F$100)+COUNTIFS($B$4:B15,"<>",$F$4:F15,"NP")))
F16: =IF(AND(OR(D16="NP",D16=""),OR(E16="NP",E16="")),IF(AND(D16="",E16=""),"",IF(OR(D16="NP",E16="NP"),"NP","")),IF(OR(D16="NP",D16=""),E16,IF(OR(E16="NP",E16=""),D16,MIN(D16,E16)))) | G16: =IF(OR(D16="",E16=""),"",IF(ISNUMBER(F16),RANK(F16,$F$4:$F$100,1),COUNT($F$4:$F$100)+COUNTIFS($B$4:B16,"<>",$F$4:F16,"NP")))
F17: =IF(AND(OR(D17="NP",D17=""),OR(E17="NP",E17="")),IF(AND(D17="",E17=""),"",IF(OR(D17="NP",E17="NP"),"NP","")),IF(OR(D17="NP",D17=""),E17,IF(OR(E17="NP",E17=""),D17,MIN(D17,E17)))) | G17: =IF(OR(D17="",E17=""),"",IF(ISNUMBER(F17),RANK(F17,$F$4:$F$100,1),COUNT($F$4:$F$100)+COUNTIFS($B$4:B17,"<>",$F$4:F17,"NP")))
F18: =IF(AND(OR(D18="NP",D18=""),OR(E18="NP",E18="")),IF(AND(D18="",E18=""),"",IF(OR(D18="NP",E18="NP"),"NP","")),IF(OR(D18="NP",D18=""),E18,IF(OR(E18="NP",E18=""),D18,MIN(D18,E18)))) | G18: =IF(OR(D18="",E18=""),"",IF(ISNUMBER(F18),RANK(F18,$F$4:$F$100,1),COUNT($F$4:$F$100)+COUNTIFS($B$4:B18,"<>",$F$4:F18,"NP")))
F19: =IF(AND(OR(D19="NP",D19=""),OR(E19="NP",E19="")),IF(AND(D19="",E19=""),"",IF(OR(D19="NP",E19="NP"),"NP","")),IF(OR(D19="NP",D19=""),E19,IF(OR(E19="NP",E19=""),D19,MIN(D19,E19)))) | G19: =IF(OR(D19="",E19=""),"",IF(ISNUMBER(F19),RANK(F19,$F$4:$F$100,1),COUNT($F$4:$F$100)+COUNTIFS($B$4:B19,"<>",$F$4:F19,"NP")))
F20: =IF(AND(OR(D20="NP",D20=""),OR(E20="NP",E20="")),IF(AND(D20="",E20=""),"",IF(OR(D20="NP",E20="NP"),"NP","")),IF(OR(D20="NP",D20=""),E20,IF(OR(E20="NP",E20=""),D20,MIN(D20,E20)))) | G20: =IF(OR(D20="",E20=""),"",IF(ISNUMBER(F20),RANK(F20,$F$4:$F$100,1),COUNT($F$4:$F$100)+COUNTIFS($B$4:B20,"<>",$F$4:F20,"NP")))
F21: =IF(AND(OR(D21="NP",D21=""),OR(E21="NP",E21="")),IF(AND(D21="",E21=""),"",IF(OR(D21="NP",E21="NP"),"NP","")),IF(OR(D21="NP",D21=""),E21,IF(OR(E21="NP",E21=""),D21,MIN(D21,E21)))) | G21: =IF(OR(D21="",E21=""),"",IF(ISNUMBER(F21),RANK(F21,$F$4:$F$100,1),COUNT($F$4:$F$100)+COUNTIFS($B$4:B21,"<>",$F$4:F21,"NP")))
F22: =IF(AND(OR(D22="NP",D22=""),OR(E22="NP",E22="")),IF(AND(D22="",E22=""),"",IF(OR(D22="NP",E22="NP"),"NP","")),IF(OR(D22="NP",D22=""),E22,IF(OR(E22="NP",E22=""),D22,MIN(D22,E22)))) | G22: =IF(OR(D22="",E22=""),"",IF(ISNUMBER(F22),RANK(F22,$F$4:$F$100,1),COUNT($F$4:$F$100)+COUNTIFS($B$4:B22,"<>",$F$4:F22,"NP")))
F23: =IF(AND(OR(D23="NP",D23=""),OR(E23="NP",E23="")),IF(AND(D23="",E23=""),"",IF(OR(D23="NP",E23="NP"),"NP","")),IF(OR(D23="NP",D23=""),E23,IF(OR(E23="NP",E23=""),D23,MIN(D23,E23)))) | G23: =IF(OR(D23="",E23=""),"",IF(ISNUMBER(F23),RANK(F23,$F$4:$F$100,1),COUNT($F$4:$F$100)+COUNTIFS($B$4:B23,"<>",$F$4:F23,"NP")))
F24: =IF(AND(OR(D24="NP",D24=""),OR(E24="NP",E24="")),IF(AND(D24="",E24=""),"",IF(OR(D24="NP",E24="NP"),"NP","")),IF(OR(D24="NP",D24=""),E24,IF(OR(E24="NP",E24=""),D24,MIN(D24,E24)))) | G24: =IF(OR(D24="",E24=""),"",IF(ISNUMBER(F24),RANK(F24,$F$4:$F$100,1),COUNT($F$4:$F$100)+COUNTIFS($B$4:B24,"<>",$F$4:F24,"NP")))
A25: =IF(B25<>"",0+COUNTIF(B$4:B25,"<>"),"") | F25: =IF(AND(OR(D25="NP",D25=""),OR(E25="NP",E25="")),IF(AND(D25="",E25=""),"",IF(OR(D25="NP",E25="NP"),"NP","")),IF(OR(D25="NP",D25=""),E25,IF(OR(E25="NP",E25=""),D25,MIN(D25,E25)))) | G25: =IF(OR(D25="",E25=""),"",IF(ISNUMBER(F25),RANK(F25,$F$4:$F$100,1),COUNT($F$4:$F$100)+COUNTIFS($B$4:B25,"<>",$F$4:F25,"NP")))
A26: =IF(B26<>"",0+COUNTIF(B$4:B26,"<>"),"") | F26: =IF(AND(OR(D26="NP",D26=""),OR(E26="NP",E26="")),IF(AND(D26="",E26=""),"",IF(OR(D26="NP",E26="NP"),"NP","")),IF(OR(D26="NP",D26=""),E26,IF(OR(E26="NP",E26=""),D26,MIN(D26,E26)))) | G26: =IF(OR(D26="",E26=""),"",IF(ISNUMBER(F26),RANK(F26,$F$4:$F$100,1),COUNT($F$4:$F$100)+COUNTIFS($B$4:B26,"<>",$F$4:F26,"NP")))
A27: =IF(B27<>"",0+COUNTIF(B$4:B27,"<>"),"") | F27: =IF(AND(OR(D27="NP",D27=""),OR(E27="NP",E27="")),IF(AND(D27="",E27=""),"",IF(OR(D27="NP",E27="NP"),"NP","")),IF(OR(D27="NP",D27=""),E27,IF(OR(E27="NP",E27=""),D27,MIN(D27,E27)))) | G27: =IF(OR(D27="",E27=""),"",IF(ISNUMBER(F27),RANK(F27,$F$4:$F$100,1),COUNT($F$4:$F$100)+COUNTIFS($B$4:B27,"<>",$F$4:F27,"NP")))
A28: =IF(B28<>"",0+COUNTIF(B$4:B28,"<>"),"") | F28: =IF(AND(OR(D28="NP",D28=""),OR(E28="NP",E28="")),IF(AND(D28="",E28=""),"",IF(OR(D28="NP",E28="NP"),"NP","")),IF(OR(D28="NP",D28=""),E28,IF(OR(E28="NP",E28=""),D28,MIN(D28,E28)))) | G28: =IF(OR(D28="",E28=""),"",IF(ISNUMBER(F28),RANK(F28,$F$4:$F$100,1),COUNT($F$4:$F$100)+COUNTIFS($B$4:B28,"<>",$F$4:F28,"NP")))
A29: =IF(B29<>"",0+COUNTIF(B$4:B29,"<>"),"") | F29: =IF(AND(OR(D29="NP",D29=""),OR(E29="NP",E29="")),IF(AND(D29="",E29=""),"",IF(OR(D29="NP",E29="NP"),"NP","")),IF(OR(D29="NP",D29=""),E29,IF(OR(E29="NP",E29=""),D29,MIN(D29,E29)))) | G29: =IF(OR(D29="",E29=""),"",IF(ISNUMBER(F29),RANK(F29,$F$4:$F$100,1),COUNT($F$4:$F$100)+COUNTIFS($B$4:B29,"<>",$F$4:F29,"NP")))
A30: =IF(B30<>"",0+COUNTIF(B$4:B30,"<>"),"") | F30: =IF(AND(OR(D30="NP",D30=""),OR(E30="NP",E30="")),IF(AND(D30="",E30=""),"",IF(OR(D30="NP",E30="NP"),"NP","")),IF(OR(D30="NP",D30=""),E30,IF(OR(E30="NP",E30=""),D30,MIN(D30,E30)))) | G30: =IF(OR(D30="",E30=""),"",IF(ISNUMBER(F30),RANK(F30,$F$4:$F$100,1),COUNT($F$4:$F$100)+COUNTIFS($B$4:B30,"<>",$F$4:F30,"NP")))
A31: =IF(B31<>"",0+COUNTIF(B$4:B31,"<>"),"") | F31: =IF(AND(OR(D31="NP",D31=""),OR(E31="NP",E31="")),IF(AND(D31="",E31=""),"",IF(OR(D31="NP",E31="NP"),"NP","")),IF(OR(D31="NP",D31=""),E31,IF(OR(E31="NP",E31=""),D31,MIN(D31,E31)))) | G31: =IF(OR(D31="",E31=""),"",IF(ISNUMBER(F31),RANK(F31,$F$4:$F$100,1),COUNT($F$4:$F$100)+COUNTIFS($B$4:B31,"<>",$F$4:F31,"NP")))
A32: =IF(B32<>"",0+COUNTIF(B$4:B32,"<>"),"") | F32: =IF(AND(OR(D32="NP",D32=""),OR(E32="NP",E32="")),IF(AND(D32="",E32=""),"",IF(OR(D32="NP",E32="NP"),"NP","")),IF(OR(D32="NP",D32=""),E32,IF(OR(E32="NP",E32=""),D32,MIN(D32,E32)))) | G32: =IF(OR(D32="",E32=""),"",IF(ISNUMBER(F32),RANK(F32,$F$4:$F$100,1),COUNT($F$4:$F$100)+COUNTIFS($B$4:B32,"<>",$F$4:F32,"NP")))
A33: =IF(B33<>"",0+COUNTIF(B$4:B33,"<>"),"") | F33: =IF(AND(OR(D33="NP",D33=""),OR(E33="NP",E33="")),IF(AND(D33="",E33=""),"",IF(OR(D33="NP",E33="NP"),"NP","")),IF(OR(D33="NP",D33=""),E33,IF(OR(E33="NP",E33=""),D33,MIN(D33,E33)))) | G33: =IF(OR(D33="",E33=""),"",IF(ISNUMBER(F33),RANK(F33,$F$4:$F$100,1),COUNT($F$4:$F$100)+COUNTIFS($B$4:B33,"<>",$F$4:F33,"NP")))
A34: =IF(B34<>"",0+COUNTIF(B$4:B34,"<>"),"") | F34: =IF(AND(OR(D34="NP",D34=""),OR(E34="NP",E34="")),IF(AND(D34="",E34=""),"",IF(OR(D34="NP",E34="NP"),"NP","")),IF(OR(D34="NP",D34=""),E34,IF(OR(E34="NP",E34=""),D34,MIN(D34,E34)))) | G34: =IF(OR(D34="",E34=""),"",IF(ISNUMBER(F34),RANK(F34,$F$4:$F$100,1),COUNT($F$4:$F$100)+COUNTIFS($B$4:B34,"<>",$F$4:F34,"NP")))
A35: =IF(B35<>"",0+COUNTIF(B$4:B35,"<>"),"") | F35: =IF(AND(OR(D35="NP",D35=""),OR(E35="NP",E35="")),IF(AND(D35="",E35=""),"",IF(OR(D35="NP",E35="NP"),"NP","")),IF(OR(D35="NP",D35=""),E35,IF(OR(E35="NP",E35=""),D35,MIN(D35,E35)))) | G35: =IF(OR(D35="",E35=""),"",IF(ISNUMBER(F35),RANK(F35,$F$4:$F$100,1),COUNT($F$4:$F$100)+COUNTIFS($B$4:B35,"<>",$F$4:F35,"NP")))
A36: =IF(B36<>"",0+COUNTIF(B$4:B36,"<>"),"") | F36: =IF(AND(OR(D36="NP",D36=""),OR(E36="NP",E36="")),IF(AND(D36="",E36=""),"",IF(OR(D36="NP",E36="NP"),"NP","")),IF(OR(D36="NP",D36=""),E36,IF(OR(E36="NP",E36=""),D36,MIN(D36,E36)))) | G36: =IF(OR(D36="",E36=""),"",IF(ISNUMBER(F36),RANK(F36,$F$4:$F$100,1),COUNT($F$4:$F$100)+COUNTIFS($B$4:B36,"<>",$F$4:F36,"NP")))
... A100: =IF(B100<>"",0+COUNTIF(B$4:B100,"<>"),"") | F100: =IF(AND(OR(D100="NP",D100=""),OR(E100="NP",E100="")),IF(AND(D100="",E100=""),"",IF(OR(D100="NP",E100="NP"),"NP","")),IF(OR(D100="NP",D100=""),E100,IF(OR(E100="NP",E100=""),D100,MIN(D100,E100)))) | G100: =IF(OR(D100="",E100=""),"",IF(ISNUMBER(F100),RANK(F100,$F$4:$F$100,1),COUNT($F$4:$F$100)+COUNTIFS($B$4:B100,"<>",$F$4:F100,"NP")))

Sheet 7-8 ml_holky
A1: Běh na 60 m s překážkami - Rohatec 23. 5. 2026
A2: Kategorie mladší žáci - holky | D2: 7-8 LET
A3: St. č. | B3: Příjmení a jméno | C3: SDH | D3: 1. pokus | E3: 2. pokus | F3: Výsl. čas | G3: Pořadí
A4: 11 | B4: Holešinská Ema | C4: Vracov | D4: 22.74 | E4: 21.36 | F4: =IF(AND(OR(D4="NP",D4=""),OR(E4="NP",E4="")),IF(AND(D4="",E4=""),"",IF(OR(D4="NP",E4="NP"),"NP","")),IF(OR(D4="NP",D4=""),E4,IF(OR(E4="NP",E4=""),D4,MIN(D4,E4)))) -> 21.36 | G4: =IF(OR(D4="",E4=""),"",IF(ISNUMBER(F4),RANK(F4,$F$4:$F$100,1),COUNT($F$4:$F$100)+COUNTIFS($B$4:B4,"<>",$F$4:F4,"NP"))) -> 2
A5: 12 | B5: Procházková Magdaléna | C5: Hroznová Lhota | D5: 25.25 | E5: 21.88 | F5: =IF(AND(OR(D5="NP",D5=""),OR(E5="NP",E5="")),IF(AND(D5="",E5=""),"",IF(OR(D5="NP",E5="NP"),"NP","")),IF(OR(D5="NP",D5=""),E5,IF(OR(E5="NP",E5=""),D5,MIN(D5,E5)))) -> 21.88 | G5: =IF(OR(D5="",E5=""),"",IF(ISNUMBER(F5),RANK(F5,$F$4:$F$100,1),COUNT($F$4:$F$100)+COUNTIFS($B$4:B5,"<>",$F$4:F5,"NP"))) -> 3
A6: 13 | B6: Hnilicová Ema | C6: Rohatec | D6: 24.37 | E6: 27.75 | F6: =IF(AND(OR(D6="NP",D6=""),OR(E6="NP",E6="")),IF(AND(D6="",E6=""),"",IF(OR(D6="NP",E6="NP"),"NP","")),IF(OR(D6="NP",D6=""),E6,IF(OR(E6="NP",E6=""),D6,MIN(D6,E6)))) -> 24.37 | G6: =IF(OR(D6="",E6=""),"",IF(ISNUMBER(F6),RANK(F6,$F$4:$F$100,1),COUNT($F$4:$F$100)+COUNTIFS($B$4:B6,"<>",$F$4:F6,"NP"))) -> 5
A7: 14 | B7: Fridrichová Natálie | C7: Vracov | D7: 27.54 | E7: 20.29 | F7: =IF(AND(OR(D7="NP",D7=""),OR(E7="NP",E7="")),IF(AND(D7="",E7=""),"",IF(OR(D7="NP",E7="NP"),"NP","")),IF(OR(D7="NP",D7=""),E7,IF(OR(E7="NP",E7=""),D7,MIN(D7,E7)))) -> 20.29 | G7: =IF(OR(D7="",E7=""),"",IF(ISNUMBER(F7),RANK(F7,$F$4:$F$100,1),COUNT($F$4:$F$100)+COUNTIFS($B$4:B7,"<>",$F$4:F7,"NP"))) -> 1
A8: 15 | B8: Konečná Adrien | C8: Kozojídky | D8: 44.09 | E8: 41.16 | F8: =IF(AND(OR(D8="NP",D8=""),OR(E8="NP",E8="")),IF(AND(D8="",E8=""),"",IF(OR(D8="NP",E8="NP"),"NP","")),IF(OR(D8="NP",D8=""),E8,IF(OR(E8="NP",E8=""),D8,MIN(D8,E8)))) -> 41.16 | G8: =IF(OR(D8="",E8=""),"",IF(ISNUMBER(F8),RANK(F8,$F$4:$F$100,1),COUNT($F$4:$F$100)+COUNTIFS($B$4:B8,"<>",$F$4:F8,"NP"))) -> 7
A9: 16 | B9: Cíchová Sára | C9: Blatnice p. Sv. A. | D9: 37.1 | E9: 27.4 | F9: =IF(AND(OR(D9="NP",D9=""),OR(E9="NP",E9="")),IF(AND(D9="",E9=""),"",IF(OR(D9="NP",E9="NP"),"NP","")),IF(OR(D9="NP",D9=""),E9,IF(OR(E9="NP",E9=""),D9,MIN(D9,E9)))) -> 27.4 | G9: =IF(OR(D9="",E9=""),"",IF(ISNUMBER(F9),RANK(F9,$F$4:$F$100,1),COUNT($F$4:$F$100)+COUNTIFS($B$4:B9,"<>",$F$4:F9,"NP"))) -> 6
A10: 17 | B10: Žurovcová Gabriela | C10: Vracov | D10: 23.31 | E10: 25.78 | F10: =IF(AND(OR(D10="NP",D10=""),OR(E10="NP",E10="")),IF(AND(D10="",E10=""),"",IF(OR(D10="NP",E10="NP"),"NP","")),IF(OR(D10="NP",D10=""),E10,IF(OR(E10="NP",E10=""),D10,MIN(D10,E10)))) -> 23.31 | G10: =IF(OR(D10="",E10=""),"",IF(ISNUMBER(F10),RANK(F10,$F$4:$F$100,1),COUNT($F$4:$F$100)+COUNTIFS($B$4:B10,"<>",$F$4:F10,"NP"))) -> 4
A11: 18 | F11: =IF(AND(OR(D11="NP",D11=""),OR(E11="NP",E11="")),IF(AND(D11="",E11=""),"",IF(OR(D11="NP",E11="NP"),"NP","")),IF(OR(D11="NP",D11=""),E11,IF(OR(E11="NP",E11=""),D11,MIN(D11,E11)))) | G11: =IF(OR(D11="",E11=""),"",IF(ISNUMBER(F11),RANK(F11,$F$4:$F$100,1),COUNT($F$4:$F$100)+COUNTIFS($B$4:B11,"<>",$F$4:F11,"NP")))
A12: 19 | F12: =IF(AND(OR(D12="NP",D12=""),OR(E12="NP",E12="")),IF(AND(D12="",E12=""),"",IF(OR(D12="NP",E12="NP"),"NP","")),IF(OR(D12="NP",D12=""),E12,IF(OR(E12="NP",E12=""),D12,MIN(D12,E12)))) | G12: =IF(OR(D12="",E12=""),"",IF(ISNUMBER(F12),RANK(F12,$F$4:$F$100,1),COUNT($F$4:$F$100)+COUNTIFS($B$4:B12,"<>",$F$4:F12,"NP")))
A13: 20 | F13: =IF(AND(OR(D13="NP",D13=""),OR(E13="NP",E13="")),IF(AND(D13="",E13=""),"",IF(OR(D13="NP",E13="NP"),"NP","")),IF(OR(D13="NP",D13=""),E13,IF(OR(E13="NP",E13=""),D13,MIN(D13,E13)))) | G13: =IF(OR(D13="",E13=""),"",IF(ISNUMBER(F13),RANK(F13,$F$4:$F$100,1),COUNT($F$4:$F$100)+COUNTIFS($B$4:B13,"<>",$F$4:F13,"NP")))
A14: 21 | F14: =IF(AND(OR(D14="NP",D14=""),OR(E14="NP",E14="")),IF(AND(D14="",E14=""),"",IF(OR(D14="NP",E14="NP"),"NP","")),IF(OR(D14="NP",D14=""),E14,IF(OR(E14="NP",E14=""),D14,MIN(D14,E14)))) | G14: =IF(OR(D14="",E14=""),"",IF(ISNUMBER(F14),RANK(F14,$F$4:$F$100,1),COUNT($F$4:$F$100)+COUNTIFS($B$4:B14,"<>",$F$4:F14,"NP")))
A15: 22 | F15: =IF(AND(OR(D15="NP",D15=""),OR(E15="NP",E15="")),IF(AND(D15="",E15=""),"",IF(OR(D15="NP",E15="NP"),"NP","")),IF(OR(D15="NP",D15=""),E15,IF(OR(E15="NP",E15=""),D15,MIN(D15,E15)))) | G15: =IF(OR(D15="",E15=""),"",IF(ISNUMBER(F15),RANK(F15,$F$4:$F$100,1),COUNT($F$4:$F$100)+COUNTIFS($B$4:B15,"<>",$F$4:F15,"NP")))
A16: 23 | F16: =IF(AND(OR(D16="NP",D16=""),OR(E16="NP",E16="")),IF(AND(D16="",E16=""),"",IF(OR(D16="NP",E16="NP"),"NP","")),IF(OR(D16="NP",D16=""),E16,IF(OR(E16="NP",E16=""),D16,MIN(D16,E16)))) | G16: =IF(OR(D16="",E16=""),"",IF(ISNUMBER(F16),RANK(F16,$F$4:$F$100,1),COUNT($F$4:$F$100)+COUNTIFS($B$4:B16,"<>",$F$4:F16,"NP")))
A17: 24 | F17: =IF(AND(OR(D17="NP",D17=""),OR(E17="NP",E17="")),IF(AND(D17="",E17=""),"",IF(OR(D17="NP",E17="NP"),"NP","")),IF(OR(D17="NP",D17=""),E17,IF(OR(E17="NP",E17=""),D17,MIN(D17,E17)))) | G17: =IF(OR(D17="",E17=""),"",IF(ISNUMBER(F17),RANK(F17,$F$4:$F$100,1),COUNT($F$4:$F$100)+COUNTIFS($B$4:B17,"<>",$F$4:F17,"NP")))
A18: 25 | F18: =IF(AND(OR(D18="NP",D18=""),OR(E18="NP",E18="")),IF(AND(D18="",E18=""),"",IF(OR(D18="NP",E18="NP"),"NP","")),IF(OR(D18="NP",D18=""),E18,IF(OR(E18="NP",E18=""),D18,MIN(D18,E18)))) | G18: =IF(OR(D18="",E18=""),"",IF(ISNUMBER(F18),RANK(F18,$F$4:$F$100,1),COUNT($F$4:$F$100)+COUNTIFS($B$4:B18,"<>",$F$4:F18,"NP")))
F19: =IF(AND(OR(D19="NP",D19=""),OR(E19="NP",E19="")),IF(AND(D19="",E19=""),"",IF(OR(D19="NP",E19="NP"),"NP","")),IF(OR(D19="NP",D19=""),E19,IF(OR(E19="NP",E19=""),D19,MIN(D19,E19)))) | G19: =IF(OR(D19="",E19=""),"",IF(ISNUMBER(F19),RANK(F19,$F$4:$F$100,1),COUNT($F$4:$F$100)+COUNTIFS($B$4:B19,"<>",$F$4:F19,"NP")))
F20: =IF(AND(OR(D20="NP",D20=""),OR(E20="NP",E20="")),IF(AND(D20="",E20=""),"",IF(OR(D20="NP",E20="NP"),"NP","")),IF(OR(D20="NP",D20=""),E20,IF(OR(E20="NP",E20=""),D20,MIN(D20,E20)))) | G20: =IF(OR(D20="",E20=""),"",IF(ISNUMBER(F20),RANK(F20,$F$4:$F$100,1),COUNT($F$4:$F$100)+COUNTIFS($B$4:B20,"<>",$F$4:F20,"NP")))
F21: =IF(AND(OR(D21="NP",D21=""),OR(E21="NP",E21="")),IF(AND(D21="",E21=""),"",IF(OR(D21="NP",E21="NP"),"NP","")),IF(OR(D21="NP",D21=""),E21,IF(OR(E21="NP",E21=""),D21,MIN(D21,E21)))) | G21: =IF(OR(D21="",E21=""),"",IF(ISNUMBER(F21),RANK(F21,$F$4:$F$100,1),COUNT($F$4:$F$100)+COUNTIFS($B$4:B21,"<>",$F$4:F21,"NP")))
F22: =IF(AND(OR(D22="NP",D22=""),OR(E22="NP",E22="")),IF(AND(D22="",E22=""),"",IF(OR(D22="NP",E22="NP"),"NP","")),IF(OR(D22="NP",D22=""),E22,IF(OR(E22="NP",E22=""),D22,MIN(D22,E22)))) | G22: =IF(OR(D22="",E22=""),"",IF(ISNUMBER(F22),RANK(F22,$F$4:$F$100,1),COUNT($F$4:$F$100)+COUNTIFS($B$4:B22,"<>",$F$4:F22,"NP")))
F23: =IF(AND(OR(D23="NP",D23=""),OR(E23="NP",E23="")),IF(AND(D23="",E23=""),"",IF(OR(D23="NP",E23="NP"),"NP","")),IF(OR(D23="NP",D23=""),E23,IF(OR(E23="NP",E23=""),D23,MIN(D23,E23)))) | G23: =IF(OR(D23="",E23=""),"",IF(ISNUMBER(F23),RANK(F23,$F$4:$F$100,1),COUNT($F$4:$F$100)+COUNTIFS($B$4:B23,"<>",$F$4:F23,"NP")))
F24: =IF(AND(OR(D24="NP",D24=""),OR(E24="NP",E24="")),IF(AND(D24="",E24=""),"",IF(OR(D24="NP",E24="NP"),"NP","")),IF(OR(D24="NP",D24=""),E24,IF(OR(E24="NP",E24=""),D24,MIN(D24,E24)))) | G24: =IF(OR(D24="",E24=""),"",IF(ISNUMBER(F24),RANK(F24,$F$4:$F$100,1),COUNT($F$4:$F$100)+COUNTIFS($B$4:B24,"<>",$F$4:F24,"NP")))
A25: =IF(B25<>"",COUNTA('7-8 ml_kluci'!B4:B100)+COUNTIF(B$4:B25,"<>"),"") | F25: =IF(AND(OR(D25="NP",D25=""),OR(E25="NP",E25="")),IF(AND(D25="",E25=""),"",IF(OR(D25="NP",E25="NP"),"NP","")),IF(OR(D25="NP",D25=""),E25,IF(OR(E25="NP",E25=""),D25,MIN(D25,E25)))) | G25: =IF(OR(D25="",E25=""),"",IF(ISNUMBER(F25),RANK(F25,$F$4:$F$100,1),COUNT($F$4:$F$100)+COUNTIFS($B$4:B25,"<>",$F$4:F25,"NP")))
A26: =IF(B26<>"",COUNTA('7-8 ml_kluci'!B4:B100)+COUNTIF(B$4:B26,"<>"),"") | F26: =IF(AND(OR(D26="NP",D26=""),OR(E26="NP",E26="")),IF(AND(D26="",E26=""),"",IF(OR(D26="NP",E26="NP"),"NP","")),IF(OR(D26="NP",D26=""),E26,IF(OR(E26="NP",E26=""),D26,MIN(D26,E26)))) | G26: =IF(OR(D26="",E26=""),"",IF(ISNUMBER(F26),RANK(F26,$F$4:$F$100,1),COUNT($F$4:$F$100)+COUNTIFS($B$4:B26,"<>",$F$4:F26,"NP")))
A27: =IF(B27<>"",COUNTA('7-8 ml_kluci'!B4:B100)+COUNTIF(B$4:B27,"<>"),"") | F27: =IF(AND(OR(D27="NP",D27=""),OR(E27="NP",E27="")),IF(AND(D27="",E27=""),"",IF(OR(D27="NP",E27="NP"),"NP","")),IF(OR(D27="NP",D27=""),E27,IF(OR(E27="NP",E27=""),D27,MIN(D27,E27)))) | G27: =IF(OR(D27="",E27=""),"",IF(ISNUMBER(F27),RANK(F27,$F$4:$F$100,1),COUNT($F$4:$F$100)+COUNTIFS($B$4:B27,"<>",$F$4:F27,"NP")))
A28: =IF(B28<>"",COUNTA('7-8 ml_kluci'!B4:B100)+COUNTIF(B$4:B28,"<>"),"") | F28: =IF(AND(OR(D28="NP",D28=""),OR(E28="NP",E28="")),IF(AND(D28="",E28=""),"",IF(OR(D28="NP",E28="NP"),"NP","")),IF(OR(D28="NP",D28=""),E28,IF(OR(E28="NP",E28=""),D28,MIN(D28,E28)))) | G28: =IF(OR(D28="",E28=""),"",IF(ISNUMBER(F28),RANK(F28,$F$4:$F$100,1),COUNT($F$4:$F$100)+COUNTIFS($B$4:B28,"<>",$F$4:F28,"NP")))
A29: =IF(B29<>"",COUNTA('7-8 ml_kluci'!B4:B100)+COUNTIF(B$4:B29,"<>"),"") | F29: =IF(AND(OR(D29="NP",D29=""),OR(E29="NP",E29="")),IF(AND(D29="",E29=""),"",IF(OR(D29="NP",E29="NP"),"NP","")),IF(OR(D29="NP",D29=""),E29,IF(OR(E29="NP",E29=""),D29,MIN(D29,E29)))) | G29: =IF(OR(D29="",E29=""),"",IF(ISNUMBER(F29),RANK(F29,$F$4:$F$100,1),COUNT($F$4:$F$100)+COUNTIFS($B$4:B29,"<>",$F$4:F29,"NP")))
A30: =IF(B30<>"",COUNTA('7-8 ml_kluci'!B4:B100)+COUNTIF(B$4:B30,"<>"),"") | F30: =IF(AND(OR(D30="NP",D30=""),OR(E30="NP",E30="")),IF(AND(D30="",E30=""),"",IF(OR(D30="NP",E30="NP"),"NP","")),IF(OR(D30="NP",D30=""),E30,IF(OR(E30="NP",E30=""),D30,MIN(D30,E30)))) | G30: =IF(OR(D30="",E30=""),"",IF(ISNUMBER(F30),RANK(F30,$F$4:$F$100,1),COUNT($F$4:$F$100)+COUNTIFS($B$4:B30,"<>",$F$4:F30,"NP")))
A31: =IF(B31<>"",COUNTA('7-8 ml_kluci'!B4:B100)+COUNTIF(B$4:B31,"<>"),"") | F31: =IF(AND(OR(D31="NP",D31=""),OR(E31="NP",E31="")),IF(AND(D31="",E31=""),"",IF(OR(D31="NP",E31="NP"),"NP","")),IF(OR(D31="NP",D31=""),E31,IF(OR(E31="NP",E31=""),D31,MIN(D31,E31)))) | G31: =IF(OR(D31="",E31=""),"",IF(ISNUMBER(F31),RANK(F31,$F$4:$F$100,1),COUNT($F$4:$F$100)+COUNTIFS($B$4:B31,"<>",$F$4:F31,"NP")))
A32: =IF(B32<>"",COUNTA('7-8 ml_kluci'!B4:B100)+COUNTIF(B$4:B32,"<>"),"") | F32: =IF(AND(OR(D32="NP",D32=""),OR(E32="NP",E32="")),IF(AND(D32="",E32=""),"",IF(OR(D32="NP",E32="NP"),"NP","")),IF(OR(D32="NP",D32=""),E32,IF(OR(E32="NP",E32=""),D32,MIN(D32,E32)))) | G32: =IF(OR(D32="",E32=""),"",IF(ISNUMBER(F32),RANK(F32,$F$4:$F$100,1),COUNT($F$4:$F$100)+COUNTIFS($B$4:B32,"<>",$F$4:F32,"NP")))
A33: =IF(B33<>"",COUNTA('7-8 ml_kluci'!B4:B100)+COUNTIF(B$4:B33,"<>"),"") | F33: =IF(AND(OR(D33="NP",D33=""),OR(E33="NP",E33="")),IF(AND(D33="",E33=""),"",IF(OR(D33="NP",E33="NP"),"NP","")),IF(OR(D33="NP",D33=""),E33,IF(OR(E33="NP",E33=""),D33,MIN(D33,E33)))) | G33: =IF(OR(D33="",E33=""),"",IF(ISNUMBER(F33),RANK(F33,$F$4:$F$100,1),COUNT($F$4:$F$100)+COUNTIFS($B$4:B33,"<>",$F$4:F33,"NP")))
A34: =IF(B34<>"",COUNTA('7-8 ml_kluci'!B4:B100)+COUNTIF(B$4:B34,"<>"),"") | F34: =IF(AND(OR(D34="NP",D34=""),OR(E34="NP",E34="")),IF(AND(D34="",E34=""),"",IF(OR(D34="NP",E34="NP"),"NP","")),IF(OR(D34="NP",D34=""),E34,IF(OR(E34="NP",E34=""),D34,MIN(D34,E34)))) | G34: =IF(OR(D34="",E34=""),"",IF(ISNUMBER(F34),RANK(F34,$F$4:$F$100,1),COUNT($F$4:$F$100)+COUNTIFS($B$4:B34,"<>",$F$4:F34,"NP")))
A35: =IF(B35<>"",COUNTA('7-8 ml_kluci'!B4:B100)+COUNTIF(B$4:B35,"<>"),"") | F35: =IF(AND(OR(D35="NP",D35=""),OR(E35="NP",E35="")),IF(AND(D35="",E35=""),"",IF(OR(D35="NP",E35="NP"),"NP","")),IF(OR(D35="NP",D35=""),E35,IF(OR(E35="NP",E35=""),D35,MIN(D35,E35)))) | G35: =IF(OR(D35="",E35=""),"",IF(ISNUMBER(F35),RANK(F35,$F$4:$F$100,1),COUNT($F$4:$F$100)+COUNTIFS($B$4:B35,"<>",$F$4:F35,"NP")))
A36: =IF(B36<>"",COUNTA('7-8 ml_kluci'!B4:B100)+COUNTIF(B$4:B36,"<>"),"") | F36: =IF(AND(OR(D36="NP",D36=""),OR(E36="NP",E36="")),IF(AND(D36="",E36=""),"",IF(OR(D36="NP",E36="NP"),"NP","")),IF(OR(D36="NP",D36=""),E36,IF(OR(E36="NP",E36=""),D36,MIN(D36,E36)))) | G36: =IF(OR(D36="",E36=""),"",IF(ISNUMBER(F36),RANK(F36,$F$4:$F$100,1),COUNT($F$4:$F$100)+COUNTIFS($B$4:B36,"<>",$F$4:F36,"NP")))
A37: =IF(B37<>"",COUNTA('7-8 ml_kluci'!B4:B100)+COUNTIF(B$4:B37,"<>"),"") | F37: =IF(AND(OR(D37="NP",D37=""),OR(E37="NP",E37="")),IF(AND(D37="",E37=""),"",IF(OR(D37="NP",E37="NP"),"NP","")),IF(OR(D37="NP",D37=""),E37,IF(OR(E37="NP",E37=""),D37,MIN(D37,E37)))) | G37: =IF(OR(D37="",E37=""),"",IF(ISNUMBER(F37),RANK(F37,$F$4:$F$100,1),COUNT($F$4:$F$100)+COUNTIFS($B$4:B37,"<>",$F$4:F37,"NP")))
A38: =IF(B38<>"",COUNTA('7-8 ml_kluci'!B4:B100)+COUNTIF(B$4:B38,"<>"),"") | F38: =IF(AND(OR(D38="NP",D38=""),OR(E38="NP",E38="")),IF(AND(D38="",E38=""),"",IF(OR(D38="NP",E38="NP"),"NP","")),IF(OR(D38="NP",D38=""),E38,IF(OR(E38="NP",E38=""),D38,MIN(D38,E38)))) | G38: =IF(OR(D38="",E38=""),"",IF(ISNUMBER(F38),RANK(F38,$F$4:$F$100,1),COUNT($F$4:$F$100)+COUNTIFS($B$4:B38,"<>",$F$4:F38,"NP")))
A39: =IF(B39<>"",COUNTA('7-8 ml_kluci'!B4:B100)+COUNTIF(B$4:B39,"<>"),"") | F39: =IF(AND(OR(D39="NP",D39=""),OR(E39="NP",E39="")),IF(AND(D39="",E39=""),"",IF(OR(D39="NP",E39="NP"),"NP","")),IF(OR(D39="NP",D39=""),E39,IF(OR(E39="NP",E39=""),D39,MIN(D39,E39)))) | G39: =IF(OR(D39="",E39=""),"",IF(ISNUMBER(F39),RANK(F39,$F$4:$F$100,1),COUNT($F$4:$F$100)+COUNTIFS($B$4:B39,"<>",$F$4:F39,"NP")))
A40: =IF(B40<>"",COUNTA('7-8 ml_kluci'!B4:B100)+COUNTIF(B$4:B40,"<>"),"") | F40: =IF(AND(OR(D40="NP",D40=""),OR(E40="NP",E40="")),IF(AND(D40="",E40=""),"",IF(OR(D40="NP",E40="NP"),"NP","")),IF(OR(D40="NP",D40=""),E40,IF(OR(E40="NP",E40=""),D40,MIN(D40,E40)))) | G40: =IF(OR(D40="",E40=""),"",IF(ISNUMBER(F40),RANK(F40,$F$4:$F$100,1),COUNT($F$4:$F$100)+COUNTIFS($B$4:B40,"<>",$F$4:F40,"NP")))
...

Sheet 9-11 ml_kluci
A1: Běh na 60 m s překážkami - Rohatec 23. 5. 2026
A2: Kategorie 9-11 mladší žáci - kluci | D2: 9-11 LET
A3: St. č. | B3: Příjmení a jméno | C3: SDH | D3: 1. pokus | E3: 2. pokus | F3: Výsl. čas | G3: Pořadí
A4: 26 | B4: Slezák Adam | C4: Miroslav | D4: 17.43 | E4: 18 | F4: =IF(AND(OR(D4="NP",D4=""),OR(E4="NP",E4="")),IF(AND(D4="",E4=""),"",IF(OR(D4="NP",E4="NP"),"NP","")),IF(OR(D4="NP",D4=""),E4,IF(OR(E4="NP",E4=""),D4,MIN(D4,E4)))) -> 17.43 | G4: =IF(OR(D4="",E4=""),"",IF(ISNUMBER(F4),RANK(F4,$F$4:$F$100,1),COUNT($F$4:$F$100)+COUNTIFS($B$4:B4,"<>",$F$4:F4,"NP"))) -> 4
A5: 27 | B5: Posnik Jaromír | C5: Vracov | D5: 22.92 | E5: 26.57 | F5: =IF(AND(OR(D5="NP",D5=""),OR(E5="NP",E5="")),IF(AND(D5="",E5=""),"",IF(OR(D5="NP",E5="NP"),"NP","")),IF(OR(D5="NP",D5=""),E5,IF(OR(E5="NP",E5=""),D5,MIN(D5,E5)))) -> 22.92 | G5: =IF(OR(D5="",E5=""),"",IF(ISNUMBER(F5),RANK(F5,$F$4:$F$100,1),COUNT($F$4:$F$100)+COUNTIFS($B$4:B5,"<>",$F$4:F5,"NP"))) -> 15
A6: 28 | B6: Míšek Martin | C6: Blatnice p. Sv. A. | D6: 15.94 | E6: 16.6 | F6: =IF(AND(OR(D6="NP",D6=""),OR(E6="NP",E6="")),IF(AND(D6="",E6=""),"",IF(OR(D6="NP",E6="NP"),"NP","")),IF(OR(D6="NP",D6=""),E6,IF(OR(E6="NP",E6=""),D6,MIN(D6,E6)))) -> 15.94 | G6: =IF(OR(D6="",E6=""),"",IF(ISNUMBER(F6),RANK(F6,$F$4:$F$100,1),COUNT($F$4:$F$100)+COUNTIFS($B$4:B6,"<>",$F$4:F6,"NP"))) -> 1
A7: 29 | B7: Ďuračka Marek | C7: Velká nad Veličkou | D7: 22.32 | E7: 27.24 | F7: =IF(AND(OR(D7="NP",D7=""),OR(E7="NP",E7="")),IF(AND(D7="",E7=""),"",IF(OR(D7="NP",E7="NP"),"NP","")),IF(OR(D7="NP",D7=""),E7,IF(OR(E7="NP",E7=""),D7,MIN(D7,E7)))) -> 22.32 | G7: =IF(OR(D7="",E7=""),"",IF(ISNUMBER(F7),RANK(F7,$F$4:$F$100,1),COUNT($F$4:$F$100)+COUNTIFS($B$4:B7,"<>",$F$4:F7,"NP"))) -> 13
A8: 30 | B8: Ševčík Štěpán | C8: Miroslav | D8: 41.08 | E8: 19 | F8: =IF(AND(OR(D8="NP",D8=""),OR(E8="NP",E8="")),IF(AND(D8="",E8=""),"",IF(OR(D8="NP",E8="NP"),"NP","")),IF(OR(D8="NP",D8=""),E8,IF(OR(E8="NP",E8=""),D8,MIN(D8,E8)))) -> 19 | G8: =IF(OR(D8="",E8=""),"",IF(ISNUMBER(F8),RANK(F8,$F$4:$F$100,1),COUNT($F$4:$F$100)+COUNTIFS($B$4:B8,"<>",$F$4:F8,"NP"))) -> 7
A9: 31 | B9: Fridrich Ondřej | C9: Vracov | D9: 23.97 | E9: 21.72 | F9: =IF(AND(OR(D9="NP",D9=""),OR(E9="NP",E9="")),IF(AND(D9="",E9=""),"",IF(OR(D9="NP",E9="NP"),"NP","")),IF(OR(D9="NP",D9=""),E9,IF(OR(E9="NP",E9=""),D9,MIN(D9,E9)))) -> 21.72 | G9: =IF(OR(D9="",E9=""),"",IF(ISNUMBER(F9),RANK(F9,$F$4:$F$100,1),COUNT($F$4:$F$100)+COUNTIFS($B$4:B9,"<>",$F$4:F9,"NP"))) -> 12
A10: 32 | B10: Urbánek Matěj | C10: Blatnice p. Sv. A. | D10: 19.79 | E10: 21.59 | F10: =IF(AND(OR(D10="NP",D10=""),OR(E10="NP",E10="")),IF(AND(D10="",E10=""),"",IF(OR(D10="NP",E10="NP"),"NP","")),IF(OR(D10="NP",D10=""),E10,IF(OR(E10="NP",E10=""),D10,MIN(D10,E10)))) -> 19.79 | G10: =IF(OR(D10="",E10=""),"",IF(ISNUMBER(F10),RANK(F10,$F$4:$F$100,1),COUNT($F$4:$F$100)+COUNTIFS($B$4:B10,"<>",$F$4:F10,"NP"))) -> 9
A11: 33 | B11: Hnilica Jakub | C11: Rohatec | D11: 21.43 | E11: 25.16 | F11: =IF(AND(OR(D11="NP",D11=""),OR(E11="NP",E11="")),IF(AND(D11="",E11=""),"",IF(OR(D11="NP",E11="NP"),"NP","")),IF(OR(D11="NP",D11=""),E11,IF(OR(E11="NP",E11=""),D11,MIN(D11,E11)))) -> 21.43 | G11: =IF(OR(D11="",E11=""),"",IF(ISNUMBER(F11),RANK(F11,$F$4:$F$100,1),COUNT($F$4:$F$100)+COUNTIFS($B$4:B11,"<>",$F$4:F11,"NP"))) -> 11
A12: 34 | B12: Krbálek Ivan | C12: Miroslav | D12: 20.52 | E12: 17.62 | F12: =IF(AND(OR(D12="NP",D12=""),OR(E12="NP",E12="")),IF(AND(D12="",E12=""),"",IF(OR(D12="NP",E12="NP"),"NP","")),IF(OR(D12="NP",D12=""),E12,IF(OR(E12="NP",E12=""),D12,MIN(D12,E12)))) -> 17.62 | G12: =IF(OR(D12="",E12=""),"",IF(ISNUMBER(F12),RANK(F12,$F$4:$F$100,1),COUNT($F$4:$F$100)+COUNTIFS($B$4:B12,"<>",$F$4:F12,"NP"))) -> 5
A13: 35 | B13: Ingr Adam | C13: Vlkoš | D13: 21.26 | E13: 21.3 | F13: =IF(AND(OR(D13="NP",D13=""),OR(E13="NP",E13="")),IF(AND(D13="",E13=""),"",IF(OR(D13="NP",E13="NP"),"NP","")),IF(OR(D13="NP",D13=""),E13,IF(OR(E13="NP",E13=""),D13,MIN(D13,E13)))) -> 21.26 | G13: =IF(OR(D13="",E13=""),"",IF(ISNUMBER(F13),RANK(F13,$F$4:$F$100,1),COUNT($F$4:$F$100)+COUNTIFS($B$4:B13,"<>",$F$4:F13,"NP"))) -> 10
A14: 36 | B14: Macek Josef | C14: Blatnice p. Sv. A. | D14: 19.91 | E14: 18.54 | F14: =IF(AND(OR(D14="NP",D14=""),OR(E14="NP",E14="")),IF(AND(D14="",E14=""),"",IF(OR(D14="NP",E14="NP"),"NP","")),IF(OR(D14="NP",D14=""),E14,IF(OR(E14="NP",E14=""),D14,MIN(D14,E14)))) -> 18.54 | G14: =IF(OR(D14="",E14=""),"",IF(ISNUMBER(F14),RANK(F14,$F$4:$F$100,1),COUNT($F$4:$F$100)+COUNTIFS($B$4:B14,"<>",$F$4:F14,"NP"))) -> 6
A15: 37 | B15: Matěj Tobias | C15: Rohatec | D15: 32 | E15: 33.66 | F15: =IF(AND(OR(D15="NP",D15=""),OR(E15="NP",E15="")),IF(AND(D15="",E15=""),"",IF(OR(D15="NP",E15="NP"),"NP","")),IF(OR(D15="NP",D15=""),E15,IF(OR(E15="NP",E15=""),D15,MIN(D15,E15)))) -> 32 | G15: =IF(OR(D15="",E15=""),"",IF(ISNUMBER(F15),RANK(F15,$F$4:$F$100,1),COUNT($F$4:$F$100)+COUNTIFS($B$4:B15,"<>",$F$4:F15,"NP"))) -> 18
... A19: 41 | B19: Urbánek Lukáš | C19: Miroslav | D19: 20.58 | E19: 16.75 | F19: =IF(AND(OR(D19="NP",D19=""),OR(E19="NP",E19="")),IF(AND(D19="",E19=""),"",IF(OR(D19="NP",E19="NP"),"NP","")),IF(OR(D19="NP",D19=""),E19,IF(OR(E19="NP",E19=""),D19,MIN(D19,E19)))) -> 16.75 | G19: =IF(OR(D19="",E19=""),"",IF(ISNUMBER(F19),RANK(F19,$F$4:$F$100,1),COUNT($F$4:$F$100)+COUNTIFS($B$4:B19,"<>",$F$4:F19,"NP"))) -> 3
A20: 42 | B20: Piňos Svatopluk | C20: Želetice | D20: 25.9 | E20: NP | F20: =IF(AND(OR(D20="NP",D20=""),OR(E20="NP",E20="")),IF(AND(D20="",E20=""),"",IF(OR(D20="NP",E20="NP"),"NP","")),IF(OR(D20="NP",D20=""),E20,IF(OR(E20="NP",E20=""),D20,MIN(D20,E20)))) -> 25.9 | G20: =IF(OR(D20="",E20=""),"",IF(ISNUMBER(F20),RANK(F20,$F$4:$F$100,1),COUNT($F$4:$F$100)+COUNTIFS($B$4:B20,"<>",$F$4:F20,"NP"))) -> 17
A21: 43 | B21: Spazier Sebastian | C21: Velká nad Veličkou | D21: 16.52 | E21: 20.71 | F21: =IF(AND(OR(D21="NP",D21=""),OR(E21="NP",E21="")),IF(AND(D21="",E21=""),"",IF(OR(D21="NP",E21="NP"),"NP","")),IF(OR(D21="NP",D21=""),E21,IF(OR(E21="NP",E21=""),D21,MIN(D21,E21)))) -> 16.52 | G21: =IF(OR(D21="",E21=""),"",IF(ISNUMBER(F21),RANK(F21,$F$4:$F$100,1),COUNT($F$4:$F$100)+COUNTIFS($B$4:B21,"<>",$F$4:F21,"NP"))) -> 2
A22: 44 | F22: =IF(AND(OR(D22="NP",D22=""),OR(E22="NP",E22="")),IF(AND(D22="",E22=""),"",IF(OR(D22="NP",E22="NP"),"NP","")),IF(OR(D22="NP",D22=""),E22,IF(OR(E22="NP",E22=""),D22,MIN(D22,E22)))) | G22: =IF(OR(D22="",E22=""),"",IF(ISNUMBER(F22),RANK(F22,$F$4:$F$100,1),COUNT($F$4:$F$100)+COUNTIFS($B$4:B22,"<>",$F$4:F22,"NP")))
A23: 45 | F23: =IF(AND(OR(D23="NP",D23=""),OR(E23="NP",E23="")),IF(AND(D23="",E23=""),"",IF(OR(D23="NP",E23="NP"),"NP","")),IF(OR(D23="NP",D23=""),E23,IF(OR(E23="NP",E23=""),D23,MIN(D23,E23)))) | G23: =IF(OR(D23="",E23=""),"",IF(ISNUMBER(F23),RANK(F23,$F$4:$F$100,1),COUNT($F$4:$F$100)+COUNTIFS($B$4:B23,"<>",$F$4:F23,"NP")))
A24: 46 | F24: =IF(AND(OR(D24="NP",D24=""),OR(E24="NP",E24="")),IF(AND(D24="",E24=""),"",IF(OR(D24="NP",E24="NP"),"NP","")),IF(OR(D24="NP",D24=""),E24,IF(OR(E24="NP",E24=""),D24,MIN(D24,E24)))) | G24: =IF(OR(D24="",E24=""),"",IF(ISNUMBER(F24),RANK(F24,$F$4:$F$100,1),COUNT($F$4:$F$100)+COUNTIFS($B$4:B24,"<>",$F$4:F24,"NP")))
A25: 47 | F25: =IF(AND(OR(D25="NP",D25=""),OR(E25="NP",E25="")),IF(AND(D25="",E25=""),"",IF(OR(D25="NP",E25="NP"),"NP","")),IF(OR(D25="NP",D25=""),E25,IF(OR(E25="NP",E25=""),D25,MIN(D25,E25)))) | G25: =IF(OR(D25="",E25=""),"",IF(ISNUMBER(F25),RANK(F25,$F$4:$F$100,1),COUNT($F$4:$F$100)+COUNTIFS($B$4:B25,"<>",$F$4:F25,"NP")))
A26: 48 | F26: =IF(AND(OR(D26="NP",D26=""),OR(E26="NP",E26="")),IF(AND(D26="",E26=""),"",IF(OR(D26="NP",E26="NP"),"NP","")),IF(OR(D26="NP",D26=""),E26,IF(OR(E26="NP",E26=""),D26,MIN(D26,E26)))) | G26: =IF(OR(D26="",E26=""),"",IF(ISNUMBER(F26),RANK(F26,$F$4:$F$100,1),COUNT($F$4:$F$100)+COUNTIFS($B$4:B26,"<>",$F$4:F26,"NP")))
A27: 49 | F27: =IF(AND(OR(D27="NP",D27=""),OR(E27="NP",E27="")),IF(AND(D27="",E27=""),"",IF(OR(D27="NP",E27="NP"),"NP","")),IF(OR(D27="NP",D27=""),E27,IF(OR(E27="NP",E27=""),D27,MIN(D27,E27)))) | G27: =IF(OR(D27="",E27=""),"",IF(ISNUMBER(F27),RANK(F27,$F$4:$F$100,1),COUNT($F$4:$F$100)+COUNTIFS($B$4:B27,"<>",$F$4:F27,"NP")))
A28: 50 | F28: =IF(AND(OR(D28="NP",D28=""),OR(E28="NP",E28="")),IF(AND(D28="",E28=""),"",IF(OR(D28="NP",E28="NP"),"NP","")),IF(OR(D28="NP",D28=""),E28,IF(OR(E28="NP",E28=""),D28,MIN(D28,E28)))) | G28: =IF(OR(D28="",E28=""),"",IF(ISNUMBER(F28),RANK(F28,$F$4:$F$100,1),COUNT($F$4:$F$100)+COUNTIFS($B$4:B28,"<>",$F$4:F28,"NP")))
A29: =IF(B29<>"",COUNTA('7-8 ml_kluci'!B4:B100)+COUNTA('7-8 ml_holky'!B4:B100)+COUNTIF(B$4:B29,"<>"),"") | F29: =IF(AND(OR(D29="NP",D29=""),OR(E29="NP",E29="")),IF(AND(D29="",E29=""),"",IF(OR(D29="NP",E29="NP"),"NP","")),IF(OR(D29="NP",D29=""),E29,IF(OR(E29="NP",E29=""),D29,MIN(D29,E29)))) | G29: =IF(OR(D29="",E29=""),"",IF(ISNUMBER(F29),RANK(F29,$F$4:$F$100,1),COUNT($F$4:$F$100)+COUNTIFS($B$4:B29,"<>",$F$4:F29,"NP")))
A30: =IF(B30<>"",COUNTA('7-8 ml_kluci'!B4:B100)+COUNTA('7-8 ml_holky'!B4:B100)+COUNTIF(B$4:B30,"<>"),"") | F30: =IF(AND(OR(D30="NP",D30=""),OR(E30="NP",E30="")),IF(AND(D30="",E30=""),"",IF(OR(D30="NP",E30="NP"),"NP","")),IF(OR(D30="NP",D30=""),E30,IF(OR(E30="NP",E30=""),D30,MIN(D30,E30)))) | G30: =IF(OR(D30="",E30=""),"",IF(ISNUMBER(F30),RANK(F30,$F$4:$F$100,1),COUNT($F$4:$F$100)+COUNTIFS($B$4:B30,"<>",$F$4:F30,"NP")))
A31: =IF(B31<>"",COUNTA('7-8 ml_kluci'!B4:B100)+COUNTA('7-8 ml_holky'!B4:B100)+COUNTIF(B$4:B31,"<>"),"") | F31: =IF(AND(OR(D31="NP",D31=""),OR(E31="NP",E31="")),IF(AND(D31="",E31=""),"",IF(OR(D31="NP",E31="NP"),"NP","")),IF(OR(D31="NP",D31=""),E31,IF(OR(E31="NP",E31=""),D31,MIN(D31,E31)))) | G31: =IF(OR(D31="",E31=""),"",IF(ISNUMBER(F31),RANK(F31,$F$4:$F$100,1),COUNT($F$4:$F$100)+COUNTIFS($B$4:B31,"<>",$F$4:F31,"NP")))
A32: =IF(B32<>"",COUNTA('7-8 ml_kluci'!B4:B100)+COUNTA('7-8 ml_holky'!B4:B100)+COUNTIF(B$4:B32,"<>"),"") | F32: =IF(AND(OR(D32="NP",D32=""),OR(E32="NP",E32="")),IF(AND(D32="",E32=""),"",IF(OR(D32="NP",E32="NP"),"NP","")),IF(OR(D32="NP",D32=""),E32,IF(OR(E32="NP",E32=""),D32,MIN(D32,E32)))) | G32: =IF(OR(D32="",E32=""),"",IF(ISNUMBER(F32),RANK(F32,$F$4:$F$100,1),COUNT($F$4:$F$100)+COUNTIFS($B$4:B32,"<>",$F$4:F32,"NP")))
A33: =IF(B33<>"",COUNTA('7-8 ml_kluci'!B4:B100)+COUNTA('7-8 ml_holky'!B4:B100)+COUNTIF(B$4:B33,"<>"),"") | F33: =IF(AND(OR(D33="NP",D33=""),OR(E33="NP",E33="")),IF(AND(D33="",E33=""),"",IF(OR(D33="NP",E33="NP"),"NP","")),IF(OR(D33="NP",D33=""),E33,IF(OR(E33="NP",E33=""),D33,MIN(D33,E33)))) | G33: =IF(OR(D33="",E33=""),"",IF(ISNUMBER(F33),RANK(F33,$F$4:$F$100,1),COUNT($F$4:$F$100)+COUNTIFS($B$4:B33,"<>",$F$4:F33,"NP")))
A34: =IF(B34<>"",COUNTA('7-8 ml_kluci'!B4:B100)+COUNTA('7-8 ml_holky'!B4:B100)+COUNTIF(B$4:B34,"<>"),"") | F34: =IF(AND(OR(D34="NP",D34=""),OR(E34="NP",E34="")),IF(AND(D34="",E34=""),"",IF(OR(D34="NP",E34="NP"),"NP","")),IF(OR(D34="NP",D34=""),E34,IF(OR(E34="NP",E34=""),D34,MIN(D34,E34)))) | G34: =IF(OR(D34="",E34=""),"",IF(ISNUMBER(F34),RANK(F34,$F$4:$F$100,1),COUNT($F$4:$F$100)+COUNTIFS($B$4:B34,"<>",$F$4:F34,"NP")))
A35: =IF(B35<>"",COUNTA('7-8 ml_kluci'!B4:B100)+COUNTA('7-8 ml_holky'!B4:B100)+COUNTIF(B$4:B35,"<>"),"") | F35: =IF(AND(OR(D35="NP",D35=""),OR(E35="NP",E35="")),IF(AND(D35="",E35=""),"",IF(OR(D35="NP",E35="NP"),"NP","")),IF(OR(D35="NP",D35=""),E35,IF(OR(E35="NP",E35=""),D35,MIN(D35,E35)))) | G35: =IF(OR(D35="",E35=""),"",IF(ISNUMBER(F35),RANK(F35,$F$4:$F$100,1),COUNT($F$4:$F$100)+COUNTIFS($B$4:B35,"<>",$F$4:F35,"NP")))
A36: =IF(B36<>"",COUNTA('7-8 ml_kluci'!B4:B100)+COUNTA('7-8 ml_holky'!B4:B100)+COUNTIF(B$4:B36,"<>"),"") | F36: =IF(AND(OR(D36="NP",D36=""),OR(E36="NP",E36="")),IF(AND(D36="",E36=""),"",IF(OR(D36="NP",E36="NP"),"NP","")),IF(OR(D36="NP",D36=""),E36,IF(OR(E36="NP",E36=""),D36,MIN(D36,E36)))) | G36: =IF(OR(D36="",E36=""),"",IF(ISNUMBER(F36),RANK(F36,$F$4:$F$100,1),COUNT($F$4:$F$100)+COUNTIFS($B$4:B36,"<>",$F$4:F36,"NP")))
A37: =IF(B37<>"",COUNTA('7-8 ml_kluci'!B4:B100)+COUNTA('7-8 ml_holky'!B4:B100)+COUNTIF(B$4:B37,"<>"),"") | F37: =IF(AND(OR(D37="NP",D37=""),OR(E37="NP",E37="")),IF(AND(D37="",E37=""),"",IF(OR(D37="NP",E37="NP"),"NP","")),IF(OR(D37="NP",D37=""),E37,IF(OR(E37="NP",E37=""),D37,MIN(D37,E37)))) | G37: =IF(OR(D37="",E37=""),"",IF(ISNUMBER(F37),RANK(F37,$F$4:$F$100,1),COUNT($F$4:$F$100)+COUNTIFS($B$4:B37,"<>",$F$4:F37,"NP")))
A38: =IF(B38<>"",COUNTA('7-8 ml_kluci'!B4:B100)+COUNTA('7-8 ml_holky'!B4:B100)+COUNTIF(B$4:B38,"<>"),"") | F38: =IF(AND(OR(D38="NP",D38=""),OR(E38="NP",E38="")),IF(AND(D38="",E38=""),"",IF(OR(D38="NP",E38="NP"),"NP","")),IF(OR(D38="NP",D38=""),E38,IF(OR(E38="NP",E38=""),D38,MIN(D38,E38)))) | G38: =IF(OR(D38="",E38=""),"",IF(ISNUMBER(F38),RANK(F38,$F$4:$F$100,1),COUNT($F$4:$F$100)+COUNTIFS($B$4:B38,"<>",$F$4:F38,"NP")))
A39: =IF(B39<>"",COUNTA('7-8 ml_kluci'!B4:B100)+COUNTA('7-8 ml_holky'!B4:B100)+COUNTIF(B$4:B39,"<>"),"") | F39: =IF(AND(OR(D39="NP",D39=""),OR(E39="NP",E39="")),IF(AND(D39="",E39=""),"",IF(OR(D39="NP",E39="NP"),"NP","")),IF(OR(D39="NP",D39=""),E39,IF(OR(E39="NP",E39=""),D39,MIN(D39,E39)))) | G39: =IF(OR(D39="",E39=""),"",IF(ISNUMBER(F39),RANK(F39,$F$4:$F$100,1),COUNT($F$4:$F$100)+COUNTIFS($B$4:B39,"<>",$F$4:F39,"NP")))
A40: =IF(B40<>"",COUNTA('7-8 ml_kluci'!B4:B100)+COUNTA('7-8 ml_holky'!B4:B100)+COUNTIF(B$4:B40,"<>"),"") | F40: =IF(AND(OR(D40="NP",D40=""),OR(E40="NP",E40="")),IF(AND(D40="",E40=""),"",IF(OR(D40="NP",E40="NP"),"NP","")),IF(OR(D40="NP",D40=""),E40,IF(OR(E40="NP",E40=""),D40,MIN(D40,E40)))) | G40: =IF(OR(D40="",E40=""),"",IF(ISNUMBER(F40),RANK(F40,$F$4:$F$100,1),COUNT($F$4:$F$100)+COUNTIFS($B$4:B40,"<>",$F$4:F40,"NP")))
A41: =IF(B41<>"",COUNTA('7-8 ml_kluci'!B4:B100)+COUNTA('7-8 ml_holky'!B4:B100)+COUNTIF(B$4:B41,"<>"),"") | F41: =IF(AND(OR(D41="NP",D41=""),OR(E41="NP",E41="")),IF(AND(D41="",E41=""),"",IF(OR(D41="NP",E41="NP"),"NP","")),IF(OR(D41="NP",D41=""),E41,IF(OR(E41="NP",E41=""),D41,MIN(D41,E41)))) | G41: =IF(OR(D41="",E41=""),"",IF(ISNUMBER(F41),RANK(F41,$F$4:$F$100,1),COUNT($F$4:$F$100)+COUNTIFS($B$4:B41,"<>",$F$4:F41,"NP")))
A42: =IF(B42<>"",COUNTA('7-8 ml_kluci'!B4:B100)+COUNTA('7-8 ml_holky'!B4:B100)+COUNTIF(B$4:B42,"<>"),"") | F42: =IF(AND(OR(D42="NP",D42=""),OR(E42="NP",E42="")),IF(AND(D42="",E42=""),"",IF(OR(D42="NP",E42="NP"),"NP","")),IF(OR(D42="NP",D42=""),E42,IF(OR(E42="NP",E42=""),D42,MIN(D42,E42)))) | G42: =IF(OR(D42="",E42=""),"",IF(ISNUMBER(F42),RANK(F42,$F$4:$F$100,1),COUNT($F$4:$F$100)+COUNTIFS($B$4:B42,"<>",$F$4:F42,"NP")))
A43: =IF(B43<>"",COUNTA('7-8 ml_kluci'!B4:B100)+COUNTA('7-8 ml_holky'!B4:B100)+COUNTIF(B$4:B43,"<>"),"") | F43: =IF(AND(OR(D43="NP",D43=""),OR(E43="NP",E43="")),IF(AND(D43="",E43=""),"",IF(OR(D43="NP",E43="NP"),"NP","")),IF(OR(D43="NP",D43=""),E43,IF(OR(E43="NP",E43=""),D43,MIN(D43,E43)))) | G43: =IF(OR(D43="",E43=""),"",IF(ISNUMBER(F43),RANK(F43,$F$4:$F$100,1),COUNT($F$4:$F$100)+COUNTIFS($B$4:B43,"<>",$F$4:F43,"NP")))
...

Sheet 9-11 ml_holky
A1: Běh na 60 m s překážkami - Rohatec 23. 5. 2026
A2: Kategorie 9-11 mladší žáci - holky | D2: 9-11 LET
A3: St. č. | B3: Příjmení a jméno | C3: SDH | D3: 1. pokus | E3: 2. pokus | F3: Výsl. čas | G3: Pořadí
A4: 50 | B4: Ševčíková Anna | C4: Miroslav | D4: 16.75 | E4: 17.06 | F4: =IF(AND(OR(D4="NP",D4=""),OR(E4="NP",E4="")),IF(AND(D4="",E4=""),"",IF(OR(D4="NP",E4="NP"),"NP","")),IF(OR(D4="NP",D4=""),E4,IF(OR(E4="NP",E4=""),D4,MIN(D4,E4)))) -> 16.75 | G4: =IF(OR(D4="",E4=""),"",IF(ISNUMBER(F4),RANK(F4,$F$4:$F$100,1),COUNT($F$4:$F$100)+COUNTIFS($B$4:B4,"<>",$F$4:F4,"NP"))) -> 3
A5: 51 | B5: Křivánková Sabina | C5: Vracov | D5: 21.78 | E5: 19.54 | F5: =IF(AND(OR(D5="NP",D5=""),OR(E5="NP",E5="")),IF(AND(D5="",E5=""),"",IF(OR(D5="NP",E5="NP"),"NP","")),IF(OR(D5="NP",D5=""),E5,IF(OR(E5="NP",E5=""),D5,MIN(D5,E5)))) -> 19.54 | G5: =IF(OR(D5="",E5=""),"",IF(ISNUMBER(F5),RANK(F5,$F$4:$F$100,1),COUNT($F$4:$F$100)+COUNTIFS($B$4:B5,"<>",$F$4:F5,"NP"))) -> 7
A6: 52 | B6: Letochová Vendula | C6: Rohatec | D6: 27.78 | E6: 26.99 | F6: =IF(AND(OR(D6="NP",D6=""),OR(E6="NP",E6="")),IF(AND(D6="",E6=""),"",IF(OR(D6="NP",E6="NP"),"NP","")),IF(OR(D6="NP",D6=""),E6,IF(OR(E6="NP",E6=""),D6,MIN(D6,E6)))) -> 26.99 | G6: =IF(OR(D6="",E6=""),"",IF(ISNUMBER(F6),RANK(F6,$F$4:$F$100,1),COUNT($F$4:$F$100)+COUNTIFS($B$4:B6,"<>",$F$4:F6,"NP"))) -> 13
A7: 53 | B7: Frolková Nicol | C7: Hroznová Lhota | D7: 20.03 | E7: 18.18 | F7: =IF(AND(OR(D7="NP",D7=""),OR(E7="NP",E7="")),IF(AND(D7="",E7=""),"",IF(OR(D7="NP",E7="NP"),"NP","")),IF(OR(D7="NP",D7=""),E7,IF(OR(E7="NP",E7=""),D7,MIN(D7,E7)))) -> 18.18 | G7: =IF(OR(D7="",E7=""),"",IF(ISNUMBER(F7),RANK(F7,$F$4:$F$100,1),COUNT($F$4:$F$100)+COUNTIFS($B$4:B7,"<>",$F$4:F7,"NP"))) -> 4
A8: 54 | B8: Komendová Pavla | C8: Miroslav | D8: 26 | E8: NP | F8: =IF(AND(OR(D8="NP",D8=""),OR(E8="NP",E8="")),IF(AND(D8="",E8=""),"",IF(OR(D8="NP",E8="NP"),"NP","")),IF(OR(D8="NP",D8=""),E8,IF(OR(E8="NP",E8=""),D8,MIN(D8,E8)))) -> 26 | G8: =IF(OR(D8="",E8=""),"",IF(ISNUMBER(F8),RANK(F8,$F$4:$F$100,1),COUNT($F$4:$F$100)+COUNTIFS($B$4:B8,"<>",$F$4:F8,"NP"))) -> 12
A9: 55 | B9: Motyčková Ema | C9: Vnorovy | D9: NP | E9: 21.82 | F9: =IF(AND(OR(D9="NP",D9=""),OR(E9="NP",E9="")),IF(AND(D9="",E9=""),"",IF(OR(D9="NP",E9="NP"),"NP","")),IF(OR(D9="NP",D9=""),E9,IF(OR(E9="NP",E9=""),D9,MIN(D9,E9)))) -> 21.82 | G9: =IF(OR(D9="",E9=""),"",IF(ISNUMBER(F9),RANK(F9,$F$4:$F$100,1),COUNT($F$4:$F$100)+COUNTIFS($B$4:B9,"<>",$F$4:F9,"NP"))) -> 8
A10: 56 | B10: Střížová Michaela | C10: Ratíškovice | D10: 18.2 | E10: 18.68 | F10: =IF(AND(OR(D10="NP",D10=""),OR(E10="NP",E10="")),IF(AND(D10="",E10=""),"",IF(OR(D10="NP",E10="NP"),"NP","")),IF(OR(D10="NP",D10=""),E10,IF(OR(E10="NP",E10=""),D10,MIN(D10,E10)))) -> 18.2 | G10: =IF(OR(D10="",E10=""),"",IF(ISNUMBER(F10),RANK(F10,$F$4:$F$100,1),COUNT($F$4:$F$100)+COUNTIFS($B$4:B10,"<>",$F$4:F10,"NP"))) -> 5
A11: 57 | B11: Holešinská Lenka | C11: Vracov | D11: 17.46 | E11: 16.67 | F11: =IF(AND(OR(D11="NP",D11=""),OR(E11="NP",E11="")),IF(AND(D11="",E11=""),"",IF(OR(D11="NP",E11="NP"),"NP","")),IF(OR(D11="NP",D11=""),E11,IF(OR(E11="NP",E11=""),D11,MIN(D11,E11)))) -> 16.67 | G11: =IF(OR(D11="",E11=""),"",IF(ISNUMBER(F11),RANK(F11,$F$4:$F$100,1),COUNT($F$4:$F$100)+COUNTIFS($B$4:B11,"<>",$F$4:F11,"NP"))) -> 2
A12: 58 | B12: Pavelková Anna | C12: Rohatec | D12: 30.88 | E12: 28.41 | F12: =IF(AND(OR(D12="NP",D12=""),OR(E12="NP",E12="")),IF(AND(D12="",E12=""),"",IF(OR(D12="NP",E12="NP"),"NP","")),IF(OR(D12="NP",D12=""),E12,IF(OR(E12="NP",E12=""),D12,MIN(D12,E12)))) -> 28.41 | G12: =IF(OR(D12="",E12=""),"",IF(ISNUMBER(F12),RANK(F12,$F$4:$F$100,1),COUNT($F$4:$F$100)+COUNTIFS($B$4:B12,"<>",$F$4:F12,"NP"))) -> 14
A13: 59 | B13: Nováková Liliana | C13: Vlkoš | D13: 24.52 | E13: 22.49 | F13: =IF(AND(OR(D13="NP",D13=""),OR(E13="NP",E13="")),IF(AND(D13="",E13=""),"",IF(OR(D13="NP",E13="NP"),"NP","")),IF(OR(D13="NP",D13=""),E13,IF(OR(E13="NP",E13=""),D13,MIN(D13,E13)))) -> 22.49 | G13: =IF(OR(D13="",E13=""),"",IF(ISNUMBER(F13),RANK(F13,$F$4:$F$100,1),COUNT($F$4:$F$100)+COUNTIFS($B$4:B13,"<>",$F$4:F13,"NP"))) -> 10
A14: 60 | B14: Šimonová Eliška | C14: Hroznová Lhota | D14: 22.44 | E14: 22.68 | F14: =IF(AND(OR(D14="NP",D14=""),OR(E14="NP",E14="")),IF(AND(D14="",E14=""),"",IF(OR(D14="NP",E14="NP"),"NP","")),IF(OR(D14="NP",D14=""),E14,IF(OR(E14="NP",E14=""),D14,MIN(D14,E14)))) -> 22.44 | G14: =IF(OR(D14="",E14=""),"",IF(ISNUMBER(F14),RANK(F14,$F$4:$F$100,1),COUNT($F$4:$F$100)+COUNTIFS($B$4:B14,"<>",$F$4:F14,"NP"))) -> 9
A15: 61 | B15: Macková Marie | C15: Blatnice p. Sv. A. | D15: 18.72 | E15: 18.69 | F15: =IF(AND(OR(D15="NP",D15=""),OR(E15="NP",E15="")),IF(AND(D15="",E15=""),"",IF(OR(D15="NP",E15="NP"),"NP","")),IF(OR(D15="NP",D15=""),E15,IF(OR(E15="NP",E15=""),D15,MIN(D15,E15)))) -> 18.69 | G15: =IF(OR(D15="",E15=""),"",IF(ISNUMBER(F15),RANK(F15,$F$4:$F$100,1),COUNT($F$4:$F$100)+COUNTIFS($B$4:B15,"<>",$F$4:F15,"NP"))) -> 6
A16: 62 | B16: Drbalová Nella | C16: Želetice | D16: 30.13 | E16: NP | F16: =IF(AND(OR(D16="NP",D16=""),OR(E16="NP",E16="")),IF(AND(D16="",E16=""),"",IF(OR(D16="NP",E16="NP"),"NP","")),IF(OR(D16="NP",D16=""),E16,IF(OR(E16="NP",E16=""),D16,MIN(D16,E16)))) -> 30.13 | G16: =IF(OR(D16="",E16=""),"",IF(ISNUMBER(F16),RANK(F16,$F$4:$F$100,1),COUNT($F$4:$F$100)+COUNTIFS($B$4:B16,"<>",$F$4:F16,"NP"))) -> 15
A17: 63 | B17: Motyčková Ester | C17: Vnorovy | D17: 31.03 | E17: NP | F17: =IF(AND(OR(D17="NP",D17=""),OR(E17="NP",E17="")),IF(AND(D17="",E17=""),"",IF(OR(D17="NP",E17="NP"),"NP","")),IF(OR(D17="NP",D17=""),E17,IF(OR(E17="NP",E17=""),D17,MIN(D17,E17)))) -> 31.03 | G17: =IF(OR(D17="",E17=""),"",IF(ISNUMBER(F17),RANK(F17,$F$4:$F$100,1),COUNT($F$4:$F$100)+COUNTIFS($B$4:B17,"<>",$F$4:F17,"NP"))) -> 16
A18: 64 | B18: Neničková Natálie | C18: Vlkoš | D18: 25.77 | E18: 24.59 | F18: =IF(AND(OR(D18="NP",D18=""),OR(E18="NP",E18="")),IF(AND(D18="",E18=""),"",IF(OR(D18="NP",E18="NP"),"NP","")),IF(OR(D18="NP",D18=""),E18,IF(OR(E18="NP",E18=""),D18,MIN(D18,E18)))) -> 24.59 | G18: =IF(OR(D18="",E18=""),"",IF(ISNUMBER(F18),RANK(F18,$F$4:$F$100,1),COUNT($F$4:$F$100)+COUNTIFS($B$4:B18,"<>",$F$4:F18,"NP"))) -> 11
A19: 65 | B19: Říháková Beata Nikola | C19: Rohatec | D19: 37.06 | E19: 35.47 | F19: =IF(AND(OR(D19="NP",D19=""),OR(E19="NP",E19="")),IF(AND(D19="",E19=""),"",IF(OR(D19="NP",E19="NP"),"NP","")),IF(OR(D19="NP",D19=""),E19,IF(OR(E19="NP",E19=""),D19,MIN(D19,E19)))) -> 35.47 | G19: =IF(OR(D19="",E19=""),"",IF(ISNUMBER(F19),RANK(F19,$F$4:$F$100,1),COUNT($F$4:$F$100)+COUNTIFS($B$4:B19,"<>",$F$4:F19,"NP"))) -> 17
A20: 66 | B20: Novoměstská Isabela | C20: Vracov | D20: 14.3 | E20: 15.37 | F20: =IF(AND(OR(D20="NP",D20=""),OR(E20="NP",E20="")),IF(AND(D20="",E20=""),"",IF(OR(D20="NP",E20="NP"),"NP","")),IF(OR(D20="NP",D20=""),E20,IF(OR(E20="NP",E20=""),D20,MIN(D20,E20)))) -> 14.3 | G20: =IF(OR(D20="",E20=""),"",IF(ISNUMBER(F20),RANK(F20,$F$4:$F$100,1),COUNT($F$4:$F$100)+COUNTIFS($B$4:B20,"<>",$F$4:F20,"NP"))) -> 1
A21: 67 | F21: =IF(AND(OR(D21="NP",D21=""),OR(E21="NP",E21="")),IF(AND(D21="",E21=""),"",IF(OR(D21="NP",E21="NP"),"NP","")),IF(OR(D21="NP",D21=""),E21,IF(OR(E21="NP",E21=""),D21,MIN(D21,E21)))) | G21: =IF(OR(D21="",E21=""),"",IF(ISNUMBER(F21),RANK(F21,$F$4:$F$100,1),COUNT($F$4:$F$100)+COUNTIFS($B$4:B21,"<>",$F$4:F21,"NP")))
A22: 68 | F22: =IF(AND(OR(D22="NP",D22=""),OR(E22="NP",E22="")),IF(AND(D22="",E22=""),"",IF(OR(D22="NP",E22="NP"),"NP","")),IF(OR(D22="NP",D22=""),E22,IF(OR(E22="NP",E22=""),D22,MIN(D22,E22)))) | G22: =IF(OR(D22="",E22=""),"",IF(ISNUMBER(F22),RANK(F22,$F$4:$F$100,1),COUNT($F$4:$F$100)+COUNTIFS($B$4:B22,"<>",$F$4:F22,"NP")))
A23: 69 | F23: =IF(AND(OR(D23="NP",D23=""),OR(E23="NP",E23="")),IF(AND(D23="",E23=""),"",IF(OR(D23="NP",E23="NP"),"NP","")),IF(OR(D23="NP",D23=""),E23,IF(OR(E23="NP",E23=""),D23,MIN(D23,E23)))) | G23: =IF(OR(D23="",E23=""),"",IF(ISNUMBER(F23),RANK(F23,$F$4:$F$100,1),COUNT($F$4:$F$100)+COUNTIFS($B$4:B23,"<>",$F$4:F23,"NP")))
A24: 70 | F24: =IF(AND(OR(D24="NP",D24=""),OR(E24="NP",E24="")),IF(AND(D24="",E24=""),"",IF(OR(D24="NP",E24="NP"),"NP","")),IF(OR(D24="NP",D24=""),E24,IF(OR(E24="NP",E24=""),D24,MIN(D24,E24)))) | G24: =IF(OR(D24="",E24=""),"",IF(ISNUMBER(F24),RANK(F24,$F$4:$F$100,1),COUNT($F$4:$F$100)+COUNTIFS($B$4:B24,"<>",$F$4:F24,"NP")))
A25: 71 | F25: =IF(AND(OR(D25="NP",D25=""),OR(E25="NP",E25="")),IF(AND(D25="",E25=""),"",IF(OR(D25="NP",E25="NP"),"NP","")),IF(OR(D25="NP",D25=""),E25,IF(OR(E25="NP",E25=""),D25,MIN(D25,E25)))) | G25: =IF(OR(D25="",E25=""),"",IF(ISNUMBER(F25),RANK(F25,$F$4:$F$100,1),COUNT($F$4:$F$100)+COUNTIFS($B$4:B25,"<>",$F$4:F25,"NP")))
A26: 72 | F26: =IF(AND(OR(D26="NP",D26=""),OR(E26="NP",E26="")),IF(AND(D26="",E26=""),"",IF(OR(D26="NP",E26="NP"),"NP","")),IF(OR(D26="NP",D26=""),E26,IF(OR(E26="NP",E26=""),D26,MIN(D26,E26)))) | G26: =IF(OR(D26="",E26=""),"",IF(ISNUMBER(F26),RANK(F26,$F$4:$F$100,1),COUNT($F$4:$F$100)+COUNTIFS($B$4:B26,"<>",$F$4:F26,"NP")))
A27: 73 | F27: =IF(AND(OR(D27="NP",D27=""),OR(E27="NP",E27="")),IF(AND(D27="",E27=""),"",IF(OR(D27="NP",E27="NP"),"NP","")),IF(OR(D27="NP",D27=""),E27,IF(OR(E27="NP",E27=""),D27,MIN(D27,E27)))) | G27: =IF(OR(D27="",E27=""),"",IF(ISNUMBER(F27),RANK(F27,$F$4:$F$100,1),COUNT($F$4:$F$100)+COUNTIFS($B$4:B27,"<>",$F$4:F27,"NP")))
A28: 75 | F28: =IF(AND(OR(D28="NP",D28=""),OR(E28="NP",E28="")),IF(AND(D28="",E28=""),"",IF(OR(D28="NP",E28="NP"),"NP","")),IF(OR(D28="NP",D28=""),E28,IF(OR(E28="NP",E28=""),D28,MIN(D28,E28)))) | G28: =IF(OR(D28="",E28=""),"",IF(ISNUMBER(F28),RANK(F28,$F$4:$F$100,1),COUNT($F$4:$F$100)+COUNTIFS($B$4:B28,"<>",$F$4:F28,"NP")))
A29: =IF(B29<>"",COUNTA('7-8 ml_kluci'!B4:B100)+COUNTA('7-8 ml_holky'!B4:B100)+COUNTA('9-11 ml_kluci'!B4:B100)+COUNTIF(B$4:B29,"<>"),"") | F29: =IF(AND(OR(D29="NP",D29=""),OR(E29="NP",E29="")),IF(AND(D29="",E29=""),"",IF(OR(D29="NP",E29="NP"),"NP","")),IF(OR(D29="NP",D29=""),E29,IF(OR(E29="NP",E29=""),D29,MIN(D29,E29)))) | G29: =IF(OR(D29="",E29=""),"",IF(ISNUMBER(F29),RANK(F29,$F$4:$F$100,1),COUNT($F$4:$F$100)+COUNTIFS($B$4:B29,"<>",$F$4:F29,"NP")))
A30: =IF(B30<>"",COUNTA('7-8 ml_kluci'!B4:B100)+COUNTA('7-8 ml_holky'!B4:B100)+COUNTA('9-11 ml_kluci'!B4:B100)+COUNTIF(B$4:B30,"<>"),"") | F30: =IF(AND(OR(D30="NP",D30=""),OR(E30="NP",E30="")),IF(AND(D30="",E30=""),"",IF(OR(D30="NP",E30="NP"),"NP","")),IF(OR(D30="NP",D30=""),E30,IF(OR(E30="NP",E30=""),D30,MIN(D30,E30)))) | G30: =IF(OR(D30="",E30=""),"",IF(ISNUMBER(F30),RANK(F30,$F$4:$F$100,1),COUNT($F$4:$F$100)+COUNTIFS($B$4:B30,"<>",$F$4:F30,"NP")))
A31: =IF(B31<>"",COUNTA('7-8 ml_kluci'!B4:B100)+COUNTA('7-8 ml_holky'!B4:B100)+COUNTA('9-11 ml_kluci'!B4:B100)+COUNTIF(B$4:B31,"<>"),"") | F31: =IF(AND(OR(D31="NP",D31=""),OR(E31="NP",E31="")),IF(AND(D31="",E31=""),"",IF(OR(D31="NP",E31="NP"),"NP","")),IF(OR(D31="NP",D31=""),E31,IF(OR(E31="NP",E31=""),D31,MIN(D31,E31)))) | G31: =IF(OR(D31="",E31=""),"",IF(ISNUMBER(F31),RANK(F31,$F$4:$F$100,1),COUNT($F$4:$F$100)+COUNTIFS($B$4:B31,"<>",$F$4:F31,"NP")))
A32: =IF(B32<>"",COUNTA('7-8 ml_kluci'!B4:B100)+COUNTA('7-8 ml_holky'!B4:B100)+COUNTA('9-11 ml_kluci'!B4:B100)+COUNTIF(B$4:B32,"<>"),"") | F32: =IF(AND(OR(D32="NP",D32=""),OR(E32="NP",E32="")),IF(AND(D32="",E32=""),"",IF(OR(D32="NP",E32="NP"),"NP","")),IF(OR(D32="NP",D32=""),E32,IF(OR(E32="NP",E32=""),D32,MIN(D32,E32)))) | G32: =IF(OR(D32="",E32=""),"",IF(ISNUMBER(F32),RANK(F32,$F$4:$F$100,1),COUNT($F$4:$F$100)+COUNTIFS($B$4:B32,"<>",$F$4:F32,"NP")))
A33: =IF(B33<>"",COUNTA('7-8 ml_kluci'!B4:B100)+COUNTA('7-8 ml_holky'!B4:B100)+COUNTA('9-11 ml_kluci'!B4:B100)+COUNTIF(B$4:B33,"<>"),"") | F33: =IF(AND(OR(D33="NP",D33=""),OR(E33="NP",E33="")),IF(AND(D33="",E33=""),"",IF(OR(D33="NP",E33="NP"),"NP","")),IF(OR(D33="NP",D33=""),E33,IF(OR(E33="NP",E33=""),D33,MIN(D33,E33)))) | G33: =IF(OR(D33="",E33=""),"",IF(ISNUMBER(F33),RANK(F33,$F$4:$F$100,1),COUNT($F$4:$F$100)+COUNTIFS($B$4:B33,"<>",$F$4:F33,"NP")))
A34: =IF(B34<>"",COUNTA('7-8 ml_kluci'!B4:B100)+COUNTA('7-8 ml_holky'!B4:B100)+COUNTA('9-11 ml_kluci'!B4:B100)+COUNTIF(B$4:B34,"<>"),"") | F34: =IF(AND(OR(D34="NP",D34=""),OR(E34="NP",E34="")),IF(AND(D34="",E34=""),"",IF(OR(D34="NP",E34="NP"),"NP","")),IF(OR(D34="NP",D34=""),E34,IF(OR(E34="NP",E34=""),D34,MIN(D34,E34)))) | G34: =IF(OR(D34="",E34=""),"",IF(ISNUMBER(F34),RANK(F34,$F$4:$F$100,1),COUNT($F$4:$F$100)+COUNTIFS($B$4:B34,"<>",$F$4:F34,"NP")))
A35: =IF(B35<>"",COUNTA('7-8 ml_kluci'!B4:B100)+COUNTA('7-8 ml_holky'!B4:B100)+COUNTA('9-11 ml_kluci'!B4:B100)+COUNTIF(B$4:B35,"<>"),"") | F35: =IF(AND(OR(D35="NP",D35=""),OR(E35="NP",E35="")),IF(AND(D35="",E35=""),"",IF(OR(D35="NP",E35="NP"),"NP","")),IF(OR(D35="NP",D35=""),E35,IF(OR(E35="NP",E35=""),D35,MIN(D35,E35)))) | G35: =IF(OR(D35="",E35=""),"",IF(ISNUMBER(F35),RANK(F35,$F$4:$F$100,1),COUNT($F$4:$F$100)+COUNTIFS($B$4:B35,"<>",$F$4:F35,"NP")))
A36: =IF(B36<>"",COUNTA('7-8 ml_kluci'!B4:B100)+COUNTA('7-8 ml_holky'!B4:B100)+COUNTA('9-11 ml_kluci'!B4:B100)+COUNTIF(B$4:B36,"<>"),"") | F36: =IF(AND(OR(D36="NP",D36=""),OR(E36="NP",E36="")),IF(AND(D36="",E36=""),"",IF(OR(D36="NP",E36="NP"),"NP","")),IF(OR(D36="NP",D36=""),E36,IF(OR(E36="NP",E36=""),D36,MIN(D36,E36)))) | G36: =IF(OR(D36="",E36=""),"",IF(ISNUMBER(F36),RANK(F36,$F$4:$F$100,1),COUNT($F$4:$F$100)+COUNTIFS($B$4:B36,"<>",$F$4:F36,"NP")))
A37: =IF(B37<>"",COUNTA('7-8 ml_kluci'!B4:B100)+COUNTA('7-8 ml_holky'!B4:B100)+COUNTA('9-11 ml_kluci'!B4:B100)+COUNTIF(B$4:B37,"<>"),"") | F37: =IF(AND(OR(D37="NP",D37=""),OR(E37="NP",E37="")),IF(AND(D37="",E37=""),"",IF(OR(D37="NP",E37="NP"),"NP","")),IF(OR(D37="NP",D37=""),E37,IF(OR(E37="NP",E37=""),D37,MIN(D37,E37)))) | G37: =IF(OR(D37="",E37=""),"",IF(ISNUMBER(F37),RANK(F37,$F$4:$F$100,1),COUNT($F$4:$F$100)+COUNTIFS($B$4:B37,"<>",$F$4:F37,"NP")))
A38: =IF(B38<>"",COUNTA('7-8 ml_kluci'!B4:B100)+COUNTA('7-8 ml_holky'!B4:B100)+COUNTA('9-11 ml_kluci'!B4:B100)+COUNTIF(B$4:B38,"<>"),"") | F38: =IF(AND(OR(D38="NP",D38=""),OR(E38="NP",E38="")),IF(AND(D38="",E38=""),"",IF(OR(D38="NP",E38="NP"),"NP","")),IF(OR(D38="NP",D38=""),E38,IF(OR(E38="NP",E38=""),D38,MIN(D38,E38)))) | G38: =IF(OR(D38="",E38=""),"",IF(ISNUMBER(F38),RANK(F38,$F$4:$F$100,1),COUNT($F$4:$F$100)+COUNTIFS($B$4:B38,"<>",$F$4:F38,"NP")))
A39: =IF(B39<>"",COUNTA('7-8 ml_kluci'!B4:B100)+COUNTA('7-8 ml_holky'!B4:B100)+COUNTA('9-11 ml_kluci'!B4:B100)+COUNTIF(B$4:B39,"<>"),"") | F39: =IF(AND(OR(D39="NP",D39=""),OR(E39="NP",E39="")),IF(AND(D39="",E39=""),"",IF(OR(D39="NP",E39="NP"),"NP","")),IF(OR(D39="NP",D39=""),E39,IF(OR(E39="NP",E39=""),D39,MIN(D39,E39)))) | G39: =IF(OR(D39="",E39=""),"",IF(ISNUMBER(F39),RANK(F39,$F$4:$F$100,1),COUNT($F$4:$F$100)+COUNTIFS($B$4:B39,"<>",$F$4:F39,"NP")))
A40: =IF(B40<>"",COUNTA('7-8 ml_kluci'!B4:B100)+COUNTA('7-8 ml_holky'!B4:B100)+COUNTA('9-11 ml_kluci'!B4:B100)+COUNTIF(B$4:B40,"<>"),"") | F40: =IF(AND(OR(D40="NP",D40=""),OR(E40="NP",E40="")),IF(AND(D40="",E40=""),"",IF(OR(D40="NP",E40="NP"),"NP","")),IF(OR(D40="NP",D40=""),E40,IF(OR(E40="NP",E40=""),D40,MIN(D40,E40)))) | G40: =IF(OR(D40="",E40=""),"",IF(ISNUMBER(F40),RANK(F40,$F$4:$F$100,1),COUNT($F$4:$F$100)+COUNTIFS($B$4:B40,"<>",$F$4:F40,"NP")))
...

Sheet 12-13 st_kluci
A1: Běh na 60 m s překážkami - Rohatec 23. 5. 2026
A2: Kategorie 12-13starší žáci - kluci | D2: 12-13 LET
A3: St. č. | B3: Příjmení a jméno | C3: SDH | D3: 1. pokus | E3: 2. pokus | F3: Výsl. čas | G3: Pořadí
A4: 76 | B4: Michal Poruba | C4: Miroslav | D4: 18.62 | E4: 16.28 | F4: =IF(AND(OR(D4="NP",D4=""),OR(E4="NP",E4="")),IF(AND(D4="",E4=""),"",IF(OR(D4="NP",E4="NP"),"NP","")),IF(OR(D4="NP",D4=""),E4,IF(OR(E4="NP",E4=""),D4,MIN(D4,E4)))) -> 16.28 | G4: =IF(OR(D4="",E4=""),"",IF(ISNUMBER(F4),RANK(F4,$F$4:$F$100,1),COUNT($F$4:$F$100)+COUNTIFS($B$4:B4,"<>",$F$4:F4,"NP"))) -> 4
A5: 77 | B5: Pokorný Matěj | C5: Petrov | D5: 17.98 | E5: 18.86 | F5: =IF(AND(OR(D5="NP",D5=""),OR(E5="NP",E5="")),IF(AND(D5="",E5=""),"",IF(OR(D5="NP",E5="NP"),"NP","")),IF(OR(D5="NP",D5=""),E5,IF(OR(E5="NP",E5=""),D5,MIN(D5,E5)))) -> 17.98 | G5: =IF(OR(D5="",E5=""),"",IF(ISNUMBER(F5),RANK(F5,$F$4:$F$100,1),COUNT($F$4:$F$100)+COUNTIFS($B$4:B5,"<>",$F$4:F5,"NP"))) -> 7
A6: 78 | B6: Klíma Matyáš | C6: Ratíškovice | D6: 17.96 | E6: 20.72 | F6: =IF(AND(OR(D6="NP",D6=""),OR(E6="NP",E6="")),IF(AND(D6="",E6=""),"",IF(OR(D6="NP",E6="NP"),"NP","")),IF(OR(D6="NP",D6=""),E6,IF(OR(E6="NP",E6=""),D6,MIN(D6,E6)))) -> 17.96 | G6: =IF(OR(D6="",E6=""),"",IF(ISNUMBER(F6),RANK(F6,$F$4:$F$100,1),COUNT($F$4:$F$100)+COUNTIFS($B$4:B6,"<>",$F$4:F6,"NP"))) -> 6
A7: 79 | B7: Holka Filip | C7: Vracov | D7: NP | E7: 16 | F7: =IF(AND(OR(D7="NP",D7=""),OR(E7="NP",E7="")),IF(AND(D7="",E7=""),"",IF(OR(D7="NP",E7="NP"),"NP","")),IF(OR(D7="NP",D7=""),E7,IF(OR(E7="NP",E7=""),D7,MIN(D7,E7)))) -> 16 | G7: =IF(OR(D7="",E7=""),"",IF(ISNUMBER(F7),RANK(F7,$F$4:$F$100,1),COUNT($F$4:$F$100)+COUNTIFS($B$4:B7,"<>",$F$4:F7,"NP"))) -> 3
A8: 80 | B8: Urbánek Tomáš | C8: Miroslav | D8: 16.23 | E8: 14.35 | F8: =IF(AND(OR(D8="NP",D8=""),OR(E8="NP",E8="")),IF(AND(D8="",E8=""),"",IF(OR(D8="NP",E8="NP"),"NP","")),IF(OR(D8="NP",D8=""),E8,IF(OR(E8="NP",E8=""),D8,MIN(D8,E8)))) -> 14.35 | G8: =IF(OR(D8="",E8=""),"",IF(ISNUMBER(F8),RANK(F8,$F$4:$F$100,1),COUNT($F$4:$F$100)+COUNTIFS($B$4:B8,"<>",$F$4:F8,"NP"))) -> 2
A9: 81 | B9: Demela Štěpán | C9: Mistřín | D9: 17.04 | E9: 17.01 | F9: =IF(AND(OR(D9="NP",D9=""),OR(E9="NP",E9="")),IF(AND(D9="",E9=""),"",IF(OR(D9="NP",E9="NP"),"NP","")),IF(OR(D9="NP",D9=""),E9,IF(OR(E9="NP",E9=""),D9,MIN(D9,E9)))) -> 17.01 | G9: =IF(OR(D9="",E9=""),"",IF(ISNUMBER(F9),RANK(F9,$F$4:$F$100,1),COUNT($F$4:$F$100)+COUNTIFS($B$4:B9,"<>",$F$4:F9,"NP"))) -> 5
A10: 82 | B10: Pazdera Jan | C10: Petrov | D10: 21.15 | E10: 21.81 | F10: =IF(AND(OR(D10="NP",D10=""),OR(E10="NP",E10="")),IF(AND(D10="",E10=""),"",IF(OR(D10="NP",E10="NP"),"NP","")),IF(OR(D10="NP",D10=""),E10,IF(OR(E10="NP",E10=""),D10,MIN(D10,E10)))) -> 21.15 | G10: =IF(OR(D10="",E10=""),"",IF(ISNUMBER(F10),RANK(F10,$F$4:$F$100,1),COUNT($F$4:$F$100)+COUNTIFS($B$4:B10,"<>",$F$4:F10,"NP"))) -> 11
A11: 83 | B11: Novák Mikuláš | C11: Vlkoš | D11: NP | E11: 19.55 | F11: =IF(AND(OR(D11="NP",D11=""),OR(E11="NP",E11="")),IF(AND(D11="",E11=""),"",IF(OR(D11="NP",E11="NP"),"NP","")),IF(OR(D11="NP",D11=""),E11,IF(OR(E11="NP",E11=""),D11,MIN(D11,E11)))) -> 19.55 | G11: =IF(OR(D11="",E11=""),"",IF(ISNUMBER(F11),RANK(F11,$F$4:$F$100,1),COUNT($F$4:$F$100)+COUNTIFS($B$4:B11,"<>",$F$4:F11,"NP"))) -> 9
A12: 84 | B12: Komenda Michal | C12: Miroslav | D12: 19.49 | E12: 19.88 | F12: =IF(AND(OR(D12="NP",D12=""),OR(E12="NP",E12="")),IF(AND(D12="",E12=""),"",IF(OR(D12="NP",E12="NP"),"NP","")),IF(OR(D12="NP",D12=""),E12,IF(OR(E12="NP",E12=""),D12,MIN(D12,E12)))) -> 19.49 | G12: =IF(OR(D12="",E12=""),"",IF(ISNUMBER(F12),RANK(F12,$F$4:$F$100,1),COUNT($F$4:$F$100)+COUNTIFS($B$4:B12,"<>",$F$4:F12,"NP"))) -> 8
A13: 85 | B13: Ďuračka Matěj | C13: Velká nad Veličkou | D13: 14.46 | E13: 14.04 | F13: =IF(AND(OR(D13="NP",D13=""),OR(E13="NP",E13="")),IF(AND(D13="",E13=""),"",IF(OR(D13="NP",E13="NP"),"NP","")),IF(OR(D13="NP",D13=""),E13,IF(OR(E13="NP",E13=""),D13,MIN(D13,E13)))) -> 14.04 | G13: =IF(OR(D13="",E13=""),"",IF(ISNUMBER(F13),RANK(F13,$F$4:$F$100,1),COUNT($F$4:$F$100)+COUNTIFS($B$4:B13,"<>",$F$4:F13,"NP"))) -> 1
A14: 86 | B14: Trávníček Václav | C14: Vnorovy | D14: 21 | E14: NP | F14: =IF(AND(OR(D14="NP",D14=""),OR(E14="NP",E14="")),IF(AND(D14="",E14=""),"",IF(OR(D14="NP",E14="NP"),"NP","")),IF(OR(D14="NP",D14=""),E14,IF(OR(E14="NP",E14=""),D14,MIN(D14,E14)))) -> 21 | G14: =IF(OR(D14="",E14=""),"",IF(ISNUMBER(F14),RANK(F14,$F$4:$F$100,1),COUNT($F$4:$F$100)+COUNTIFS($B$4:B14,"<>",$F$4:F14,"NP"))) -> 10
